BEGIN:VCALENDAR
VERSION:2.0
PRODID:-//Fakulta zdravotníctva a sociálnej práce sv. Ladislava, Nové Zámky - ECPv6.15.17//NONSGML v1.0//EN
CALSCALE:GREGORIAN
METHOD:PUBLISH
X-ORIGINAL-URL:https://fsvladislava.sk
X-WR-CALDESC:Udalosti pre Fakulta zdravotníctva a sociálnej práce sv. Ladislava, Nové Zámky
REFRESH-INTERVAL;VALUE=DURATION:PT1H
X-Robots-Tag:noindex
X-PUBLISHED-TTL:PT1H
BEGIN:VTIMEZONE
TZID:Europe/Bratislava
BEGIN:DAYLIGHT
TZOFFSETFROM:+0100
TZOFFSETTO:+0200
TZNAME:CEST
DTSTART:20250330T010000
END:DAYLIGHT
BEGIN:STANDARD
TZOFFSETFROM:+0200
TZOFFSETTO:+0100
TZNAME:CET
DTSTART:20251026T010000
END:STANDARD
BEGIN:DAYLIGHT
TZOFFSETFROM:+0100
TZOFFSETTO:+0200
TZNAME:CEST
DTSTART:20260329T010000
END:DAYLIGHT
BEGIN:STANDARD
TZOFFSETFROM:+0200
TZOFFSETTO:+0100
TZNAME:CET
DTSTART:20261025T010000
END:STANDARD
BEGIN:DAYLIGHT
TZOFFSETFROM:+0100
TZOFFSETTO:+0200
TZNAME:CEST
DTSTART:20270328T010000
END:DAYLIGHT
BEGIN:STANDARD
TZOFFSETFROM:+0200
TZOFFSETTO:+0100
TZNAME:CET
DTSTART:20271031T010000
END:STANDARD
END:VTIMEZONE
BEGIN:VEVENT
DTSTART;TZID=Europe/Bratislava:20260518T070000
DTEND;TZID=Europe/Bratislava:20260522T160000
DTSTAMP:20260425T173442
CREATED:20250714T042420Z
LAST-MODIFIED:20250714T042420Z
UID:47572-1779087600-1779465600@fsvladislava.sk
SUMMARY:Fakulta sv. Ladislava - OŠE 2.r. Mgr.- Štátna záverečná ústna skúška - Seminárna miestnosť
DESCRIPTION:Fakulta sv. Ladislava – OŠE 2.r.. Mgr. – Štátna záverečná ústna skúška – Seminárna miestnosť
URL:https://fsvladislava.sk/rozvrh/fakulta-sv-ladislava-ose-2-r-mgr-statna-zaverecna-ustna-skuska-seminarna-miestnost/
LOCATION:FNsP NZ  – Seminárna miestnosť
CATEGORIES:Fakulta
END:VEVENT
BEGIN:VEVENT
DTSTART;TZID=Europe/Bratislava:20260518T070000
DTEND;TZID=Europe/Bratislava:20260522T160000
DTSTAMP:20260425T173442
CREATED:20250714T042448Z
LAST-MODIFIED:20250714T042448Z
UID:47574-1779087600-1779465600@fsvladislava.sk
SUMMARY:Fakulta sv. Ladislava - OŠE 2.r. Mgr.- Štátna záverečná ústna skúška - Zasadačka
DESCRIPTION:Fakulta sv. Ladislava – OŠE 2.r.. Mgr. – Štátna záverečná ústna skúška – Zasadačka
URL:https://fsvladislava.sk/rozvrh/fakulta-sv-ladislava-ose-2-r-mgr-statna-zaverecna-ustna-skuska-zasadacka/
LOCATION:FNsP NZ – Zasadačka
CATEGORIES:Fakulta
END:VEVENT
BEGIN:VEVENT
DTSTART;TZID=Europe/Bratislava:20260521T130000
DTEND;TZID=Europe/Bratislava:20260521T140000
DTSTAMP:20260425T173442
CREATED:20260416T052348Z
LAST-MODIFIED:20260416T052348Z
UID:50058-1779368400-1779372000@fsvladislava.sk
SUMMARY:OŠE 2.r. Bc. - SK Interná medicína a ošetrovateľstvo v internej medicíne I. - Kinosála
DESCRIPTION:OŠE 2.r. Bc. – Skúška: Interná medicína a ošetrovateľstvo v internej medicíne I. – MUDr. Borbély\, PhD. – Kinosála
URL:https://fsvladislava.sk/rozvrh/ose-2-r-bc-sk-interna-medicina-a-osetrovatelstvo-v-internej-medicine-i-kinosala/
LOCATION:FNsP NZ  – Kinosála
CATEGORIES:Odbor Ošetrovateľstvo,OŠE - 2. ročník Bc.
END:VEVENT
BEGIN:VEVENT
DTSTART;TZID=Europe/Bratislava:20260523T090000
DTEND;TZID=Europe/Bratislava:20260523T170000
DTSTAMP:20260425T173442
CREATED:20260202T132311Z
LAST-MODIFIED:20260206T064903Z
UID:49408-1779526800-1779555600@fsvladislava.sk
SUMMARY:SP 1.r. Bc. - Základy prvej pomoci - Kinosála
DESCRIPTION:SP 1.r. Bc.  – Základy prvej pomoci – PhDr. Sebesztyénová\, PhD. – Kinosála
URL:https://fsvladislava.sk/rozvrh/ose-1-r-bc-zaklady-prvej-pomoci-kinosala/
LOCATION:FNsP NZ  – Kinosála
CATEGORIES:Odbor Sociálna práca,SP - 1. ročník Bc.
END:VEVENT
BEGIN:VEVENT
DTSTART;TZID=Europe/Bratislava:20260523T180000
DTEND;TZID=Europe/Bratislava:20260523T180000
DTSTAMP:20260425T173442
CREATED:20260420T054030Z
LAST-MODIFIED:20260420T054230Z
UID:50083-1779559200-1779559200@fsvladislava.sk
SUMMARY:SP 3.r. Bc. - SK Sociálne zabezpečenie - Online
DESCRIPTION:SP 3.r. Bc. – Skúška: Sociálne zabezpečenie – doc. Mgr. Ludvigh Cintulová\, PhD.\, univ. doc. – Online
URL:https://fsvladislava.sk/rozvrh/sp-2-r-bc-sk-socialne-zabezpecenie-online/
LOCATION:Online
CATEGORIES:Odbor Sociálna práca,SP - 3. ročník Bc.
END:VEVENT
BEGIN:VEVENT
DTSTART;TZID=Europe/Bratislava:20260525T070000
DTEND;TZID=Europe/Bratislava:20260525T180000
DTSTAMP:20260425T173442
CREATED:20260114T093433Z
LAST-MODIFIED:20260114T093433Z
UID:49151-1779692400-1779732000@fsvladislava.sk
SUMMARY:Fakulta sv. Ladislava - UZS Bc. Ústna ŠS - Seminárna miestnosť
DESCRIPTION:Fakulta sv. Ladislava – UZS Bc. Ústna ŠS – Seminárna miestnosť
URL:https://fsvladislava.sk/rozvrh/fakulta-sv-ladislava-uzs-bc-ustna-ss-seminarna-miestnost/
LOCATION:FNsP NZ  – Seminárna miestnosť
CATEGORIES:Fakulta
END:VEVENT
BEGIN:VEVENT
DTSTART;TZID=Europe/Bratislava:20260525T083000
DTEND;TZID=Europe/Bratislava:20260525T100000
DTSTAMP:20260425T173442
CREATED:20260114T115755Z
LAST-MODIFIED:20260114T115810Z
UID:49162-1779697800-1779703200@fsvladislava.sk
SUMMARY:FNsP NZ - Rezervované nemocnica - Zasadačka
DESCRIPTION:FNsP NZ – Rezervované nemocnica – Zasadačka
URL:https://fsvladislava.sk/rozvrh/fnsp-nz-rezervovane-nemocnica-zasadacka-2/
LOCATION:FNsP NZ – Zasadačka
CATEGORIES:FNsP NZ
END:VEVENT
BEGIN:VEVENT
DTSTART;TZID=Europe/Bratislava:20260525T090000
DTEND;TZID=Europe/Bratislava:20260525T100000
DTSTAMP:20260425T173442
CREATED:20260416T075609Z
LAST-MODIFIED:20260416T075609Z
UID:50068-1779699600-1779703200@fsvladislava.sk
SUMMARY:OŠE 3.r. Bc. - SK Ošetrovateľstvo v gynekológii a pôrodníctve I. - Kinosála
DESCRIPTION:OŠE 3.r. Bc. – Skúška: Ošetrovateľstvo v gynekológii a pôrodníctve I. – prof. Phdr. Ľ. Libová\, PhD.\, MPH – Kinosála
URL:https://fsvladislava.sk/rozvrh/ose-3-r-bc-sk-osetrovatelstvo-v-gynekologii-a-porodnictve-i-kinosala/
LOCATION:FNsP NZ  – Kinosála
CATEGORIES:Odbor Ošetrovateľstvo,OŠE - 3. ročník Bc.
END:VEVENT
BEGIN:VEVENT
DTSTART;TZID=Europe/Bratislava:20260526T070000
DTEND;TZID=Europe/Bratislava:20260526T180000
DTSTAMP:20260425T173442
CREATED:20260114T093448Z
LAST-MODIFIED:20260114T093448Z
UID:49153-1779778800-1779818400@fsvladislava.sk
SUMMARY:Fakulta sv. Ladislava - UZS Bc. Ústna ŠS - Seminárna miestnosť
DESCRIPTION:Fakulta sv. Ladislava – UZS Bc. Ústna ŠS – Seminárna miestnosť
URL:https://fsvladislava.sk/rozvrh/fakulta-sv-ladislava-uzs-bc-ustna-ss-seminarna-miestnost-2/
LOCATION:FNsP NZ  – Seminárna miestnosť
CATEGORIES:Fakulta
END:VEVENT
BEGIN:VEVENT
DTSTART;TZID=Europe/Bratislava:20260526T083000
DTEND;TZID=Europe/Bratislava:20260526T100000
DTSTAMP:20260425T173442
CREATED:20250903T060935Z
LAST-MODIFIED:20250903T060935Z
UID:47783-1779784200-1779789600@fsvladislava.sk
SUMMARY:FNsP NZ - Operatívna porada vedúcich zamestnancov - Zasadačka
DESCRIPTION:FNsP NZ – Operatívna porada vedúcich zamestnancov – Zasadačka
URL:https://fsvladislava.sk/rozvrh/fnsp-nz-operativna-porada-veducich-zamestnancov-zasadacka-69/
LOCATION:FNsP NZ – Zasadačka
CATEGORIES:FNsP NZ
END:VEVENT
BEGIN:VEVENT
DTSTART;TZID=Europe/Bratislava:20260526T090000
DTEND;TZID=Europe/Bratislava:20260526T113000
DTSTAMP:20260425T173442
CREATED:20260325T104434Z
LAST-MODIFIED:20260325T104434Z
UID:49901-1779786000-1779795000@fsvladislava.sk
SUMMARY:OŠE 1.r. Bc. - SK Hygiena a preventívna medicína - Kinosála
DESCRIPTION:OŠE 1.r. Bc. – Skúška – Hygiena a preventívna medicína  PhDr. P. Hoppan – Kinosála
URL:https://fsvladislava.sk/rozvrh/ose-1-r-bc-sk-hygiena-a-preventivna-medicina-kinosala-4/
LOCATION:FNsP NZ  – Kinosála
CATEGORIES:Odbor Ošetrovateľstvo,OŠE - 1. ročník Bc.
END:VEVENT
BEGIN:VEVENT
DTSTART;TZID=Europe/Bratislava:20260526T123000
DTEND;TZID=Europe/Bratislava:20260526T133000
DTSTAMP:20260425T173442
CREATED:20260413T052356Z
LAST-MODIFIED:20260413T053517Z
UID:50013-1779798600-1779802200@fsvladislava.sk
SUMMARY:FNsP NZ - Porada vedúcich sestier - Zasadačka
DESCRIPTION:FNsP NZ – Porada vedúcich sestier – Zasadačka
URL:https://fsvladislava.sk/rozvrh/fnsp-nz-porada-veducich-sestier-zasadacka-4/
LOCATION:FNsP NZ – Zasadačka
CATEGORIES:FNsP NZ
END:VEVENT
BEGIN:VEVENT
DTSTART;TZID=Europe/Bratislava:20260527T070000
DTEND;TZID=Europe/Bratislava:20260527T180000
DTSTAMP:20260425T173442
CREATED:20251111T070206Z
LAST-MODIFIED:20260114T093137Z
UID:48533-1779865200-1779904800@fsvladislava.sk
SUMMARY:Fakulta sv. Ladislava - UZS Bc. Ústna ŠS - Zasadačka
DESCRIPTION:Fakulta sv. Ladislava – UZS Bc. Ústna ŠS – Zasadačka
URL:https://fsvladislava.sk/rozvrh/fakulta-sv-ladislava-uzs-bc-ustna-ss-zasadacka/
LOCATION:FNsP NZ – Zasadačka
CATEGORIES:Fakulta
END:VEVENT
BEGIN:VEVENT
DTSTART;TZID=Europe/Bratislava:20260527T090000
DTEND;TZID=Europe/Bratislava:20260527T183000
DTSTAMP:20260425T173442
CREATED:20260122T062155Z
LAST-MODIFIED:20260122T062155Z
UID:49325-1779872400-1779906600@fsvladislava.sk
SUMMARY:PA 2.r. Bc. - Seminár k záverečnej práci I. - Kinosála
DESCRIPTION:PA 2.r. Bc. – Seminár k záverečnej práci I. – prof. Matulníková – Kinosála
URL:https://fsvladislava.sk/rozvrh/pa-2-r-bc-seminar-k-zaverecnej-praci-i-kinosala/
LOCATION:FNsP NZ  – Kinosála
CATEGORIES:Odbor Pôrodná asistencia,PA - 2. ročník Bc.
END:VEVENT
BEGIN:VEVENT
DTSTART;TZID=Europe/Bratislava:20260528T070000
DTEND;TZID=Europe/Bratislava:20260528T180000
DTSTAMP:20260425T173442
CREATED:20260114T093328Z
LAST-MODIFIED:20260114T093328Z
UID:49147-1779951600-1779991200@fsvladislava.sk
SUMMARY:Fakulta sv. Ladislava - UZS Bc. Ústna ŠS - Zasadačka
DESCRIPTION:Fakulta sv. Ladislava – UZS Bc. Ústna ŠS – Zasadačka
URL:https://fsvladislava.sk/rozvrh/fakulta-sv-ladislava-uzs-bc-ustna-ss-zasadacka-2/
LOCATION:FNsP NZ – Zasadačka
CATEGORIES:Fakulta
END:VEVENT
BEGIN:VEVENT
DTSTART;TZID=Europe/Bratislava:20260529T070000
DTEND;TZID=Europe/Bratislava:20260529T180000
DTSTAMP:20260425T173442
CREATED:20260114T093352Z
LAST-MODIFIED:20260114T093352Z
UID:49149-1780038000-1780077600@fsvladislava.sk
SUMMARY:Fakulta sv. Ladislava - UZS Bc. Ústna ŠS - Zasadačka
DESCRIPTION:Fakulta sv. Ladislava – UZS Bc. Ústna ŠS – Zasadačka
URL:https://fsvladislava.sk/rozvrh/fakulta-sv-ladislava-uzs-bc-ustna-ss-zasadacka-3/
LOCATION:FNsP NZ – Zasadačka
CATEGORIES:Fakulta
END:VEVENT
BEGIN:VEVENT
DTSTART;TZID=Europe/Bratislava:20260529T090000
DTEND;TZID=Europe/Bratislava:20260529T090000
DTSTAMP:20260425T173442
CREATED:20260325T072355Z
LAST-MODIFIED:20260325T072355Z
UID:49893-1780045200-1780045200@fsvladislava.sk
SUMMARY:OŠE 3.r. Bc. - do 29. 5. 2026 odovzdať seminárnu prácu - Kancelária FA
DESCRIPTION:OŠE 3.r. Bc. – Seminár k záverečnej práci I. – do 29. 5. 2026 odovzdať seminárnu prácu – PhDr. M. Vavro\, PhD. – Kancelária FA
URL:https://fsvladislava.sk/rozvrh/ose-3-r-bc-do-29-5-2026-odovzdat-seminarnu-pracu-kancelaria-fa/
LOCATION:Kancelária FA
CATEGORIES:Odbor Ošetrovateľstvo,OŠE - 3. ročník Bc.
END:VEVENT
BEGIN:VEVENT
DTSTART;TZID=Europe/Bratislava:20260529T180000
DTEND;TZID=Europe/Bratislava:20260529T180000
DTSTAMP:20260425T173442
CREATED:20260420T054124Z
LAST-MODIFIED:20260420T054124Z
UID:50085-1780077600-1780077600@fsvladislava.sk
SUMMARY:SP 3.r. Bc. - SK Sociálne zabezpečenie - Online
DESCRIPTION:SP 3.r. Bc. – Skúška: Sociálne zabezpečenie – doc. Mgr. Ludvigh Cintulová\, PhD.\, univ. doc. – Online
URL:https://fsvladislava.sk/rozvrh/sp-3-r-bc-sk-socialne-zabezpecenie-online/
LOCATION:Online
CATEGORIES:Odbor Sociálna práca,SP - 3. ročník Bc.
END:VEVENT
BEGIN:VEVENT
DTSTART;TZID=Europe/Bratislava:20260530T090000
DTEND;TZID=Europe/Bratislava:20260530T120000
DTSTAMP:20260425T173442
CREATED:20260318T105319Z
LAST-MODIFIED:20260320T091649Z
UID:49830-1780131600-1780142400@fsvladislava.sk
SUMMARY:SP 1.r. Bc. - Seminárna práca - Zasadačka
DESCRIPTION:SP 1.r. Bc.  – Seminárna práca – doc. PhDr. Radi\, PhD. – Zasadačka
URL:https://fsvladislava.sk/rozvrh/sp-1-r-bc-seminarna-praca-zasadacka-2/
LOCATION:FNsP NZ – Zasadačka
CATEGORIES:Odbor Sociálna práca,SP - 1. ročník Bc.
END:VEVENT
BEGIN:VEVENT
DTSTART;TZID=Europe/Bratislava:20260530T130000
DTEND;TZID=Europe/Bratislava:20260530T160000
DTSTAMP:20260425T173442
CREATED:20260318T105622Z
LAST-MODIFIED:20260320T091644Z
UID:49832-1780146000-1780156800@fsvladislava.sk
SUMMARY:SP 2.r. Bc. - Ročníková práca - Zasadačka
DESCRIPTION:SP 2.r. Bc.  – Ročníková práca – doc. PhDr. Radi\, PhD. – Zasadačka
URL:https://fsvladislava.sk/rozvrh/sp-2-r-bc-rocnikova-praca-zasadacka/
LOCATION:FNsP NZ – Zasadačka
CATEGORIES:Odbor Sociálna práca,SP - 2. ročník Bc.
END:VEVENT
BEGIN:VEVENT
DTSTART;VALUE=DATE:20260601
DTEND;VALUE=DATE:20260606
DTSTAMP:20260425T173442
CREATED:20250903T052000Z
LAST-MODIFIED:20250930T052113Z
UID:47743-1780272000-1780703999@fsvladislava.sk
SUMMARY:Fakulta sv. Ladislava - OŠE Bc. Záverečná ústna ŠS - Seminárna miestnosť
DESCRIPTION:Fakulta sv. Ladislava – OŠE Bc. Záverečná ústna ŠS – Seminárna miestnosť
URL:https://fsvladislava.sk/rozvrh/fakulta-sv-ladislava-seminarna-miestnost-5/
LOCATION:FNsP NZ  – Seminárna miestnosť
CATEGORIES:Fakulta
END:VEVENT
BEGIN:VEVENT
DTSTART;VALUE=DATE:20260601
DTEND;VALUE=DATE:20260606
DTSTAMP:20260425T173442
CREATED:20250930T053809Z
LAST-MODIFIED:20250930T053809Z
UID:48260-1780272000-1780703999@fsvladislava.sk
SUMMARY:Fakulta sv. Ladislava - OŠE Bc. Záverečná ústna ŠS - Zasadačka
DESCRIPTION:Fakulta sv. Ladislava – OŠE Bc. Záverečná ústna ŠS – Zasadačka
URL:https://fsvladislava.sk/rozvrh/fakulta-sv-ladislava-ose-bc-zaverecna-ustna-ss-zasadacka/
LOCATION:FNsP NZ – Zasadačka
CATEGORIES:Fakulta
END:VEVENT
BEGIN:VEVENT
DTSTART;TZID=Europe/Bratislava:20260601T083000
DTEND;TZID=Europe/Bratislava:20260601T110000
DTSTAMP:20260425T173442
CREATED:20260317T140932Z
LAST-MODIFIED:20260317T141245Z
UID:49820-1780302600-1780311600@fsvladislava.sk
SUMMARY:OŠE 3.r. Bc. - SK Komunitné ošetrovateľstvo - šatňa FNsP NZ
DESCRIPTION:OŠE 3.r. Bc.  – Skúška: Komunitné ošetrovateľstvo – PhDr. Nagyová\, PhD. – šatňa FNsP NZ
URL:https://fsvladislava.sk/rozvrh/ose-3-r-bc-sk-komunitne-osetrovatelstvo-satna-fnsp-nz-2/
LOCATION:šatňa FNsP NZ
CATEGORIES:Odbor Ošetrovateľstvo,OŠE - 3. ročník Bc.
END:VEVENT
BEGIN:VEVENT
DTSTART;TZID=Europe/Bratislava:20260602T080000
DTEND;TZID=Europe/Bratislava:20260602T080000
DTSTAMP:20260425T173442
CREATED:20260122T061014Z
LAST-MODIFIED:20260122T061014Z
UID:49303-1780387200-1780387200@fsvladislava.sk
SUMMARY:PA 3.r. Bc. – Záverečné ŠS - praktická časť  - Gyn.-pôr. kln. 2. posch.
DESCRIPTION:PA 3.r. Bc.  – Záverečné ŠS – praktická časť – Gyn.-pôr. kln. 2. posch.
URL:https://fsvladislava.sk/rozvrh/pa-3-r-bc-zaverecne-ss-prakticka-cast-gyn-por-kln-2-posch/
LOCATION:FNsP NZ – učebňa PA 2. posch.
CATEGORIES:Odbor Pôrodná asistencia,PA - 3. ročník Bc.
END:VEVENT
BEGIN:VEVENT
DTSTART;TZID=Europe/Bratislava:20260602T083000
DTEND;TZID=Europe/Bratislava:20260602T100000
DTSTAMP:20260425T173442
CREATED:20250903T061008Z
LAST-MODIFIED:20250903T061008Z
UID:47786-1780389000-1780394400@fsvladislava.sk
SUMMARY:FNsP NZ - Operatívna porada vedúcich zamestnancov - Zasadačka
DESCRIPTION:FNsP NZ – Operatívna porada vedúcich zamestnancov – Zasadačka
URL:https://fsvladislava.sk/rozvrh/fnsp-nz-operativna-porada-veducich-zamestnancov-zasadacka-70/
LOCATION:FNsP NZ – Zasadačka
CATEGORIES:FNsP NZ
END:VEVENT
BEGIN:VEVENT
DTSTART;TZID=Europe/Bratislava:20260603T080000
DTEND;TZID=Europe/Bratislava:20260603T080000
DTSTAMP:20260425T173442
CREATED:20260122T061027Z
LAST-MODIFIED:20260122T061027Z
UID:49305-1780473600-1780473600@fsvladislava.sk
SUMMARY:PA 3.r. Bc. – Záverečné ŠS - praktická časť  - Gyn.-pôr. kln. 2. posch.
DESCRIPTION:PA 3.r. Bc.  – Záverečné ŠS – praktická časť – Gyn.-pôr. kln. 2. posch.
URL:https://fsvladislava.sk/rozvrh/pa-3-r-bc-zaverecne-ss-prakticka-cast-gyn-por-kln-2-posch-2/
LOCATION:FNsP NZ – učebňa PA 2. posch.
CATEGORIES:Odbor Pôrodná asistencia,PA - 3. ročník Bc.
END:VEVENT
BEGIN:VEVENT
DTSTART;TZID=Europe/Bratislava:20260603T080000
DTEND;TZID=Europe/Bratislava:20260603T090000
DTSTAMP:20260425T173442
CREATED:20250911T080807Z
LAST-MODIFIED:20250911T080807Z
UID:47967-1780473600-1780477200@fsvladislava.sk
SUMMARY:FNsP NZ - Školenie HER - Zasadačka
DESCRIPTION:FNsP NZ – Školenie HER – Zasadačka
URL:https://fsvladislava.sk/rozvrh/fnsp-nz-skolenie-her-zasadacka-41/
LOCATION:FNsP NZ – Zasadačka
CATEGORIES:FNsP NZ
END:VEVENT
BEGIN:VEVENT
DTSTART;TZID=Europe/Bratislava:20260603T130000
DTEND;TZID=Europe/Bratislava:20260603T130000
DTSTAMP:20260425T173442
CREATED:20250714T042028Z
LAST-MODIFIED:20250714T042028Z
UID:47566-1780491600-1780491600@fsvladislava.sk
SUMMARY:Fakulta sv. Ladislava - príprava miestnosti na ŠS - PA 3.r. Bc. - Zasadačka
DESCRIPTION:Fakulta sv. Ladislava – príprava miestnosti na ŠS – PA 3.r. Bc. – Zasadačka
URL:https://fsvladislava.sk/rozvrh/fakulta-sv-ladislava-priprava-miestnosti-na-ss-pa-3-r-bc-zasadacka/
LOCATION:FNsP NZ – Zasadačka
CATEGORIES:Fakulta
END:VEVENT
BEGIN:VEVENT
DTSTART;TZID=Europe/Bratislava:20260604T070000
DTEND;TZID=Europe/Bratislava:20260604T170000
DTSTAMP:20260425T173442
CREATED:20250714T042112Z
LAST-MODIFIED:20250714T042112Z
UID:47568-1780556400-1780592400@fsvladislava.sk
SUMMARY:Fakulta sv. Ladislava - štátna záverečná ústna skúška - PA 3.r. Bc. - Zasadačka
DESCRIPTION:Fakulta sv. Ladislava – štátna záverečná ústna skúška – PA 3.r. Bc. – Zasadačka
URL:https://fsvladislava.sk/rozvrh/fakulta-sv-ladislava-statna-zaverecna-ustna-skuska-pa-3-r-bc-zasadacka/
LOCATION:FNsP NZ – Zasadačka
CATEGORIES:Fakulta
END:VEVENT
BEGIN:VEVENT
DTSTART;TZID=Europe/Bratislava:20260604T070000
DTEND;TZID=Europe/Bratislava:20260604T170000
DTSTAMP:20260425T173442
CREATED:20250714T042149Z
LAST-MODIFIED:20250714T042149Z
UID:47570-1780556400-1780592400@fsvladislava.sk
SUMMARY:Fakulta sv. Ladislava - štátna záverečná ústna skúška - PA 3.r. Bc. - Seminárna miestnosť
DESCRIPTION:Fakulta sv. Ladislava – štátna záverečná ústna skúška – PA 3.r. Bc. – Seminárna miestnosť
URL:https://fsvladislava.sk/rozvrh/fakulta-sv-ladislava-statna-zaverecna-ustna-skuska-pa-3-r-bc-seminarna-miestnost/
LOCATION:FNsP NZ  – Seminárna miestnosť
CATEGORIES:Fakulta
END:VEVENT
END:VCALENDAR