BEGIN:VCALENDAR
VERSION:2.0
PRODID:-//Fakulta zdravotníctva a sociálnej práce sv. Ladislava, Nové Zámky - ECPv6.15.17//NONSGML v1.0//EN
CALSCALE:GREGORIAN
METHOD:PUBLISH
X-WR-CALNAME:Fakulta zdravotníctva a sociálnej práce sv. Ladislava, Nové Zámky
X-ORIGINAL-URL:https://fsvladislava.sk
X-WR-CALDESC:Udalosti pre Fakulta zdravotníctva a sociálnej práce sv. Ladislava, Nové Zámky
REFRESH-INTERVAL;VALUE=DURATION:PT1H
X-Robots-Tag:noindex
X-PUBLISHED-TTL:PT1H
BEGIN:VTIMEZONE
TZID:Europe/Bratislava
BEGIN:DAYLIGHT
TZOFFSETFROM:+0100
TZOFFSETTO:+0200
TZNAME:CEST
DTSTART:20250330T010000
END:DAYLIGHT
BEGIN:STANDARD
TZOFFSETFROM:+0200
TZOFFSETTO:+0100
TZNAME:CET
DTSTART:20251026T010000
END:STANDARD
BEGIN:DAYLIGHT
TZOFFSETFROM:+0100
TZOFFSETTO:+0200
TZNAME:CEST
DTSTART:20260329T010000
END:DAYLIGHT
BEGIN:STANDARD
TZOFFSETFROM:+0200
TZOFFSETTO:+0100
TZNAME:CET
DTSTART:20261025T010000
END:STANDARD
BEGIN:DAYLIGHT
TZOFFSETFROM:+0100
TZOFFSETTO:+0200
TZNAME:CEST
DTSTART:20270328T010000
END:DAYLIGHT
BEGIN:STANDARD
TZOFFSETFROM:+0200
TZOFFSETTO:+0100
TZNAME:CET
DTSTART:20271031T010000
END:STANDARD
END:VTIMEZONE
BEGIN:VEVENT
DTSTART;TZID=Europe/Bratislava:20260120T073000
DTEND;TZID=Europe/Bratislava:20260120T083000
DTSTAMP:20260426T005741
CREATED:20260116T073347Z
LAST-MODIFIED:20260116T073347Z
UID:49227-1768894200-1768897800@fsvladislava.sk
SUMMARY:FNsP NZ - Operatívna porada vedúcich zamestnancov - Zasadačka
DESCRIPTION:FNsP NZ – Operatívna porada vedúcich zamestnancov – Zasadačka
URL:https://fsvladislava.sk/rozvrh/fnsp-nz-operativna-porada-veducich-zamestnancov-zasadacka-98/
LOCATION:FNsP NZ – Zasadačka
CATEGORIES:FNsP NZ
END:VEVENT
BEGIN:VEVENT
DTSTART;TZID=Europe/Bratislava:20260120T083000
DTEND;TZID=Europe/Bratislava:20260120T130000
DTSTAMP:20260426T005741
CREATED:20250903T055949Z
LAST-MODIFIED:20260116T073413Z
UID:47751-1768897800-1768914000@fsvladislava.sk
SUMMARY:FNsP NZ - Odbor Informatiky - Zasadačka
DESCRIPTION:FNsP NZ – Odbor Informatiky – Zasadačka
URL:https://fsvladislava.sk/rozvrh/fnsp-nz-operativna-porada-veducich-zamestnancov-zasadacka-53/
LOCATION:FNsP NZ – Zasadačka
CATEGORIES:FNsP NZ
END:VEVENT
BEGIN:VEVENT
DTSTART;TZID=Europe/Bratislava:20260120T090000
DTEND;TZID=Europe/Bratislava:20260120T140000
DTSTAMP:20260426T005741
CREATED:20251020T062122Z
LAST-MODIFIED:20251020T062122Z
UID:48419-1768899600-1768917600@fsvladislava.sk
SUMMARY:OŠE 4.r. Bc. - SK OT Oše. v gyn.-pôr. II. - Seminárna miestnosť
DESCRIPTION:OŠE 4.r. Bc. – Skúška OT: Oše. v gyn.-pôr. II. – prof. Libová – Seminárna miestnosť
URL:https://fsvladislava.sk/rozvrh/ose-4-r-bc-sk-ot-ose-v-gyn-por-ii-seminarna-miestnost-3/
LOCATION:FNsP NZ  – Seminárna miestnosť
CATEGORIES:Odbor Ošetrovateľstvo,OŠE - 4. ročník Bc.
END:VEVENT
BEGIN:VEVENT
DTSTART;TZID=Europe/Bratislava:20260120T130000
DTEND;TZID=Europe/Bratislava:20260120T150000
DTSTAMP:20260426T005741
CREATED:20260107T132644Z
LAST-MODIFIED:20260107T132644Z
UID:48929-1768914000-1768921200@fsvladislava.sk
SUMMARY:FNsP NZ - DRG - Zasadačka
DESCRIPTION:FNsP NZ – DRG – Zasadačka
URL:https://fsvladislava.sk/rozvrh/fnsp-nz-drg-zasadacka-4/
LOCATION:FNsP NZ – Zasadačka
CATEGORIES:FNsP NZ
END:VEVENT
BEGIN:VEVENT
DTSTART;TZID=Europe/Bratislava:20260120T150000
DTEND;TZID=Europe/Bratislava:20260120T150000
DTSTAMP:20260426T005741
CREATED:20251219T062032Z
LAST-MODIFIED:20251219T062032Z
UID:48889-1768921200-1768921200@fsvladislava.sk
SUMMARY:OŠE 1.r. Bc. - SK ANF a Zdravotnícka terminológia  - Modrý dom SZŠ
DESCRIPTION:OŠE 1.r. Bc. – Skúška: ANF a Zdravotnícka terminológia – Dr. Kocsis – Modrý dom SZŠ
URL:https://fsvladislava.sk/rozvrh/ose-1-r-bc-sk-anf-a-zdravotnicka-terminologia-modry-dom-szs-9/
LOCATION:SZŠ EK – Modrý dom
CATEGORIES:Odbor Ošetrovateľstvo,OŠE - 1. ročník Bc.
END:VEVENT
BEGIN:VEVENT
DTSTART;TZID=Europe/Bratislava:20260121T083000
DTEND;TZID=Europe/Bratislava:20260121T083000
DTSTAMP:20260426T005741
CREATED:20251121T070504Z
LAST-MODIFIED:20251121T070504Z
UID:48672-1768984200-1768984200@fsvladislava.sk
SUMMARY:OŠE 4.r. Bc. - SK Oše. v pediatrii II. - suterén FNsP NZ
DESCRIPTION:OŠE 4.r. Bc. – Skúška: Oše. v pediatrii II. – PhDr. I. Nagyová\, PhD. – suterén FNsP NZ
URL:https://fsvladislava.sk/rozvrh/ose-4-r-bc-sk-ose-v-pediatrii-ii-suteren-fnsp-nz-3/
LOCATION:suterén FNsP NZ
CATEGORIES:Odbor Ošetrovateľstvo,OŠE - 4. ročník Bc.
END:VEVENT
BEGIN:VEVENT
DTSTART;TZID=Europe/Bratislava:20260121T094500
DTEND;TZID=Europe/Bratislava:20260121T120000
DTSTAMP:20260426T005741
CREATED:20260105T085216Z
LAST-MODIFIED:20260107T071233Z
UID:48916-1768988700-1768996800@fsvladislava.sk
SUMMARY:FNsP NZ - prof. Rudinský - Zasadačka
DESCRIPTION:FNsP NZ – prof. Rudinský – Zasadačka
URL:https://fsvladislava.sk/rozvrh/fnsp-nz-prof-rudinsky-zasadacka-2/
LOCATION:FNsP NZ – Zasadačka
CATEGORIES:FNsP NZ
END:VEVENT
BEGIN:VEVENT
DTSTART;TZID=Europe/Bratislava:20260121T140000
DTEND;TZID=Europe/Bratislava:20260121T140000
DTSTAMP:20260426T005741
CREATED:20251120T132542Z
LAST-MODIFIED:20251120T132542Z
UID:48636-1769004000-1769004000@fsvladislava.sk
SUMMARY:OŠE 4.r. Bc. - Klinické cvičenia - Seminárna miestnosť
DESCRIPTION:OŠE 4.r. Bc. – Klinické cvičenia – Dr. Bystrická – Seminárna miestnosť
URL:https://fsvladislava.sk/rozvrh/ose-4-r-bc-klinicke-cvicenia-seminarna-miestnost/
LOCATION:FNsP NZ  – Seminárna miestnosť
CATEGORIES:Odbor Ošetrovateľstvo,OŠE - 4. ročník Bc.
END:VEVENT
BEGIN:VEVENT
DTSTART;TZID=Europe/Bratislava:20260121T143000
DTEND;TZID=Europe/Bratislava:20260121T143000
DTSTAMP:20260426T005741
CREATED:20260108T102811Z
LAST-MODIFIED:20260108T102811Z
UID:48983-1769005800-1769005800@fsvladislava.sk
SUMMARY:UZS 4.r. Bc. - SK Ošetrovanie chronických rán - 12. poschodie
DESCRIPTION:UZS 4.r. Bc.  – Skúška – Ošetrovanie chronických rán – PhDr. A. Barteková – 12. poschodie
URL:https://fsvladislava.sk/rozvrh/uzs-4-r-bc-sk-osetrovanie-chronickych-ran-12-poschodie-3/
LOCATION:12. poschodie
CATEGORIES:Odbor Urgentná zdravotná starostlivosť,UZS – 4. ročník Bc.
END:VEVENT
BEGIN:VEVENT
DTSTART;TZID=Europe/Bratislava:20260121T150000
DTEND;TZID=Europe/Bratislava:20260121T150000
DTSTAMP:20260426T005741
CREATED:20251219T062049Z
LAST-MODIFIED:20251219T062049Z
UID:48891-1769007600-1769007600@fsvladislava.sk
SUMMARY:OŠE 1.r. Bc. - SK ANF a Zdravotnícka terminológia  - Modrý dom SZŠ
DESCRIPTION:OŠE 1.r. Bc. – Skúška: ANF a Zdravotnícka terminológia – Dr. Kocsis – Modrý dom SZŠ
URL:https://fsvladislava.sk/rozvrh/ose-1-r-bc-sk-anf-a-zdravotnicka-terminologia-modry-dom-szs-10/
LOCATION:SZŠ EK – Modrý dom
CATEGORIES:Odbor Ošetrovateľstvo,OŠE - 1. ročník Bc.
END:VEVENT
BEGIN:VEVENT
DTSTART;TZID=Europe/Bratislava:20260121T190000
DTEND;TZID=Europe/Bratislava:20260121T190000
DTSTAMP:20260426T005741
CREATED:20260113T064158Z
LAST-MODIFIED:20260113T064158Z
UID:49125-1769022000-1769022000@fsvladislava.sk
SUMMARY:OŠE 1.r. Mgr. - SK Ošetrovateľstvo I. - Elix
DESCRIPTION:OŠE 1.r. Mgr. – Skuška: Ošetrovateľstvo I. – Online – Dr. Peterková Justhová – Elix
URL:https://fsvladislava.sk/rozvrh/ose-1-r-mgr-sk-osetrovatelstvo-i-elix/
LOCATION:Online – Elix
CATEGORIES:Odbor Ošetrovateľstvo,OŠE - 1. ročník Mgr.
END:VEVENT
BEGIN:VEVENT
DTSTART;TZID=Europe/Bratislava:20260122T080000
DTEND;TZID=Europe/Bratislava:20260122T080000
DTSTAMP:20260426T005741
CREATED:20260112T131804Z
LAST-MODIFIED:20260113T062534Z
UID:49085-1769068800-1769068800@fsvladislava.sk
SUMMARY:Fakulta sv. Ladislava - Porada - OŠE Bc. mentorky odb. praxe - Zasadačka
DESCRIPTION:Fakulta sv. Ladislava – Porada – OŠE Bc. mentorky odb. praxe – Zasadačka
URL:https://fsvladislava.sk/rozvrh/fakulta-sv-ladislava-porada-ose-bc-mentorky-odb-praxe-zasadacka/
LOCATION:FNsP NZ – Zasadačka
CATEGORIES:Fakulta
END:VEVENT
BEGIN:VEVENT
DTSTART;TZID=Europe/Bratislava:20260122T090000
DTEND;TZID=Europe/Bratislava:20260122T090000
DTSTAMP:20260426T005741
CREATED:20260109T063556Z
LAST-MODIFIED:20260109T063556Z
UID:48993-1769072400-1769072400@fsvladislava.sk
SUMMARY:PA 2.r. Bc. - SK Pôrodná asistencia II. - Seminárna miestnosť
DESCRIPTION:PA 2.r. Bc. – Skúška: Pôrodná asistencia II. – prof. Matulníková – Seminárna miestnosť
URL:https://fsvladislava.sk/rozvrh/pa-2-r-bc-sk-porodna-asistencia-ii-seminarna-miestnost-3/
LOCATION:FNsP NZ  – Seminárna miestnosť
CATEGORIES:Odbor Pôrodná asistencia,PA - 2. ročník Bc.
END:VEVENT
BEGIN:VEVENT
DTSTART;TZID=Europe/Bratislava:20260122T093000
DTEND;TZID=Europe/Bratislava:20260122T110000
DTSTAMP:20260426T005741
CREATED:20251126T100343Z
LAST-MODIFIED:20251126T100343Z
UID:48696-1769074200-1769079600@fsvladislava.sk
SUMMARY:OŠE 3.r. Bc. - SK Oše. v geriatrii - Kinosála
DESCRIPTION:OŠE 3.r. Bc.  – Skúška: Oše. v geriatrii – doc. Otrubová – Kinosála
URL:https://fsvladislava.sk/rozvrh/ose-3-r-bc-sk-ose-v-geriatrii-kinosala-2/
LOCATION:FNsP NZ  – Kinosála
CATEGORIES:Odbor Ošetrovateľstvo,OŠE - 3. ročník Bc.
END:VEVENT
BEGIN:VEVENT
DTSTART;TZID=Europe/Bratislava:20260122T150000
DTEND;TZID=Europe/Bratislava:20260122T150000
DTSTAMP:20260426T005741
CREATED:20260109T090225Z
LAST-MODIFIED:20260109T090249Z
UID:49050-1769094000-1769094000@fsvladislava.sk
SUMMARY:OŠE 1.r. Bc. - SK ANF a Zdravotnícka terminológia  - Modrý dom SZŠ
DESCRIPTION:OŠE 1.r. Bc. – Skúška: ANF a Zdravotnícka terminológia – Dr. Kocsis – Modrý dom SZŠ
URL:https://fsvladislava.sk/rozvrh/ose-1-r-bc-sk-anf-a-zdravotnicka-terminologia-modry-dom-szs-11/
LOCATION:SZŠ EK – Modrý dom
CATEGORIES:Odbor Ošetrovateľstvo,OŠE - 1. ročník Bc.
END:VEVENT
BEGIN:VEVENT
DTSTART;TZID=Europe/Bratislava:20260122T190000
DTEND;TZID=Europe/Bratislava:20260122T200000
DTSTAMP:20260426T005741
CREATED:20251202T145850Z
LAST-MODIFIED:20260115T062538Z
UID:48750-1769108400-1769112000@fsvladislava.sk
SUMMARY:PA 3.r. Bc. - OT SK Sociológia a sociológia rodiny - Online
DESCRIPTION:PA 3.r. Bc. –  OT Skúška: Sociológia a sociológia rodiny – prof. Matulník – Online
URL:https://fsvladislava.sk/rozvrh/pa-3-r-bc-sk-sociologia-a-sociologia-rodiny-online/
LOCATION:Online
CATEGORIES:Odbor Pôrodná asistencia,PA - 3. ročník Bc.
END:VEVENT
BEGIN:VEVENT
DTSTART;TZID=Europe/Bratislava:20260123T080000
DTEND;TZID=Europe/Bratislava:20260123T150000
DTSTAMP:20260426T005741
CREATED:20260105T115120Z
LAST-MODIFIED:20260121T123253Z
UID:48918-1769155200-1769180400@fsvladislava.sk
SUMMARY:FNsP NZ - Odbor Informatiky - Zasadačka
DESCRIPTION:FNsP NZ – Odbor Informatiky – Zasadačka
URL:https://fsvladislava.sk/rozvrh/fnsp-nz-odbor-informatiky-zasadacka-2/
LOCATION:FNsP NZ – Zasadačka
CATEGORIES:FNsP NZ
END:VEVENT
BEGIN:VEVENT
DTSTART;TZID=Europe/Bratislava:20260123T090000
DTEND;TZID=Europe/Bratislava:20260123T123000
DTSTAMP:20260426T005741
CREATED:20260109T090455Z
LAST-MODIFIED:20260109T090455Z
UID:49062-1769158800-1769171400@fsvladislava.sk
SUMMARY:OŠE 1.r. Bc. - SK ANF a Zdravotnícka terminológia  - Seminárna miestnosť
DESCRIPTION:OŠE 1.r. Bc. – Skúška: ANF a Zdravotnícka terminológia – Dr. Kocsis – Seminárna miestnosť
URL:https://fsvladislava.sk/rozvrh/ose-1-r-bc-sk-anf-a-zdravotnicka-terminologia-seminarna-miestnost-2/
LOCATION:FNsP NZ  – Seminárna miestnosť
CATEGORIES:Odbor Ošetrovateľstvo,OŠE - 1. ročník Bc.
END:VEVENT
BEGIN:VEVENT
DTSTART;TZID=Europe/Bratislava:20260123T120000
DTEND;TZID=Europe/Bratislava:20260123T120000
DTSTAMP:20260426T005741
CREATED:20250916T123706Z
LAST-MODIFIED:20250916T123706Z
UID:48159-1769169600-1769169600@fsvladislava.sk
SUMMARY:SP 3.r. Bc. - Základy výskumu v sociálnych vedách - Zoom
DESCRIPTION:SP 3.r. Bc. – Základy výskumu v sociálnych vedách – prof. Radková – Zoom
URL:https://fsvladislava.sk/rozvrh/sp-3-r-bc-zaklady-vyskumu-v-socialnych-vedach-zoom/
LOCATION:Online – Zoom
CATEGORIES:Odbor Sociálna práca,SP - 3. ročník Bc.
ORGANIZER;CN="prof. Radkov%C3%A1":MAILTO:libusa.radkova@gmail.com
END:VEVENT
BEGIN:VEVENT
DTSTART;TZID=Europe/Bratislava:20260123T120000
DTEND;TZID=Europe/Bratislava:20260123T153000
DTSTAMP:20260426T005741
CREATED:20220927T130418Z
LAST-MODIFIED:20260121T123239Z
UID:37694-1769169600-1769182200@fsvladislava.sk
SUMMARY:SP 4.r. Bc. - SK Projektovanie v SP - Seminárna miestnosť
DESCRIPTION:SP 4.r. Bc. – SK Projektovanie v SP – Dr. Buzalová  – Seminárna miestnosť
URL:https://fsvladislava.sk/rozvrh/sp-4-r-bc-projektovanie/
LOCATION:FNsP NZ  – Seminárna miestnosť
CATEGORIES:Odbor Sociálna práca,SP - 4. ročník Bc.
END:VEVENT
BEGIN:VEVENT
DTSTART;TZID=Europe/Bratislava:20260123T143000
DTEND;TZID=Europe/Bratislava:20260123T143000
DTSTAMP:20260426T005741
CREATED:20260108T102849Z
LAST-MODIFIED:20260108T102849Z
UID:48985-1769178600-1769178600@fsvladislava.sk
SUMMARY:UZS 4.r. Bc. - SK Ošetrovanie chronických rán - 12. poschodie
DESCRIPTION:UZS 4.r. Bc.  – Skúška – Ošetrovanie chronických rán – PhDr. A. Barteková – 12. poschodie
URL:https://fsvladislava.sk/rozvrh/uzs-4-r-bc-sk-osetrovanie-chronickych-ran-12-poschodie-4/
LOCATION:12. poschodie
CATEGORIES:Odbor Urgentná zdravotná starostlivosť,UZS – 4. ročník Bc.
END:VEVENT
BEGIN:VEVENT
DTSTART;TZID=Europe/Bratislava:20260123T143000
DTEND;TZID=Europe/Bratislava:20260123T160000
DTSTAMP:20260426T005741
CREATED:20251222T064346Z
LAST-MODIFIED:20251222T064346Z
UID:48896-1769178600-1769184000@fsvladislava.sk
SUMMARY:OŠE 2.r. Bc. - SK Klinická propedeutika - Kinosála
DESCRIPTION:OŠE 2.r. Bc. – Skúška: Klinická propedeutika – Dr. Borbélyová – Kinosála
URL:https://fsvladislava.sk/rozvrh/ose-2-r-bc-sk-klinicka-propedeutika-kinosala-4/
LOCATION:FNsP NZ  – Kinosála
CATEGORIES:Odbor Ošetrovateľstvo,OŠE - 2. ročník Bc.
END:VEVENT
BEGIN:VEVENT
DTSTART;TZID=Europe/Bratislava:20260123T150000
DTEND;TZID=Europe/Bratislava:20260123T150000
DTSTAMP:20260426T005741
CREATED:20260109T090301Z
LAST-MODIFIED:20260109T090301Z
UID:49052-1769180400-1769180400@fsvladislava.sk
SUMMARY:OŠE 1.r. Bc. - SK ANF a Zdravotnícka terminológia  - Modrý dom SZŠ
DESCRIPTION:OŠE 1.r. Bc. – Skúška: ANF a Zdravotnícka terminológia – Dr. Kocsis – Modrý dom SZŠ
URL:https://fsvladislava.sk/rozvrh/ose-1-r-bc-sk-anf-a-zdravotnicka-terminologia-modry-dom-szs-12/
LOCATION:SZŠ EK – Modrý dom
CATEGORIES:Odbor Ošetrovateľstvo,OŠE - 1. ročník Bc.
END:VEVENT
BEGIN:VEVENT
DTSTART;TZID=Europe/Bratislava:20260123T160000
DTEND;TZID=Europe/Bratislava:20260123T160000
DTSTAMP:20260426T005741
CREATED:20251127T111658Z
LAST-MODIFIED:20251127T111658Z
UID:48718-1769184000-1769184000@fsvladislava.sk
SUMMARY:SP 2.r. Bc. - SK Úvod do sociálnej politiky - Kinosála
DESCRIPTION:SP 2.r. Bc. – Skúška: Úvod do sociálnej politiky – prof. doc. Mgr. Lucia Ludvigh Cintulová\, PhD. – Kinosála
URL:https://fsvladislava.sk/rozvrh/sp-2-r-bc-sk-uvod-do-socialnej-politiky-kinosala/
LOCATION:FNsP NZ  – Kinosála
CATEGORIES:Odbor Sociálna práca,SP - 2. ročník Bc.
END:VEVENT
BEGIN:VEVENT
DTSTART;TZID=Europe/Bratislava:20260123T170000
DTEND;TZID=Europe/Bratislava:20260123T170000
DTSTAMP:20260426T005741
CREATED:20240117T090131Z
LAST-MODIFIED:20250916T123945Z
UID:42620-1769187600-1769187600@fsvladislava.sk
SUMMARY:SP 1.r. Mgr. - Manažment katastrof a psychosociálna pomoc - Webex
DESCRIPTION:SP 1.r. Mgr. – Manažment katastrof a psychosociálna pomoc – doc. Páleníková  – Webex
URL:https://fsvladislava.sk/rozvrh/sp-1-r-mgr-manazment-katastrof-a-psychosocialna-pomoc-zoom/
LOCATION:Online – Webex
CATEGORIES:Odbor Sociálna práca,SP - 1. ročník Mgr.
END:VEVENT
BEGIN:VEVENT
DTSTART;TZID=Europe/Bratislava:20260124T080000
DTEND;TZID=Europe/Bratislava:20260124T080000
DTSTAMP:20260426T005741
CREATED:20250303T112529Z
LAST-MODIFIED:20250916T124113Z
UID:47070-1769241600-1769241600@fsvladislava.sk
SUMMARY:SP 1.r. Mgr. - Praktická muzikoterapia - Online
DESCRIPTION:SP 1.r. Mgr. – Praktická muzikoterapia – doc. Vittálová – Online
URL:https://fsvladislava.sk/rozvrh/sp-1-r-mgr-sk-ot-prakticka-muzikoterapia-elix/
LOCATION:Online
CATEGORIES:Odbor Sociálna práca,SP - 1. ročník Mgr.
END:VEVENT
BEGIN:VEVENT
DTSTART;TZID=Europe/Bratislava:20260124T080000
DTEND;TZID=Europe/Bratislava:20260124T080000
DTSTAMP:20260426T005741
CREATED:20260119T110619Z
LAST-MODIFIED:20260119T110619Z
UID:49256-1769241600-1769241600@fsvladislava.sk
SUMMARY:SP 2.r. Mgr. - SK Komunitná SP - Zasadačka
DESCRIPTION:SP 2.r. Mgr. –  Skúška: Komunitná SP – Dr. Demčák – Zasadačka
URL:https://fsvladislava.sk/rozvrh/sp-2-r-mgr-sk-komunitna-sp-zasadacka-2/
LOCATION:FNsP NZ – Zasadačka
CATEGORIES:Odbor Sociálna práca,SP - 2. ročník Mgr.
END:VEVENT
BEGIN:VEVENT
DTSTART;TZID=Europe/Bratislava:20260124T080000
DTEND;TZID=Europe/Bratislava:20260124T130000
DTSTAMP:20260426T005741
CREATED:20250916T112252Z
LAST-MODIFIED:20260121T101502Z
UID:48118-1769241600-1769259600@fsvladislava.sk
SUMMARY:SP 3.r. Bc. - SP s nezamestnanými PV - ZRUŠENÁ PREDNÁŠKA!
DESCRIPTION:SP 3.r. Bc. – SP s nezamestnanými PV – PhDr. Ladislav Moravík\, PhD. – ZRUŠENÁ PREDNÁŠKA!
URL:https://fsvladislava.sk/rozvrh/sp-3-r-bc-sp-s-nezamestnanymi-pv-zasadacka/
LOCATION:FNsP NZ  – Kinosála
CATEGORIES:Odbor Sociálna práca,SP - 3. ročník Bc.
END:VEVENT
BEGIN:VEVENT
DTSTART;TZID=Europe/Bratislava:20260124T090000
DTEND;TZID=Europe/Bratislava:20260124T090000
DTSTAMP:20260426T005741
CREATED:20240926T092904Z
LAST-MODIFIED:20250916T122524Z
UID:45438-1769245200-1769245200@fsvladislava.sk
SUMMARY:SP 2.r. Bc. - Kazuistický seminár - Online
DESCRIPTION:SP 2.r. Bc. – Kazuistický seminár – doc. Radi / doc. Bundzelová – Online
URL:https://fsvladislava.sk/rozvrh/sp-2-r-bc-kazuisticky-seminar-online/
LOCATION:Online
CATEGORIES:Odbor Sociálna práca,SP - 2. ročník Bc.
END:VEVENT
BEGIN:VEVENT
DTSTART;TZID=Europe/Bratislava:20260124T090000
DTEND;TZID=Europe/Bratislava:20260124T090000
DTSTAMP:20260426T005741
CREATED:20260122T125622Z
LAST-MODIFIED:20260122T125622Z
UID:49332-1769245200-1769245200@fsvladislava.sk
SUMMARY:SP 4.r. Bc. - Odborná prax - Online
DESCRIPTION:SP 4.r. Bc. – Odborná prax – Dr. Buzalová – Online
URL:https://fsvladislava.sk/rozvrh/sp-4-r-bc-odborna-prax-online/
LOCATION:Online
CATEGORIES:Odbor Sociálna práca,SP - 4. ročník Bc.
END:VEVENT
END:VCALENDAR