BEGIN:VCALENDAR
VERSION:2.0
PRODID:-//Fakulta zdravotníctva a sociálnej práce sv. Ladislava, Nové Zámky - ECPv6.15.17//NONSGML v1.0//EN
CALSCALE:GREGORIAN
METHOD:PUBLISH
X-WR-CALNAME:Fakulta zdravotníctva a sociálnej práce sv. Ladislava, Nové Zámky
X-ORIGINAL-URL:https://fsvladislava.sk
X-WR-CALDESC:Udalosti pre Fakulta zdravotníctva a sociálnej práce sv. Ladislava, Nové Zámky
REFRESH-INTERVAL;VALUE=DURATION:PT1H
X-Robots-Tag:noindex
X-PUBLISHED-TTL:PT1H
BEGIN:VTIMEZONE
TZID:Europe/Bratislava
BEGIN:DAYLIGHT
TZOFFSETFROM:+0100
TZOFFSETTO:+0200
TZNAME:CEST
DTSTART:20250330T010000
END:DAYLIGHT
BEGIN:STANDARD
TZOFFSETFROM:+0200
TZOFFSETTO:+0100
TZNAME:CET
DTSTART:20251026T010000
END:STANDARD
BEGIN:DAYLIGHT
TZOFFSETFROM:+0100
TZOFFSETTO:+0200
TZNAME:CEST
DTSTART:20260329T010000
END:DAYLIGHT
BEGIN:STANDARD
TZOFFSETFROM:+0200
TZOFFSETTO:+0100
TZNAME:CET
DTSTART:20261025T010000
END:STANDARD
BEGIN:DAYLIGHT
TZOFFSETFROM:+0100
TZOFFSETTO:+0200
TZNAME:CEST
DTSTART:20270328T010000
END:DAYLIGHT
BEGIN:STANDARD
TZOFFSETFROM:+0200
TZOFFSETTO:+0100
TZNAME:CET
DTSTART:20271031T010000
END:STANDARD
END:VTIMEZONE
BEGIN:VEVENT
DTSTART;TZID=Europe/Bratislava:20260422T140000
DTEND;TZID=Europe/Bratislava:20260422T140000
DTSTAMP:20260425T173347
CREATED:20260320T072945Z
LAST-MODIFIED:20260320T072945Z
UID:49855-1776866400-1776866400@fsvladislava.sk
SUMMARY:OŠE 2.r. Bc. -  SK Komunikácia v ošetrovateľstve - šatňa SZŠ
DESCRIPTION:OŠE 2.r. Bc. – SK: Komunikácia v ošetrovateľstve – PhDr. E. Molnárová – šatňa SZŠ
URL:https://fsvladislava.sk/rozvrh/ose-2-r-bc-sk-komunikacia-v-osetrovatelstve-satna-szs/
LOCATION:šatňa SZŠ
CATEGORIES:Odbor Ošetrovateľstvo,OŠE - 2. ročník Bc.
END:VEVENT
BEGIN:VEVENT
DTSTART;TZID=Europe/Bratislava:20260422T150000
DTEND;TZID=Europe/Bratislava:20260422T150000
DTSTAMP:20260425T173347
CREATED:20260409T053049Z
LAST-MODIFIED:20260415T051401Z
UID:49980-1776870000-1776870000@fsvladislava.sk
SUMMARY:OŠE 1.r. Bc. - SK ANF a Zdravotnícka terminológia  - Modrý dom SZŠ
DESCRIPTION:OŠE 1.r. Bc. – Skúška: ANF a Zdravotnícka terminológia – Dr. Kocsis – Modrý dom SZŠ
URL:https://fsvladislava.sk/rozvrh/ose-1-r-bc-sk-anf-a-zdravotnicka-terminologia-seminarna-miestnost-4/
LOCATION:SZŠ EK – Modrý dom
CATEGORIES:Odbor Ošetrovateľstvo,OŠE - 1. ročník Bc.
END:VEVENT
BEGIN:VEVENT
DTSTART;TZID=Europe/Bratislava:20260423T090000
DTEND;TZID=Europe/Bratislava:20260423T153000
DTSTAMP:20260425T173347
CREATED:20260122T061852Z
LAST-MODIFIED:20260122T061852Z
UID:49317-1776934800-1776958200@fsvladislava.sk
SUMMARY:PA 2.r. Bc. - Pôrodná asistencia III. - Seminárna miestnosť
DESCRIPTION:PA 2.r. Bc. – Pôrodná asistencia III.   – prof. Matulníková – Seminárna miestnosť
URL:https://fsvladislava.sk/rozvrh/pa-2-r-bc-porodna-asistencia-iii-seminarna-miestnost-7/
LOCATION:FNsP NZ  – Seminárna miestnosť
CATEGORIES:Odbor Pôrodná asistencia,PA - 2. ročník Bc.
END:VEVENT
BEGIN:VEVENT
DTSTART;TZID=Europe/Bratislava:20260423T150000
DTEND;TZID=Europe/Bratislava:20260423T150000
DTSTAMP:20260425T173347
CREATED:20260409T053003Z
LAST-MODIFIED:20260415T051416Z
UID:49978-1776956400-1776956400@fsvladislava.sk
SUMMARY:OŠE 1.r. Bc. - SK ANF a Zdravotnícka terminológia  - Modrý dom SZŠ
DESCRIPTION:OŠE 1.r. Bc. – Skúška: ANF a Zdravotnícka terminológia – Dr. Kocsis – Modrý dom SZŠ
URL:https://fsvladislava.sk/rozvrh/ose-1-r-bc-sk-anf-a-zdravotnicka-terminologia-modry-dom-szs-30/
LOCATION:SZŠ EK – Modrý dom
CATEGORIES:Odbor Ošetrovateľstvo,OŠE - 1. ročník Bc.
END:VEVENT
BEGIN:VEVENT
DTSTART;TZID=Europe/Bratislava:20260424T130000
DTEND;TZID=Europe/Bratislava:20260424T140000
DTSTAMP:20260425T173347
CREATED:20260330T054502Z
LAST-MODIFIED:20260330T060836Z
UID:49918-1777035600-1777039200@fsvladislava.sk
SUMMARY:SP 2r.- SK Sociálne služby - 2.termín - Kinosála
DESCRIPTION:SP 2r. – Skúška: Sociálne služby – rozdieloví – 2.termín – Kinosála
URL:https://fsvladislava.sk/rozvrh/sp-2r-sk-socialne-sluzby-2-termin-online/
LOCATION:FNsP NZ  – Kinosála
CATEGORIES:Odbor Sociálna práca,SP - 2. ročník Bc.
END:VEVENT
BEGIN:VEVENT
DTSTART;TZID=Europe/Bratislava:20260424T140000
DTEND;TZID=Europe/Bratislava:20260424T203000
DTSTAMP:20260425T173347
CREATED:20260202T140455Z
LAST-MODIFIED:20260202T140455Z
UID:49454-1777039200-1777062600@fsvladislava.sk
SUMMARY:SP 2.r. Bc. - Psychopatológia - Kinosála
DESCRIPTION:SP 2.r. Bc. –  Psychopatológia – doc. MUDr. PaedDr.\, ThDr. Kašparu\, PhD. – Kinosála
URL:https://fsvladislava.sk/rozvrh/sp-2-r-bc-psychopatologia-kinosala/
LOCATION:FNsP NZ  – Kinosála
CATEGORIES:Odbor Sociálna práca,SP - 2. ročník Bc.
END:VEVENT
BEGIN:VEVENT
DTSTART;TZID=Europe/Bratislava:20260425T080000
DTEND;TZID=Europe/Bratislava:20260425T143000
DTSTAMP:20260425T173347
CREATED:20260202T140558Z
LAST-MODIFIED:20260202T140558Z
UID:49456-1777104000-1777127400@fsvladislava.sk
SUMMARY:SP 2.r. Bc. - Psychiatria  SP - Kinosála
DESCRIPTION:SP 2.r. Bc. –  Psychiatria SP – doc. MUDr. PaedDr.\, ThDr. Kašparu\, PhD. – Kinosála
URL:https://fsvladislava.sk/rozvrh/sp-2-r-bc-psychiatria-sp-kinosala/
LOCATION:FNsP NZ  – Kinosála
CATEGORIES:Odbor Sociálna práca,SP - 2. ročník Bc.
END:VEVENT
BEGIN:VEVENT
DTSTART;TZID=Europe/Bratislava:20260425T090000
DTEND;TZID=Europe/Bratislava:20260425T153000
DTSTAMP:20260425T173347
CREATED:20260202T143010Z
LAST-MODIFIED:20260420T082014Z
UID:49490-1777107600-1777131000@fsvladislava.sk
SUMMARY:SP 1.r. Mgr. - SP so sociálno-ekonomickými problémami - Online Webex
DESCRIPTION:SP 1.r. Mgr. – SP so sociálno-ekonomickými problémami: doc. PhDr. Bundzelová\, PhD / PhDr. Kročková – Online Webex
URL:https://fsvladislava.sk/rozvrh/sp-1-r-mgr-sp-s-osobami-so-socialno-ekonomickymi-problemami-1-cast-zasadacka/
LOCATION:Online – Webex
CATEGORIES:Odbor Sociálna práca,SP - 1. ročník Mgr.
END:VEVENT
BEGIN:VEVENT
DTSTART;TZID=Europe/Bratislava:20260427T080000
DTEND;TZID=Europe/Bratislava:20260428T120000
DTSTAMP:20260425T173347
CREATED:20251013T061645Z
LAST-MODIFIED:20251013T061645Z
UID:48370-1777276800-1777377600@fsvladislava.sk
SUMMARY:OŠE 4.r. Bc. - Zber Bc. prác - seminárna miestnosť
DESCRIPTION:OŠE 4.r. Bc. – Zber Bc. prác – seminárna miestnosť
URL:https://fsvladislava.sk/rozvrh/ose-4-r-bc-zber-bc-prac-seminarna-miestnost/
LOCATION:FNsP NZ  – Seminárna miestnosť
CATEGORIES:Odbor Ošetrovateľstvo,OŠE - 4. ročník Bc.
END:VEVENT
BEGIN:VEVENT
DTSTART;TZID=Europe/Bratislava:20260427T123000
DTEND;TZID=Europe/Bratislava:20260427T133000
DTSTAMP:20260425T173347
CREATED:20260413T052334Z
LAST-MODIFIED:20260413T052334Z
UID:50011-1777293000-1777296600@fsvladislava.sk
SUMMARY:FNsP NZ - Porada vedúcich sestier - Zasadačka
DESCRIPTION:FNsP NZ – Porada vedúcich sestier – Zasadačka
URL:https://fsvladislava.sk/rozvrh/fnsp-nz-porada-veducich-sestier-zasadacka-3/
LOCATION:FNsP NZ – Zasadačka
CATEGORIES:FNsP NZ
END:VEVENT
BEGIN:VEVENT
DTSTART;TZID=Europe/Bratislava:20260427T140000
DTEND;TZID=Europe/Bratislava:20260427T140000
DTSTAMP:20260425T173347
CREATED:20260323T133838Z
LAST-MODIFIED:20260323T133838Z
UID:49876-1777298400-1777298400@fsvladislava.sk
SUMMARY:PA 2.r. Bc. - SK Pôrodníctvo III. - Seminárna miestnosť
DESCRIPTION:PA 2.r. Bc. – Skúška: Pôrodníctvo III. – prof. Bartkovjak – Seminárna miestnosť
URL:https://fsvladislava.sk/rozvrh/pa-2-r-bc-sk-porodnictvo-iii-seminarna-miestnost/
LOCATION:FNsP NZ  – Seminárna miestnosť
CATEGORIES:Odbor Pôrodná asistencia,PA - 2. ročník Bc.
END:VEVENT
BEGIN:VEVENT
DTSTART;TZID=Europe/Bratislava:20260427T150000
DTEND;TZID=Europe/Bratislava:20260427T150000
DTSTAMP:20260425T173347
CREATED:20260410T100834Z
LAST-MODIFIED:20260410T100834Z
UID:50009-1777302000-1777302000@fsvladislava.sk
SUMMARY:SP 1.r. Mgr. - Vyhodnotenie odbornej praxe - Zasadačka
DESCRIPTION:SP 1.r. Mgr. – Vyhodnotenie odbornej praxe – PhDr. Buzalová\, PhD.\, univ. doc. – Zasadačka
URL:https://fsvladislava.sk/rozvrh/sp-1-r-mgr-vyhodnotenie-odbornej-praxe-zasadacka/
LOCATION:FNsP NZ – Zasadačka
CATEGORIES:Odbor Sociálna práca,SP - 1. ročník Mgr.
END:VEVENT
BEGIN:VEVENT
DTSTART;TZID=Europe/Bratislava:20260427T160000
DTEND;TZID=Europe/Bratislava:20260427T220000
DTSTAMP:20260425T173347
CREATED:20260325T072519Z
LAST-MODIFIED:20260325T072519Z
UID:49895-1777305600-1777327200@fsvladislava.sk
SUMMARY:OŠE 2.r. Bc. - Ošetrovateľstvo vo fyzioterapii - Predtermín SK - Elix
DESCRIPTION:OŠE 2.r. Bc. – Predtermín SK: Ošetrovateľstvo vo fyzioterapii – PhDr. M. Vavro\, PhD. – Elix
URL:https://fsvladislava.sk/rozvrh/ose-2-r-bc-osetrovatelstvo-vo-fyzioterapii-predtermin-sk-elix/
LOCATION:Online – Elix
CATEGORIES:Odbor Ošetrovateľstvo,OŠE - 2. ročník Bc.
END:VEVENT
BEGIN:VEVENT
DTSTART;TZID=Europe/Bratislava:20260428T083000
DTEND;TZID=Europe/Bratislava:20260428T100000
DTSTAMP:20260425T173347
CREATED:20260325T071332Z
LAST-MODIFIED:20260325T071332Z
UID:49889-1777365000-1777370400@fsvladislava.sk
SUMMARY:FNsP NZ - Operatívna porada vedúcich zamestnancov - Zasadačka
DESCRIPTION:FNsP NZ – Operatívna porada vedúcich zamestnancov – Zasadačka
URL:https://fsvladislava.sk/rozvrh/fnsp-nz-operativna-porada-veducich-zamestnancov-zasadacka-99/
LOCATION:FNsP NZ – Zasadačka
CATEGORIES:FNsP NZ
END:VEVENT
BEGIN:VEVENT
DTSTART;TZID=Europe/Bratislava:20260428T123000
DTEND;TZID=Europe/Bratislava:20260428T150000
DTSTAMP:20260425T173347
CREATED:20260325T071407Z
LAST-MODIFIED:20260325T071407Z
UID:49891-1777379400-1777388400@fsvladislava.sk
SUMMARY:FNsP NZ - Seminár AI - Zasadačka
DESCRIPTION:FNsP NZ – Seminár AI – Zasadačka
URL:https://fsvladislava.sk/rozvrh/fnsp-nz-seminar-ai-zasadacka/
LOCATION:FNsP NZ – Zasadačka
CATEGORIES:FNsP NZ
END:VEVENT
BEGIN:VEVENT
DTSTART;TZID=Europe/Bratislava:20260428T160000
DTEND;TZID=Europe/Bratislava:20260428T190000
DTSTAMP:20260425T173347
CREATED:20260126T063115Z
LAST-MODIFIED:20260126T063115Z
UID:49347-1777392000-1777402800@fsvladislava.sk
SUMMARY:PA 2.r. Bc. - ANU - ZOOM
DESCRIPTION:PA 2.r. Bc. – ANU – dr. Sádovská  – Online-ZOOM
URL:https://fsvladislava.sk/rozvrh/pa-2-r-bc-anu-zoom-2/
LOCATION:Online – Zoom
CATEGORIES:Odbor Pôrodná asistencia,PA - 2. ročník Bc.
END:VEVENT
BEGIN:VEVENT
DTSTART;TZID=Europe/Bratislava:20260429T083000
DTEND;TZID=Europe/Bratislava:20260429T110000
DTSTAMP:20260425T173347
CREATED:20260317T141031Z
LAST-MODIFIED:20260317T141031Z
UID:49822-1777451400-1777460400@fsvladislava.sk
SUMMARY:OŠE 3.r. Bc. - SK Komunitné ošetrovateľstvo - Seminárna miestnosť
DESCRIPTION:OŠE 3.r. Bc.  – Skúška: Komunitné ošetrovateľstvo – PhDr. Nagyová\, PhD. – Seminárna miestnosť
URL:https://fsvladislava.sk/rozvrh/ose-3-r-bc-sk-komunitne-osetrovatelstvo-seminarna-miestnost/
LOCATION:FNsP NZ  – Seminárna miestnosť
CATEGORIES:Odbor Ošetrovateľstvo,OŠE - 3. ročník Bc.
END:VEVENT
BEGIN:VEVENT
DTSTART;TZID=Europe/Bratislava:20260429T090000
DTEND;TZID=Europe/Bratislava:20260429T103000
DTSTAMP:20260425T173347
CREATED:20260316T080925Z
LAST-MODIFIED:20260316T080925Z
UID:49803-1777453200-1777458600@fsvladislava.sk
SUMMARY:OŠE 3.r. Bc. - SK Ošetrovateľstvo v starostlivosti o mentálne zdravie  v psychiatrii - Kinosála
DESCRIPTION:OŠE 3.r. Bc. – Skúška: Ošetrovateľstvo v starostlivosti o mentálne zdravie v psychiatrii – Kinosála
URL:https://fsvladislava.sk/rozvrh/ose-3-r-bc-sk-osetrovatelstvo-v-starostlivosti-o-mentalne-zdravie-v-psychiatrii-kinosala/
LOCATION:FNsP NZ  – Kinosála
CATEGORIES:Odbor Ošetrovateľstvo,OŠE - 3. ročník Bc.
END:VEVENT
BEGIN:VEVENT
DTSTART;TZID=Europe/Bratislava:20260429T090000
DTEND;TZID=Europe/Bratislava:20260429T153000
DTSTAMP:20260425T173347
CREATED:20260109T072342Z
LAST-MODIFIED:20260109T072342Z
UID:49031-1777453200-1777476600@fsvladislava.sk
SUMMARY:PA 1.r. Bc. - Pôrodná asistencia I. - Zasadačka
DESCRIPTION:PA 1.r. Bc. – Pôrodná asistencia I. – prof. Matulníková – Zasadačka
URL:https://fsvladislava.sk/rozvrh/pa-1-r-bc-porodna-asistencia-i-zasadacka-9/
LOCATION:FNsP NZ – Zasadačka
CATEGORIES:Odbor Pôrodná asistencia,PA - 1. ročník Bc.
END:VEVENT
BEGIN:VEVENT
DTSTART;TZID=Europe/Bratislava:20260429T103000
DTEND;TZID=Europe/Bratislava:20260429T163000
DTSTAMP:20260425T173347
CREATED:20260416T075257Z
LAST-MODIFIED:20260416T075257Z
UID:50064-1777458600-1777480200@fsvladislava.sk
SUMMARY:OŠE 3.r. Bc. - Ošetrovateľstvo v gynekológii a pôrodníctve I. - Kinosála
DESCRIPTION:OŠE 3.r. Bc. – Ošetrovateľstvo v gynekológii a pôrodníctve I. – prof. Phdr. Ľ. Libová\, PhD.\, MPH – Kinosála
URL:https://fsvladislava.sk/rozvrh/ose-3-r-bc-osetrovatelstvo-v-gynekologii-a-porodnictve-i-kinosala/
LOCATION:FNsP NZ  – Kinosála
CATEGORIES:Odbor Ošetrovateľstvo,OŠE - 3. ročník Bc.
END:VEVENT
BEGIN:VEVENT
DTSTART;TZID=Europe/Bratislava:20260430T090000
DTEND;TZID=Europe/Bratislava:20260430T113000
DTSTAMP:20260425T173347
CREATED:20260325T104554Z
LAST-MODIFIED:20260325T104554Z
UID:49907-1777539600-1777548600@fsvladislava.sk
SUMMARY:OŠE 4.r. Bc. - SK Hygiena a preventívna medicína - Kinosála
DESCRIPTION:OŠE 4.r. Bc. – Skúška – Hygiena a preventívna medicína  PhDr. P. Hoppan – Kinosála
URL:https://fsvladislava.sk/rozvrh/ose-4-r-bc-sk-hygiena-a-preventivna-medicina-kinosala-3/
LOCATION:FNsP NZ  – Kinosála
CATEGORIES:Odbor Ošetrovateľstvo,OŠE - 4. ročník Bc.
END:VEVENT
BEGIN:VEVENT
DTSTART;TZID=Europe/Bratislava:20260430T090000
DTEND;TZID=Europe/Bratislava:20260430T153000
DTSTAMP:20260425T173347
CREATED:20260109T072355Z
LAST-MODIFIED:20260109T072355Z
UID:49033-1777539600-1777563000@fsvladislava.sk
SUMMARY:PA 1.r. Bc. - Pôrodná asistencia I. - Zasadačka
DESCRIPTION:PA 1.r. Bc. – Pôrodná asistencia I. – prof. Matulníková – Zasadačka
URL:https://fsvladislava.sk/rozvrh/pa-1-r-bc-porodna-asistencia-i-zasadacka-10/
LOCATION:FNsP NZ – Zasadačka
CATEGORIES:Odbor Pôrodná asistencia,PA - 1. ročník Bc.
END:VEVENT
BEGIN:VEVENT
DTSTART;TZID=Europe/Bratislava:20260502T080000
DTEND;TZID=Europe/Bratislava:20260502T080000
DTSTAMP:20260425T173347
CREATED:20260309T123752Z
LAST-MODIFIED:20260309T123828Z
UID:49761-1777708800-1777708800@fsvladislava.sk
SUMMARY:SP 1.r. Bc. - SK Základy etiky - Kinosála
DESCRIPTION:SP 1.r. Bc.  – Skúška: Základy etiky – Dr. Moravík – Kinosála
URL:https://fsvladislava.sk/rozvrh/sp-1-r-bc-sk-zaklady-etiky-kinosala-2/
LOCATION:FNsP NZ  – Kinosála
CATEGORIES:Odbor Sociálna práca,SP - 1. ročník Bc.
END:VEVENT
BEGIN:VEVENT
DTSTART;TZID=Europe/Bratislava:20260502T080000
DTEND;TZID=Europe/Bratislava:20260502T120000
DTSTAMP:20260425T173347
CREATED:20260316T071823Z
LAST-MODIFIED:20260316T071823Z
UID:49801-1777708800-1777723200@fsvladislava.sk
SUMMARY:SP 2.r. Bc. - SP s marginalizovanými rómskymi komunitami - Zoom
DESCRIPTION:SP 2.r. Bc. –  SP s marginalizovanými rómskymi komunitami – doc. Mgr. Ludvigh Cintulová\, PhD.\, univ. doc. – Zoom
URL:https://fsvladislava.sk/rozvrh/sp-2-r-bc-sp-s-marginalizovanymi-romskymi-komunitami-zoom-2/
LOCATION:Online – Zoom
CATEGORIES:Odbor Sociálna práca,SP - 2. ročník Bc.
END:VEVENT
BEGIN:VEVENT
DTSTART;TZID=Europe/Bratislava:20260504T090000
DTEND;TZID=Europe/Bratislava:20260504T150000
DTSTAMP:20260425T173347
CREATED:20250121T151139Z
LAST-MODIFIED:20260203T140107Z
UID:46796-1777885200-1777906800@fsvladislava.sk
SUMMARY:OŠE 1.r. Bc. - Biochémia - Webex
DESCRIPTION:OŠE 1.r. Bc. – Biochémia – prof. Novotný – Omline-Webex
URL:https://fsvladislava.sk/rozvrh/ose-1-r-bc-prednaska-kinosala-3/
LOCATION:Online – Webex
CATEGORIES:Odbor Ošetrovateľstvo,OŠE - 1. ročník Bc.
END:VEVENT
BEGIN:VEVENT
DTSTART;TZID=Europe/Bratislava:20260504T090000
DTEND;TZID=Europe/Bratislava:20260504T160000
DTSTAMP:20260425T173347
CREATED:20241022T051152Z
LAST-MODIFIED:20260423T052754Z
UID:45700-1777885200-1777910400@fsvladislava.sk
SUMMARY:OŠE 2.r. Bc. - Zdravotnícka a sociálna psychológia - Kinosála
DESCRIPTION:OŠE 2.r. Bc. – Prednáška: Zdravotnícka a sociálna psychológia – doc. Šovčíková – Kinosála
URL:https://fsvladislava.sk/rozvrh/ose-2-r-bc-sk-klinicka-propedeutika-kinosala-3/
LOCATION:FNsP NZ  – Kinosála
CATEGORIES:Odbor Ošetrovateľstvo,OŠE - 2. ročník Bc.
END:VEVENT
BEGIN:VEVENT
DTSTART;TZID=Europe/Bratislava:20260504T100000
DTEND;TZID=Europe/Bratislava:20260508T150000
DTSTAMP:20260425T173347
CREATED:20251002T083413Z
LAST-MODIFIED:20251002T083413Z
UID:48283-1777888800-1778252400@fsvladislava.sk
SUMMARY:Fakulta sv. Ladislava - OŠE Bc. praktická ŠS - Zasadačka
DESCRIPTION:Fakulta sv. Ladislava – OŠE Bc. praktická ŠS – Zasadačka
URL:https://fsvladislava.sk/rozvrh/fakulta-sv-ladislava-ose-bc-prakticka-ss-zasadacka/
LOCATION:FNsP NZ – Zasadačka
CATEGORIES:Fakulta
END:VEVENT
BEGIN:VEVENT
DTSTART;TZID=Europe/Bratislava:20260504T100000
DTEND;TZID=Europe/Bratislava:20260508T150000
DTSTAMP:20260425T173347
CREATED:20251002T083441Z
LAST-MODIFIED:20251002T083441Z
UID:48282-1777888800-1778252400@fsvladislava.sk
SUMMARY:Fakulta sv. Ladislava - OŠE Bc. praktická ŠS - Seminárna miestnosť
DESCRIPTION:Fakulta sv. Ladislava – OŠE Bc. praktická ŠS – Seminárna miestnosť
URL:https://fsvladislava.sk/rozvrh/fakulta-sv-ladislava-ose-bc-prakticka-ss-seminarna-miestnost/
LOCATION:FNsP NZ  – Seminárna miestnosť
CATEGORIES:Fakulta
END:VEVENT
BEGIN:VEVENT
DTSTART;TZID=Europe/Bratislava:20260505T083000
DTEND;TZID=Europe/Bratislava:20260505T100000
DTSTAMP:20260425T173347
CREATED:20250903T060859Z
LAST-MODIFIED:20250903T060859Z
UID:47779-1777969800-1777975200@fsvladislava.sk
SUMMARY:FNsP NZ - Operatívna porada vedúcich zamestnancov - Zasadačka
DESCRIPTION:FNsP NZ – Operatívna porada vedúcich zamestnancov – Zasadačka
URL:https://fsvladislava.sk/rozvrh/fnsp-nz-operativna-porada-veducich-zamestnancov-zasadacka-67/
LOCATION:FNsP NZ – Zasadačka
CATEGORIES:FNsP NZ
END:VEVENT
BEGIN:VEVENT
DTSTART;TZID=Europe/Bratislava:20260505T130000
DTEND;TZID=Europe/Bratislava:20260505T130000
DTSTAMP:20260425T173347
CREATED:20260105T125956Z
LAST-MODIFIED:20260105T125956Z
UID:48924-1777986000-1777986000@fsvladislava.sk
SUMMARY:PA 3.r. Bc. - Zber BP + iných písomností (celý ročník) - Seminárna miestnosť
DESCRIPTION:PA 3.r. Bc. – Zber BP + iných písomností  – Seminárna miestnosť
URL:https://fsvladislava.sk/rozvrh/pa-3-r-bc-zber-bp-inych-pisomnosti-cely-rocnik-seminarna-miestnost/
LOCATION:FNsP NZ  – Seminárna miestnosť
CATEGORIES:Odbor Pôrodná asistencia,PA - 3. ročník Bc.
END:VEVENT
END:VCALENDAR