BEGIN:VCALENDAR
VERSION:2.0
PRODID:-//Fakulta zdravotníctva a sociálnej práce sv. Ladislava, Nové Zámky - ECPv6.15.17//NONSGML v1.0//EN
CALSCALE:GREGORIAN
METHOD:PUBLISH
X-ORIGINAL-URL:https://fsvladislava.sk
X-WR-CALDESC:Udalosti pre Fakulta zdravotníctva a sociálnej práce sv. Ladislava, Nové Zámky
REFRESH-INTERVAL;VALUE=DURATION:PT1H
X-Robots-Tag:noindex
X-PUBLISHED-TTL:PT1H
BEGIN:VTIMEZONE
TZID:Europe/Bratislava
BEGIN:DAYLIGHT
TZOFFSETFROM:+0100
TZOFFSETTO:+0200
TZNAME:CEST
DTSTART:20240331T010000
END:DAYLIGHT
BEGIN:STANDARD
TZOFFSETFROM:+0200
TZOFFSETTO:+0100
TZNAME:CET
DTSTART:20241027T010000
END:STANDARD
BEGIN:DAYLIGHT
TZOFFSETFROM:+0100
TZOFFSETTO:+0200
TZNAME:CEST
DTSTART:20250330T010000
END:DAYLIGHT
BEGIN:STANDARD
TZOFFSETFROM:+0200
TZOFFSETTO:+0100
TZNAME:CET
DTSTART:20251026T010000
END:STANDARD
BEGIN:DAYLIGHT
TZOFFSETFROM:+0100
TZOFFSETTO:+0200
TZNAME:CEST
DTSTART:20260329T010000
END:DAYLIGHT
BEGIN:STANDARD
TZOFFSETFROM:+0200
TZOFFSETTO:+0100
TZNAME:CET
DTSTART:20261025T010000
END:STANDARD
END:VTIMEZONE
BEGIN:VEVENT
DTSTART;TZID=Europe/Bratislava:20251105T090000
DTEND;TZID=Europe/Bratislava:20251105T170000
DTSTAMP:20260426T041559
CREATED:20250903T051648Z
LAST-MODIFIED:20250903T051708Z
UID:47735-1762333200-1762362000@fsvladislava.sk
SUMMARY:PA 3.r. Bc. – Starostlivosť o novorodenca a dojča II. - Zasadačka
DESCRIPTION:PA 3.r. Bc. – Starostlivosť o novorodenca a dojča II. – Mgr. Galková – Zasadačka
URL:https://fsvladislava.sk/rozvrh/pa-3-r-bc-starostlivost-o-novorodenca-a-dojca-ii-zasadacka-6/
LOCATION:FNsP NZ – Zasadačka
CATEGORIES:Odbor Pôrodná asistencia,PA - 3. ročník Bc.
END:VEVENT
BEGIN:VEVENT
DTSTART;TZID=Europe/Bratislava:20251105T140000
DTEND;TZID=Europe/Bratislava:20251105T140000
DTSTAMP:20260426T041559
CREATED:20251013T055548Z
LAST-MODIFIED:20251013T055548Z
UID:48364-1762351200-1762351200@fsvladislava.sk
SUMMARY:OŠE 1.r. Bc. - Ošetrovateľské postupy a techniky I. - Modrý dom
DESCRIPTION:OŠE 1.r. Bc. – Ošetrovateľské postupy a techniky I. – PhDr. A. Barteková – Modrý dom
URL:https://fsvladislava.sk/rozvrh/ose-1-r-bc-osetrovatelske-postupy-a-techniky-i-modry-dom-7/
LOCATION:SZŠ EK – Modrý dom
CATEGORIES:Odbor Ošetrovateľstvo,OŠE - 1. ročník Bc.
END:VEVENT
BEGIN:VEVENT
DTSTART;TZID=Europe/Bratislava:20251105T140000
DTEND;TZID=Europe/Bratislava:20251105T180000
DTSTAMP:20260426T041559
CREATED:20251020T063710Z
LAST-MODIFIED:20251020T063956Z
UID:48426-1762351200-1762365600@fsvladislava.sk
SUMMARY:OŠE 4.r. Bc. - SK Paliatívna a hospicová starostlivosť (PE) - Seminárna miestnosť
DESCRIPTION:OŠE 4.r. Bc. – Sk predtermín: Paliatívna a hospicová starostlivosť (PE) – Dr. Bystrická – Seminárna miestnosť
URL:https://fsvladislava.sk/rozvrh/ose-4-r-bc-sk-paliativna-a-hospicova-starostlivost-seminarna-miestnost-3/
LOCATION:FNsP NZ  – Seminárna miestnosť
CATEGORIES:Odbor Ošetrovateľstvo,OŠE - 4. ročník Bc.
END:VEVENT
BEGIN:VEVENT
DTSTART;TZID=Europe/Bratislava:20251106T083000
DTEND;TZID=Europe/Bratislava:20251106T150000
DTSTAMP:20260426T041559
CREATED:20240905T074926Z
LAST-MODIFIED:20251105T134130Z
UID:45065-1762417800-1762441200@fsvladislava.sk
SUMMARY:OŠE 4.r. Bc. - Manažment v ošetrovateľstve - Kinosála
DESCRIPTION:OŠE 4.r. Bc. – Manažment v ošetrovateľstve – PhDr. Kollárová – Kinosála
URL:https://fsvladislava.sk/rozvrh/ose-4-r-bc-prednaska-kinosala-4/
LOCATION:FNsP NZ  – Kinosála
CATEGORIES:Odbor Ošetrovateľstvo,OŠE - 4. ročník Bc.
END:VEVENT
BEGIN:VEVENT
DTSTART;TZID=Europe/Bratislava:20251106T090000
DTEND;TZID=Europe/Bratislava:20251106T153000
DTSTAMP:20260426T041559
CREATED:20240923T115410Z
LAST-MODIFIED:20250916T092500Z
UID:45371-1762419600-1762443000@fsvladislava.sk
SUMMARY:PA 3.r. Bc. - Zdravotnícke právo - Zasadačka
DESCRIPTION:PA 3.r. Bc. – Zdravotnícke právo – prof. Šimoňák – Zasadačka
URL:https://fsvladislava.sk/rozvrh/pa-3-r-bc-zdravotnicke-pravo-zoom-2/
LOCATION:FNsP NZ – Zasadačka
CATEGORIES:Odbor Pôrodná asistencia,PA - 3. ročník Bc.
END:VEVENT
BEGIN:VEVENT
DTSTART;TZID=Europe/Bratislava:20251106T110000
DTEND;TZID=Europe/Bratislava:20251106T180000
DTSTAMP:20260426T041559
CREATED:20250916T100553Z
LAST-MODIFIED:20250916T100628Z
UID:48081-1762426800-1762452000@fsvladislava.sk
SUMMARY:PA 1.r. Bc. - Ošetrovateľské techniky - učebňa PA 2. posch.
DESCRIPTION:PA 1.r. Bc. – Ošetrovateľské techniky – PhDr. Bc. Bednáriková\, PhD.  univ. doc. – učebňa PA 2. posch.
URL:https://fsvladislava.sk/rozvrh/pa-1-r-bc-osetrovatelske-techniky-ucebna-pa-2-posch-7/
LOCATION:FNsP NZ – učebňa PA 2. posch.
CATEGORIES:Odbor Pôrodná asistencia,PA - 1. ročník Bc.
END:VEVENT
BEGIN:VEVENT
DTSTART;TZID=Europe/Bratislava:20251106T160000
DTEND;TZID=Europe/Bratislava:20251106T173000
DTSTAMP:20260426T041559
CREATED:20251104T112348Z
LAST-MODIFIED:20251104T112348Z
UID:48500-1762444800-1762450200@fsvladislava.sk
SUMMARY:SP 1.r. Bc. - Základy filozofie - Zoom
DESCRIPTION:SP 1.r. Bc. – Základy filozofie –  doc. ThDr. Peter Mlynarčík\, PhD. – Online-Zoom
URL:https://fsvladislava.sk/rozvrh/sp-1-r-bc-zaklady-filozofie-zoom/
LOCATION:Online – Zoom
CATEGORIES:Odbor Sociálna práca,SP - 1. ročník Bc.
END:VEVENT
BEGIN:VEVENT
DTSTART;TZID=Europe/Bratislava:20251107T080000
DTEND;TZID=Europe/Bratislava:20251107T120000
DTSTAMP:20260426T041559
CREATED:20250916T101826Z
LAST-MODIFIED:20250917T054612Z
UID:48094-1762502400-1762516800@fsvladislava.sk
SUMMARY:OŠE / PA 1.r. Bc.  - ANF  II.- Kinosála
DESCRIPTION:OŠE / PA 1.r. Bc. – ANF  II. – Dr. Kocsis – Kinosála
URL:https://fsvladislava.sk/rozvrh/pa-1-r-bc-anf-ii-kinosala/
LOCATION:FNsP NZ  – Kinosála
CATEGORIES:Odbor Ošetrovateľstvo,Odbor Pôrodná asistencia,OŠE - 1. ročník Bc.,PA - 1. ročník Bc.
END:VEVENT
BEGIN:VEVENT
DTSTART;TZID=Europe/Bratislava:20251107T100000
DTEND;TZID=Europe/Bratislava:20251107T130000
DTSTAMP:20260426T041559
CREATED:20251011T081756Z
LAST-MODIFIED:20251011T081756Z
UID:48349-1762509600-1762520400@fsvladislava.sk
SUMMARY:FNsP NZ - Školenie HER - Zasadačka
DESCRIPTION:FNsP NZ – Školenie HER – Zasadačka
URL:https://fsvladislava.sk/rozvrh/fnsp-nz-skolenie-her-zasadacka-60/
LOCATION:FNsP NZ – Zasadačka
CATEGORIES:FNsP NZ
END:VEVENT
BEGIN:VEVENT
DTSTART;TZID=Europe/Bratislava:20251107T130000
DTEND;TZID=Europe/Bratislava:20251107T180000
DTSTAMP:20260426T041559
CREATED:20231023T095020Z
LAST-MODIFIED:20251104T112723Z
UID:41725-1762520400-1762538400@fsvladislava.sk
SUMMARY:SP 2.r. Mgr. - Komunitná SP - Zasadačka
DESCRIPTION:SP 2.r. Mgr. –  Komunitná SP – Dr. Demčák – Zasadačka
URL:https://fsvladislava.sk/rozvrh/sp-2-r-mgr-sk-komunitna-sp-zasadacka/
LOCATION:FNsP NZ – Zasadačka
CATEGORIES:Odbor Sociálna práca,SP - 2. ročník Mgr.
END:VEVENT
BEGIN:VEVENT
DTSTART;TZID=Europe/Bratislava:20251108T080000
DTEND;TZID=Europe/Bratislava:20251108T080000
DTSTAMP:20260426T041559
CREATED:20231106T115958Z
LAST-MODIFIED:20250916T113012Z
UID:41838-1762588800-1762588800@fsvladislava.sk
SUMMARY:SP 2.r. Mgr. - Penitenciárna a postpenitenciárna SP - Zasadačka
DESCRIPTION:SP 2.r. Mgr. – Penitenciárna a postpenitenciárna SP– Dr. Lobodáš – Zasadačka
URL:https://fsvladislava.sk/rozvrh/sp-2-r-mgr-sk-penitenciarna-a-postpenitenciarna-sp-zasadacka/
LOCATION:FNsP NZ – Zasadačka
CATEGORIES:Odbor Sociálna práca,SP - 2. ročník Mgr.
END:VEVENT
BEGIN:VEVENT
DTSTART;TZID=Europe/Bratislava:20251108T090000
DTEND;TZID=Europe/Bratislava:20251108T180000
DTSTAMP:20260426T041559
CREATED:20251027T063337Z
LAST-MODIFIED:20251027T063337Z
UID:48465-1762592400-1762624800@fsvladislava.sk
SUMMARY:PA 1.r. Bc. - Ošetrovateľské techniky - SZŠ EK - Modrý dom
DESCRIPTION:PA 1.r. Bc. – Ošetrovateľské techniky – Dr. Molnárová – SZŠ EK – Modrý dom – 2. skupina
URL:https://fsvladislava.sk/rozvrh/pa-1-r-bc-osetrovatelske-techniky-szs-ek-modry-dom-6/
LOCATION:SZŠ EK – Modrý dom
CATEGORIES:Odbor Pôrodná asistencia,PA - 1. ročník Bc.
END:VEVENT
BEGIN:VEVENT
DTSTART;TZID=Europe/Bratislava:20251110T080000
DTEND;TZID=Europe/Bratislava:20251110T143000
DTSTAMP:20260426T041559
CREATED:20240909T114855Z
LAST-MODIFIED:20250916T101114Z
UID:45089-1762761600-1762785000@fsvladislava.sk
SUMMARY:OŠE 1.r. Mgr. - Naliehavé stavy a ošetrovateľstvo - Kinosála
DESCRIPTION:OŠE 1.r. Mgr. – Naliehavé stavy a ošetrovateľstvo – Dr. Molnárová – Kinosála
URL:https://fsvladislava.sk/rozvrh/ose-1-r-mgr-prednaskovy-bok-kinosala/
LOCATION:FNsP NZ  – Kinosála
CATEGORIES:Odbor Ošetrovateľstvo,OŠE - 1. ročník Mgr.
END:VEVENT
BEGIN:VEVENT
DTSTART;TZID=Europe/Bratislava:20251110T140000
DTEND;TZID=Europe/Bratislava:20251110T180000
DTSTAMP:20260426T041559
CREATED:20250916T094250Z
LAST-MODIFIED:20250916T094250Z
UID:48053-1762783200-1762797600@fsvladislava.sk
SUMMARY:PA 2.r. Bc. - Pôrodníctvo II. - Zasadačka
DESCRIPTION:PA 2.r. Bc. – Pôrodníctvo II. – prof. Bartkovjak – Zasadačka
URL:https://fsvladislava.sk/rozvrh/pa-2-r-bc-porodnictvo-ii-zasadacka-12/
LOCATION:FNsP NZ – Zasadačka
CATEGORIES:Odbor Pôrodná asistencia,PA - 2. ročník Bc.
END:VEVENT
BEGIN:VEVENT
DTSTART;TZID=Europe/Bratislava:20251111T083000
DTEND;TZID=Europe/Bratislava:20251111T100000
DTSTAMP:20260426T041559
CREATED:20240725T061310Z
LAST-MODIFIED:20240725T061310Z
UID:44881-1762849800-1762855200@fsvladislava.sk
SUMMARY:FNsP NZ - Operatívna porada vedúcich zamestnancov - Zasadačka
DESCRIPTION:FNsP NZ – Operatívna porada vedúcich zamestnancov – Zasadačka
URL:https://fsvladislava.sk/rozvrh/fnsp-nz-operativna-porada-veducich-zamestnancov-zasadacka-40/
LOCATION:FNsP NZ – Zasadačka
CATEGORIES:FNsP NZ
END:VEVENT
BEGIN:VEVENT
DTSTART;TZID=Europe/Bratislava:20251111T090000
DTEND;TZID=Europe/Bratislava:20251111T090000
DTSTAMP:20260426T041559
CREATED:20251021T113203Z
LAST-MODIFIED:20251021T113203Z
UID:48443-1762851600-1762851600@fsvladislava.sk
SUMMARY:OŠE 2.r. Bc. - SK Ošetrovateľstvo II. - Seminárna miestnosť
DESCRIPTION:OŠE 2.r. Bc. – Skúška: Ošetrovateľstvo II. – Dr. Bystrická – Seminárna miestnosť
URL:https://fsvladislava.sk/rozvrh/ose-2-r-bc-sk-osetrovatelstvo-ii-seminarna-miestnost/
LOCATION:FNsP NZ  – Seminárna miestnosť
CATEGORIES:Odbor Ošetrovateľstvo,OŠE - 2. ročník Bc.
END:VEVENT
BEGIN:VEVENT
DTSTART;TZID=Europe/Bratislava:20251111T090000
DTEND;TZID=Europe/Bratislava:20251111T153000
DTSTAMP:20260426T041559
CREATED:20250910T060003Z
LAST-MODIFIED:20250910T060003Z
UID:47922-1762851600-1762875000@fsvladislava.sk
SUMMARY:PA 3.r. Bc. – Oše. proces v PA III. - Zasadačka
DESCRIPTION:PA 3.r. Bc. – Oše. proces v PA III. – prof. Matulníková – Zasadačka
URL:https://fsvladislava.sk/rozvrh/pa-3-r-bc-ose-proces-v-pa-iii-zasadacka-5/
LOCATION:FNsP NZ – Zasadačka
CATEGORIES:Odbor Pôrodná asistencia,PA - 3. ročník Bc.
END:VEVENT
BEGIN:VEVENT
DTSTART;TZID=Europe/Bratislava:20251111T140000
DTEND;TZID=Europe/Bratislava:20251111T180000
DTSTAMP:20260426T041559
CREATED:20251027T063413Z
LAST-MODIFIED:20251027T063413Z
UID:48469-1762869600-1762884000@fsvladislava.sk
SUMMARY:PA 1.r. Bc. - Ošetrovateľské techniky - SZŠ EK - Modrý dom
DESCRIPTION:PA 1.r. Bc. – Ošetrovateľské techniky – Dr. Molnárová – SZŠ EK – Modrý dom – 2. skupina
URL:https://fsvladislava.sk/rozvrh/pa-1-r-bc-osetrovatelske-techniky-szs-ek-modry-dom-8/
LOCATION:SZŠ EK – Modrý dom
CATEGORIES:Odbor Pôrodná asistencia,PA - 1. ročník Bc.
END:VEVENT
BEGIN:VEVENT
DTSTART;TZID=Europe/Bratislava:20251111T140000
DTEND;TZID=Europe/Bratislava:20251111T210000
DTSTAMP:20260426T041559
CREATED:20251020T062324Z
LAST-MODIFIED:20251107T062830Z
UID:48421-1762869600-1762894800@fsvladislava.sk
SUMMARY:OŠE 4.r. Bc. - Oše. v gyn.-pôr. II. - Webex
DESCRIPTION:OŠE 4.r. Bc. – Oše. v gyn.-pôr. II. – prof. Libová – Webex
URL:https://fsvladislava.sk/rozvrh/ose-4-r-bc-ose-v-gyn-por-ii-webex/
LOCATION:Online – Webex
CATEGORIES:Odbor Ošetrovateľstvo,OŠE - 4. ročník Bc.
END:VEVENT
BEGIN:VEVENT
DTSTART;TZID=Europe/Bratislava:20251111T150000
DTEND;TZID=Europe/Bratislava:20251111T210000
DTSTAMP:20260426T041559
CREATED:20230908T071839Z
LAST-MODIFIED:20250917T120100Z
UID:40752-1762873200-1762894800@fsvladislava.sk
SUMMARY:OŠE 1.r. Bc. - Informatika v zdravotníctve - Elix
DESCRIPTION:OŠE 1.r. Bc. – Informatika v zdravotníctve – Ing. Kovács- Online – Elix
URL:https://fsvladislava.sk/rozvrh/ose-1-r-bc-informatika-v-zdravotnictve-elix/
LOCATION:Online – Elix
CATEGORIES:Odbor Ošetrovateľstvo,OŠE - 1. ročník Bc.
END:VEVENT
BEGIN:VEVENT
DTSTART;TZID=Europe/Bratislava:20251111T150000
DTEND;TZID=Europe/Bratislava:20251111T213000
DTSTAMP:20260426T041559
CREATED:20230921T054636Z
LAST-MODIFIED:20250919T052848Z
UID:41039-1762873200-1762896600@fsvladislava.sk
SUMMARY:PA 2.r. Bc. - ZIS - Elix
DESCRIPTION:PA 2.r. Bc. – ZIS – Ing. Kovács – Online – Elix
URL:https://fsvladislava.sk/rozvrh/pa-2-r-bc-zis-elix/
LOCATION:Online – Elix
CATEGORIES:Odbor Pôrodná asistencia,PA - 2. ročník Bc.
END:VEVENT
BEGIN:VEVENT
DTSTART;TZID=Europe/Bratislava:20251112T080000
DTEND;TZID=Europe/Bratislava:20251112T090000
DTSTAMP:20260426T041559
CREATED:20241204T115820Z
LAST-MODIFIED:20241204T115820Z
UID:46277-1762934400-1762938000@fsvladislava.sk
SUMMARY:FNsP NZ - Školenie HER - Zasadačka
DESCRIPTION:FNsP NZ – Školenie HER – Zasadačka
URL:https://fsvladislava.sk/rozvrh/fnsp-nz-skolenie-her-zasadacka-27/
LOCATION:FNsP NZ – Zasadačka
CATEGORIES:FNsP NZ
END:VEVENT
BEGIN:VEVENT
DTSTART;TZID=Europe/Bratislava:20251112T080000
DTEND;TZID=Europe/Bratislava:20251112T143000
DTSTAMP:20260426T041559
CREATED:20250916T101215Z
LAST-MODIFIED:20250916T101215Z
UID:48085-1762934400-1762957800@fsvladislava.sk
SUMMARY:OŠE 1.r. Mgr. - Transkultúrne ošetrovateľstvo - Kinosála
DESCRIPTION:OŠE 1.r. Mgr. – Transkultúrne ošetrovateľstvo – Dr. Dobsonyová – Kinosála
URL:https://fsvladislava.sk/rozvrh/ose-1-r-mgr-transkulturne-osetrovatelstvo-kinosala/
LOCATION:FNsP NZ  – Kinosála
CATEGORIES:Odbor Ošetrovateľstvo,OŠE - 1. ročník Mgr.
END:VEVENT
BEGIN:VEVENT
DTSTART;TZID=Europe/Bratislava:20251112T090000
DTEND;TZID=Europe/Bratislava:20251112T153000
DTSTAMP:20260426T041559
CREATED:20240905T075724Z
LAST-MODIFIED:20251002T123908Z
UID:45074-1762938000-1762961400@fsvladislava.sk
SUMMARY:OŠE 2.r. Bc.\, PA 1.r. Bc. - Farmakológia  - Webex
DESCRIPTION:OŠE 2.r. Bc.\, PA 1.r. Bc. – Farmakológia – prof. Novotný- Webex
URL:https://fsvladislava.sk/rozvrh/ose-2-r-mgr-prednaska-kinosala-2/
LOCATION:Online – Webex
CATEGORIES:Odbor Ošetrovateľstvo,Odbor Pôrodná asistencia,OŠE - 2. ročník Bc.,PA - 1. ročník Bc.
END:VEVENT
BEGIN:VEVENT
DTSTART;TZID=Europe/Bratislava:20251112T090000
DTEND;TZID=Europe/Bratislava:20251112T170000
DTSTAMP:20260426T041559
CREATED:20250822T042614Z
LAST-MODIFIED:20250822T042614Z
UID:47676-1762938000-1762966800@fsvladislava.sk
SUMMARY:PA 3.r. Bc. D. – Pôrodná asistencia IV. - Zasadačka
DESCRIPTION:PA 3.r. Bc. D. – Pôrodná asistencia IV. – Mgr. Dorazilová\, PhD. – Zasadačka
URL:https://fsvladislava.sk/rozvrh/pa-3-r-bc-d-porodna-asistencia-iv-zasadacka-4/
LOCATION:FNsP NZ – Zasadačka
CATEGORIES:Odbor Pôrodná asistencia,PA - 3. ročník Bc.
END:VEVENT
BEGIN:VEVENT
DTSTART;TZID=Europe/Bratislava:20251112T170000
DTEND;TZID=Europe/Bratislava:20251112T183000
DTSTAMP:20260426T041559
CREATED:20241016T075950Z
LAST-MODIFIED:20251104T112936Z
UID:45641-1762966800-1762972200@fsvladislava.sk
SUMMARY:SP 2.r. Mgr. - Misijná a charitatívna práca - Webex
DESCRIPTION:SP 2.r. Mgr. – Misijná a charitatívna práca – prof. PhDr.Ing. Ladislav Bučko\, PhD. – Online-Webex
URL:https://fsvladislava.sk/rozvrh/sp-2-r-mgr-sk-misijna-a-charitativna-praca-zasadacka/
LOCATION:Online – Webex
CATEGORIES:Odbor Sociálna práca,SP - 2. ročník Mgr.
END:VEVENT
BEGIN:VEVENT
DTSTART;TZID=Europe/Bratislava:20251113T070000
DTEND;TZID=Europe/Bratislava:20251113T130000
DTSTAMP:20260426T041559
CREATED:20251022T055545Z
LAST-MODIFIED:20251022T055545Z
UID:48447-1763017200-1763038800@fsvladislava.sk
SUMMARY:Fakulta sv. Ladislava - SZŠ - Kinosála
DESCRIPTION:Fakulta sv. Ladislava – SZŠ – Kinosála
URL:https://fsvladislava.sk/rozvrh/fakulta-sv-ladislava-szs-kinosala-7/
LOCATION:FNsP NZ  – Kinosála
CATEGORIES:Fakulta
END:VEVENT
BEGIN:VEVENT
DTSTART;TZID=Europe/Bratislava:20251113T080000
DTEND;TZID=Europe/Bratislava:20251113T130000
DTSTAMP:20260426T041559
CREATED:20241114T063043Z
LAST-MODIFIED:20250916T095232Z
UID:45961-1763020800-1763038800@fsvladislava.sk
SUMMARY:PA 1.r. Bc. - Biofyzika - Webex
DESCRIPTION:PA 1.r. Bc. –  Biofyzika – univ. prof. Foltín – Webex
URL:https://fsvladislava.sk/rozvrh/pa-1-r-bc-sk-biofyzika-elix-3/
LOCATION:Online – Webex
CATEGORIES:Odbor Pôrodná asistencia,PA - 1. ročník Bc.
END:VEVENT
BEGIN:VEVENT
DTSTART;TZID=Europe/Bratislava:20251113T080000
DTEND;TZID=Europe/Bratislava:20251113T160000
DTSTAMP:20260426T041559
CREATED:20250822T042639Z
LAST-MODIFIED:20250822T042639Z
UID:47678-1763020800-1763049600@fsvladislava.sk
SUMMARY:PA 3.r. Bc. D. – Pôrodná asistencia IV. - Zasadačka
DESCRIPTION:PA 3.r. Bc. D. – Pôrodná asistencia IV. – Mgr. Dorazilová\, PhD. – Zasadačka
URL:https://fsvladislava.sk/rozvrh/pa-3-r-bc-d-porodna-asistencia-iv-zasadacka-5/
LOCATION:FNsP NZ – Zasadačka
CATEGORIES:Odbor Pôrodná asistencia,PA - 3. ročník Bc.
END:VEVENT
BEGIN:VEVENT
DTSTART;TZID=Europe/Bratislava:20251113T090000
DTEND;TZID=Europe/Bratislava:20251113T153000
DTSTAMP:20260426T041559
CREATED:20230925T054913Z
LAST-MODIFIED:20251103T142951Z
UID:41105-1763024400-1763047800@fsvladislava.sk
SUMMARY:OŠE 1.r. Mgr. - Nozokomiálne infekcie\, infektológia a oše. - Google meet
DESCRIPTION:OŠE 1.r. Mgr. – Nozokomiálne infekcie\, infektológia a oše. – Dr. Cipková – Online – Google meet
URL:https://fsvladislava.sk/rozvrh/ose-1-r-mgr-nozokomialne-infekcie-infektologia-a-ose-online/
LOCATION:Online – Google meet
CATEGORIES:Odbor Ošetrovateľstvo,OŠE - 1. ročník Mgr.
END:VEVENT
END:VCALENDAR