BEGIN:VCALENDAR
VERSION:2.0
PRODID:-//Fakulta zdravotníctva a sociálnej práce sv. Ladislava, Nové Zámky - ECPv6.15.17//NONSGML v1.0//EN
CALSCALE:GREGORIAN
METHOD:PUBLISH
X-ORIGINAL-URL:https://fsvladislava.sk
X-WR-CALDESC:Udalosti pre Fakulta zdravotníctva a sociálnej práce sv. Ladislava, Nové Zámky
REFRESH-INTERVAL;VALUE=DURATION:PT1H
X-Robots-Tag:noindex
X-PUBLISHED-TTL:PT1H
BEGIN:VTIMEZONE
TZID:Europe/Bratislava
BEGIN:DAYLIGHT
TZOFFSETFROM:+0100
TZOFFSETTO:+0200
TZNAME:CEST
DTSTART:20240331T010000
END:DAYLIGHT
BEGIN:STANDARD
TZOFFSETFROM:+0200
TZOFFSETTO:+0100
TZNAME:CET
DTSTART:20241027T010000
END:STANDARD
BEGIN:DAYLIGHT
TZOFFSETFROM:+0100
TZOFFSETTO:+0200
TZNAME:CEST
DTSTART:20250330T010000
END:DAYLIGHT
BEGIN:STANDARD
TZOFFSETFROM:+0200
TZOFFSETTO:+0100
TZNAME:CET
DTSTART:20251026T010000
END:STANDARD
BEGIN:DAYLIGHT
TZOFFSETFROM:+0100
TZOFFSETTO:+0200
TZNAME:CEST
DTSTART:20260329T010000
END:DAYLIGHT
BEGIN:STANDARD
TZOFFSETFROM:+0200
TZOFFSETTO:+0100
TZNAME:CET
DTSTART:20261025T010000
END:STANDARD
END:VTIMEZONE
BEGIN:VEVENT
DTSTART;TZID=Europe/Bratislava:20251209T130000
DTEND;TZID=Europe/Bratislava:20251209T150000
DTSTAMP:20260426T023639
CREATED:20251020T053119Z
LAST-MODIFIED:20251020T053119Z
UID:48399-1765285200-1765292400@fsvladislava.sk
SUMMARY:FNsP NZ - Celoústavný seminár - Kinosála
DESCRIPTION:FNsP NZ – Celoústavný seminár – Kinosála
URL:https://fsvladislava.sk/rozvrh/fnsp-nz-celoustavny-seminar-kinosala/
LOCATION:FNsP NZ  – Kinosála
CATEGORIES:FNsP NZ
END:VEVENT
BEGIN:VEVENT
DTSTART;TZID=Europe/Bratislava:20251209T140000
DTEND;TZID=Europe/Bratislava:20251209T140000
DTSTAMP:20260426T023639
CREATED:20251210T074703Z
LAST-MODIFIED:20251210T074703Z
UID:48824-1765288800-1765288800@fsvladislava.sk
SUMMARY:OŠE 2.r. Mgr. - SK Manažment ošetrovateľstva I. - Koffice dr. Kollárovej
DESCRIPTION:OŠE 2.r. Mgr. – Skúška: Manažment ošetrovateľstva I. – Dr. Kollárová – office dr. Kollárovej
URL:https://fsvladislava.sk/rozvrh/ose-2-r-mgr-sk-manazment-osetrovatelstva-i-koffice-dr-kollarovej-2/
LOCATION:office dr. Kollárovej
CATEGORIES:Odbor Ošetrovateľstvo,OŠE - 2. ročník Mgr.
END:VEVENT
BEGIN:VEVENT
DTSTART;TZID=Europe/Bratislava:20251209T140000
DTEND;TZID=Europe/Bratislava:20251209T180000
DTSTAMP:20260426T023639
CREATED:20250207T180058Z
LAST-MODIFIED:20250918T053533Z
UID:46968-1765288800-1765303200@fsvladislava.sk
SUMMARY:PA 2.r. Bc. - Neonatológia - Zasadačka
DESCRIPTION:PA 2.r. Bc. –  Neonatológia – MUDr. Radvanská – Zasadačka
URL:https://fsvladislava.sk/rozvrh/pa-2-r-bc-sk-neonatologia-zasadacka/
LOCATION:FNsP NZ – Zasadačka
CATEGORIES:Odbor Pôrodná asistencia,PA - 2. ročník Bc.
END:VEVENT
BEGIN:VEVENT
DTSTART;TZID=Europe/Bratislava:20251210T080000
DTEND;TZID=Europe/Bratislava:20251210T080000
DTSTAMP:20260426T023639
CREATED:20251210T074204Z
LAST-MODIFIED:20251210T074204Z
UID:48813-1765353600-1765353600@fsvladislava.sk
SUMMARY:OŠE 1.r. Mgr. - SK Enviromentálne zdravie a oše. - Elix
DESCRIPTION:OŠE 1.r. Mgr. – Skúška: Enviromentálne zdravie a oše. – prof. Lišková – Elix
URL:https://fsvladislava.sk/rozvrh/ose-1-r-mgr-sk-enviromentalne-zdravie-a-ose-elix/
LOCATION:Online – Elix
CATEGORIES:Odbor Ošetrovateľstvo,OŠE - 1. ročník Mgr.
END:VEVENT
BEGIN:VEVENT
DTSTART;TZID=Europe/Bratislava:20251210T080000
DTEND;TZID=Europe/Bratislava:20251210T090000
DTSTAMP:20260426T023639
CREATED:20241204T115851Z
LAST-MODIFIED:20241204T115851Z
UID:46281-1765353600-1765357200@fsvladislava.sk
SUMMARY:FNsP NZ - Školenie HER - Zasadačka
DESCRIPTION:FNsP NZ – Školenie HER – Zasadačka
URL:https://fsvladislava.sk/rozvrh/fnsp-nz-skolenie-her-zasadacka-29/
LOCATION:FNsP NZ – Zasadačka
CATEGORIES:FNsP NZ
END:VEVENT
BEGIN:VEVENT
DTSTART;TZID=Europe/Bratislava:20251210T080000
DTEND;TZID=Europe/Bratislava:20251210T150000
DTSTAMP:20260426T023639
CREATED:20250922T052235Z
LAST-MODIFIED:20250922T052235Z
UID:48204-1765353600-1765378800@fsvladislava.sk
SUMMARY:OŠE 1.r. Bc. - Ošetrovateľstvo I. - Kinosála
DESCRIPTION:OŠE 1.r. Bc. –  Ošetrovateľstvo I. – Dr. Dobsonyová – Kinosála
URL:https://fsvladislava.sk/rozvrh/ose-1-r-bc-osetrovatelstvo-i-kinosala-2/
LOCATION:FNsP NZ  – Kinosála
CATEGORIES:Odbor Ošetrovateľstvo,OŠE - 1. ročník Bc.
END:VEVENT
BEGIN:VEVENT
DTSTART;TZID=Europe/Bratislava:20251210T090000
DTEND;TZID=Europe/Bratislava:20251210T140000
DTSTAMP:20260426T023639
CREATED:20251201T125355Z
LAST-MODIFIED:20251201T125355Z
UID:48738-1765357200-1765375200@fsvladislava.sk
SUMMARY:Fakulta sv. Ladislava - OŠE / PA - AUDIT - Seminárna miestnosť
DESCRIPTION:Fakulta sv. Ladislava – OŠE / PA – AUDIT – Seminárna miestnosť
URL:https://fsvladislava.sk/rozvrh/fakulta-sv-ladislava-ose-pa-audit-seminarna-miestnost/
LOCATION:FNsP NZ  – Seminárna miestnosť
CATEGORIES:Fakulta,OŠE - Ročníky 1. stupeň bakalári,OŠE - Ročníky 2. stupeň magistri,PA - Ročníky 1. stupeň bakalári
END:VEVENT
BEGIN:VEVENT
DTSTART;TZID=Europe/Bratislava:20251210T090000
DTEND;TZID=Europe/Bratislava:20251210T180000
DTSTAMP:20260426T023639
CREATED:20251204T070222Z
LAST-MODIFIED:20251204T070222Z
UID:48759-1765357200-1765389600@fsvladislava.sk
SUMMARY:FNsP NZ - Zasadačka
DESCRIPTION:FNsP NZ – Zasadačka
URL:https://fsvladislava.sk/rozvrh/fnsp-nz-zasadacka-5/
LOCATION:FNsP NZ – Zasadačka
CATEGORIES:FNsP NZ
END:VEVENT
BEGIN:VEVENT
DTSTART;TZID=Europe/Bratislava:20251210T163000
DTEND;TZID=Europe/Bratislava:20251210T163000
DTSTAMP:20260426T023639
CREATED:20251204T103059Z
LAST-MODIFIED:20251204T103059Z
UID:48761-1765384200-1765384200@fsvladislava.sk
SUMMARY:OŠE 2.r. Bc. - OŠE postupy a techniky III - Gynekológia - Elix
DESCRIPTION:OŠE 2.r. Bc. – OŠE postupy a techniky III – Gynekológia – PhDr. Bc. M. Bednáriková\, PhD. – Elix
URL:https://fsvladislava.sk/rozvrh/ose-2-r-bc-ose-postupy-a-techniky-iii-gynekologia-elix/
LOCATION:Online – Elix
CATEGORIES:Odbor Ošetrovateľstvo,OŠE - 2. ročník Bc.
END:VEVENT
BEGIN:VEVENT
DTSTART;TZID=Europe/Bratislava:20251210T190000
DTEND;TZID=Europe/Bratislava:20251210T190000
DTSTAMP:20260426T023639
CREATED:20251118T062033Z
LAST-MODIFIED:20251118T062033Z
UID:48600-1765393200-1765393200@fsvladislava.sk
SUMMARY:PA 1.r. Bc. - Farmakológia  - Elix
DESCRIPTION:PA 1.r. Bc. – Skúška: Farmakológia – prof. Novotný- Elix
URL:https://fsvladislava.sk/rozvrh/pa-1-r-bc-farmakologia-elix-2/
LOCATION:Online – Elix
CATEGORIES:Odbor Pôrodná asistencia,PA - 1. ročník Bc.
END:VEVENT
BEGIN:VEVENT
DTSTART;TZID=Europe/Bratislava:20251211T070000
DTEND;TZID=Europe/Bratislava:20251211T180000
DTSTAMP:20260426T023639
CREATED:20251204T063715Z
LAST-MODIFIED:20251204T063715Z
UID:48755-1765436400-1765476000@fsvladislava.sk
SUMMARY:FNsP NZ - Zasadačka
DESCRIPTION:FNsP NZ – Zasadačka
URL:https://fsvladislava.sk/rozvrh/fnsp-nz-zasadacka-4/
LOCATION:FNsP NZ – Zasadačka
CATEGORIES:FNsP NZ
END:VEVENT
BEGIN:VEVENT
DTSTART;TZID=Europe/Bratislava:20251211T080000
DTEND;TZID=Europe/Bratislava:20251211T080000
DTSTAMP:20260426T023639
CREATED:20251210T074216Z
LAST-MODIFIED:20251210T074216Z
UID:48815-1765440000-1765440000@fsvladislava.sk
SUMMARY:OŠE 1.r. Mgr. - SK Enviromentálne zdravie a oše. - Elix
DESCRIPTION:OŠE 1.r. Mgr. – Skúška: Enviromentálne zdravie a oše. – prof. Lišková – Elix
URL:https://fsvladislava.sk/rozvrh/ose-1-r-mgr-sk-enviromentalne-zdravie-a-ose-elix-2/
LOCATION:Online – Elix
CATEGORIES:Odbor Ošetrovateľstvo,OŠE - 1. ročník Mgr.
END:VEVENT
BEGIN:VEVENT
DTSTART;TZID=Europe/Bratislava:20251211T080000
DTEND;TZID=Europe/Bratislava:20251211T140000
DTSTAMP:20260426T023639
CREATED:20250910T053259Z
LAST-MODIFIED:20251204T063756Z
UID:47904-1765440000-1765461600@fsvladislava.sk
SUMMARY:PA 2.r. Bc. - Pôrodná asistencia II. - Seminárna miestnosť
DESCRIPTION:PA 2.r. Bc. – Pôrodná asistencia II. – prof. Matulníková – Seminárna miestnosť
URL:https://fsvladislava.sk/rozvrh/pa-2-r-bc-porodna-asistencia-ii-seminarna-miestnost-3/
LOCATION:FNsP NZ  – Seminárna miestnosť
CATEGORIES:Odbor Pôrodná asistencia,PA - 2. ročník Bc.
END:VEVENT
BEGIN:VEVENT
DTSTART;TZID=Europe/Bratislava:20251211T140000
DTEND;TZID=Europe/Bratislava:20251211T173000
DTSTAMP:20260426T023639
CREATED:20250918T053639Z
LAST-MODIFIED:20251204T063806Z
UID:48194-1765461600-1765474200@fsvladislava.sk
SUMMARY:PA 2.r. Bc. - Neonatológia - Seminárna miestnosť
DESCRIPTION:PA 2.r. Bc. –  Neonatológia – MUDr. Radvanská – Seminárna miestnosť
URL:https://fsvladislava.sk/rozvrh/pa-2-r-bc-neonatologia-zasadacka-5/
LOCATION:FNsP NZ  – Seminárna miestnosť
CATEGORIES:Odbor Pôrodná asistencia,PA - 2. ročník Bc.
END:VEVENT
BEGIN:VEVENT
DTSTART;TZID=Europe/Bratislava:20251211T160000
DTEND;TZID=Europe/Bratislava:20251211T190000
DTSTAMP:20260426T023639
CREATED:20250924T121117Z
LAST-MODIFIED:20250924T121117Z
UID:48227-1765468800-1765479600@fsvladislava.sk
SUMMARY:PA 1.r. Bc. - ANJ - Zoom
DESCRIPTION:PA 1.r. Bc. –  ANJ – dr. Sádovská – Online-Zoom
URL:https://fsvladislava.sk/rozvrh/pa-1-r-bc-anj-zoom-6/
LOCATION:Online – Zoom
CATEGORIES:Odbor Pôrodná asistencia,PA - 1. ročník Bc.
END:VEVENT
BEGIN:VEVENT
DTSTART;TZID=Europe/Bratislava:20251212T090000
DTEND;TZID=Europe/Bratislava:20251212T153000
DTSTAMP:20260426T023639
CREATED:20240924T052931Z
LAST-MODIFIED:20251211T121513Z
UID:45384-1765530000-1765553400@fsvladislava.sk
SUMMARY:PA 3.r. Bc. D. – Prenatálna psychológia  - Kinosála
DESCRIPTION:PA 3.r. Bc. D. – Prenatálna psychológia – prof. Mikloško – Kinosála
URL:https://fsvladislava.sk/rozvrh/pa-3-r-bc-d-prenatalna-psychologia-webex/
LOCATION:FNsP NZ  – Kinosála
CATEGORIES:Odbor Pôrodná asistencia,PA - 3. ročník Bc.
END:VEVENT
BEGIN:VEVENT
DTSTART;TZID=Europe/Bratislava:20251212T120000
DTEND;TZID=Europe/Bratislava:20251212T120000
DTSTAMP:20260426T023639
CREATED:20250916T113758Z
LAST-MODIFIED:20251211T121451Z
UID:48123-1765540800-1765540800@fsvladislava.sk
SUMMARY:SP 1.r. Bc. - Základy ekonomiky pre SP - Online
DESCRIPTION:SP 1.r. Bc. – Základy ekonomiky pre SP – Dr. Goncol – Online
URL:https://fsvladislava.sk/rozvrh/sp-1-r-bc-zaklady-ekonomiky-pre-sp-kinosala/
LOCATION:Online
CATEGORIES:Odbor Sociálna práca,SP - 1. ročník Bc.
END:VEVENT
BEGIN:VEVENT
DTSTART;TZID=Europe/Bratislava:20251212T153000
DTEND;TZID=Europe/Bratislava:20251212T170000
DTSTAMP:20260426T023639
CREATED:20251106T135346Z
LAST-MODIFIED:20251112T140215Z
UID:48528-1765553400-1765558800@fsvladislava.sk
SUMMARY:PA 3.r. Bc. - SK Zdravotnícke právo - Seminárna miestnosť
DESCRIPTION:PA 3.r. Bc. – Skúška: Zdravotnícke právo – prof. Šimoňák – Seminárna miestnosť
URL:https://fsvladislava.sk/rozvrh/pa-3-r-bc-sk-zdravotnicke-pravo-seminarna-miestnost/
LOCATION:FNsP NZ  – Seminárna miestnosť
CATEGORIES:Odbor Pôrodná asistencia,PA - 3. ročník Bc.
END:VEVENT
BEGIN:VEVENT
DTSTART;TZID=Europe/Bratislava:20251212T170000
DTEND;TZID=Europe/Bratislava:20251212T183000
DTSTAMP:20260426T023639
CREATED:20251104T114158Z
LAST-MODIFIED:20251104T114158Z
UID:48513-1765558800-1765564200@fsvladislava.sk
SUMMARY:SP 1.r. Mgr. - SP v zdravotníctve - Zasadačka
DESCRIPTION:SP 1.r. Mgr. – SP v zdravotníctve – prof. MUDr. Mário Bartkovjak\, PhD. – Zasadačka
URL:https://fsvladislava.sk/rozvrh/sp-1-r-mgr-sp-v-zdravotnictve-zasadacka-2/
LOCATION:FNsP NZ – Zasadačka
CATEGORIES:Odbor Sociálna práca,SP - 1. ročník Mgr.
END:VEVENT
BEGIN:VEVENT
DTSTART;TZID=Europe/Bratislava:20251213T080000
DTEND;TZID=Europe/Bratislava:20251213T143000
DTSTAMP:20260426T023639
CREATED:20230927T201453Z
LAST-MODIFIED:20251118T121725Z
UID:41396-1765612800-1765636200@fsvladislava.sk
SUMMARY:SP 2.r. Mgr. - Manažment v SP - Zasadačka
DESCRIPTION:SP 2.r. Mgr. – Manažment v SP – doc. Pavlovičová – Online – Zasadačka
URL:https://fsvladislava.sk/rozvrh/sp-2-r-mgr-manazment-v-sp-zasadacka/
LOCATION:FNsP NZ – Zasadačka
CATEGORIES:Odbor Sociálna práca,SP - 2. ročník Mgr.
END:VEVENT
BEGIN:VEVENT
DTSTART;TZID=Europe/Bratislava:20251213T090000
DTEND;TZID=Europe/Bratislava:20251213T120000
DTSTAMP:20260426T023639
CREATED:20240926T095104Z
LAST-MODIFIED:20251118T101557Z
UID:45456-1765616400-1765627200@fsvladislava.sk
SUMMARY:SP 3.r. Bc. - Metódy SP s jednotlivcom  - Online
DESCRIPTION:SP 3.r. Bc. – Metódy SP s jednotlivcom – doc. Bundzelová – Online
URL:https://fsvladislava.sk/rozvrh/sp-3-r-bc-metody-sp-s-jednotlivcom-webex/
LOCATION:Online
CATEGORIES:Odbor Sociálna práca,SP - 3. ročník Bc.
END:VEVENT
BEGIN:VEVENT
DTSTART;TZID=Europe/Bratislava:20251213T090000
DTEND;TZID=Europe/Bratislava:20251213T120000
DTSTAMP:20260426T023639
CREATED:20250916T120648Z
LAST-MODIFIED:20251118T101748Z
UID:48140-1765616400-1765627200@fsvladislava.sk
SUMMARY:SP 1.r. Mgr. - Metódy SP s jednotlivcom - rozdielový predmet - Online
DESCRIPTION:SP 1.r. Mgr. – Metódy SP s jednotlivcom – doc. Bundzelová – Online
URL:https://fsvladislava.sk/rozvrh/sp-1-r-mgr-metody-sp-s-jednotlivcom-online/
LOCATION:Online
CATEGORIES:Odbor Sociálna práca,SP - 1. ročník Mgr.
END:VEVENT
BEGIN:VEVENT
DTSTART;TZID=Europe/Bratislava:20251213T090000
DTEND;TZID=Europe/Bratislava:20251213T153000
DTSTAMP:20260426T023639
CREATED:20240923T055217Z
LAST-MODIFIED:20251117T123352Z
UID:45322-1765616400-1765639800@fsvladislava.sk
SUMMARY:PA 2.r. Bc. - Gynekologické oše. II. - Webex
DESCRIPTION:PA 2.r. Bc. – Gynekologické oše. II. – doc. Simočková – Online-Webex
URL:https://fsvladislava.sk/rozvrh/pa-2-r-bc-gynekologicke-ose-ii-zasadacka-4/
LOCATION:Online – Webex
CATEGORIES:Odbor Pôrodná asistencia,PA - 2. ročník Bc.
END:VEVENT
BEGIN:VEVENT
DTSTART;TZID=Europe/Bratislava:20251215T080000
DTEND;TZID=Europe/Bratislava:20251215T080000
DTSTAMP:20260426T023639
CREATED:20251121T063651Z
LAST-MODIFIED:20251121T070153Z
UID:48646-1765785600-1765785600@fsvladislava.sk
SUMMARY:OŠE 2.r. Bc. - SK Profesijná etika - Elix
DESCRIPTION:OŠE 2.r. Bc. – Skúška: Profesijná etika – Mgr. Samuelová – Elix
URL:https://fsvladislava.sk/rozvrh/ose-2-r-bc-profesijna-etika-elix/
LOCATION:Online – Elix
CATEGORIES:Odbor Ošetrovateľstvo,OŠE - 2. ročník Bc.
END:VEVENT
BEGIN:VEVENT
DTSTART;TZID=Europe/Bratislava:20251215T080000
DTEND;TZID=Europe/Bratislava:20251215T080000
DTSTAMP:20260426T023639
CREATED:20251121T063825Z
LAST-MODIFIED:20251121T070841Z
UID:48648-1765785600-1765785600@fsvladislava.sk
SUMMARY:OŠE 1.r. Bc. - SK Prvá pomoc - Elix
DESCRIPTION:OŠE 1.r. Bc. – Skúška: Prvá pomoc – Dr. Sebestyenová – Elix
URL:https://fsvladislava.sk/rozvrh/ose-1-r-bc-prva-pomoc-elix/
LOCATION:Online – Elix
CATEGORIES:Odbor Ošetrovateľstvo,OŠE - 1. ročník Bc.
END:VEVENT
BEGIN:VEVENT
DTSTART;TZID=Europe/Bratislava:20251215T080000
DTEND;TZID=Europe/Bratislava:20251215T083000
DTSTAMP:20260426T023639
CREATED:20230908T081429Z
LAST-MODIFIED:20251121T081041Z
UID:40773-1765785600-1765787400@fsvladislava.sk
SUMMARY:OŠE 3.r. Bc. - SK Pedagogika v ošetrovateľstve - Elix
DESCRIPTION:OŠE 3.r. Bc.  – Skúška: Pedagogika v ošetrovateľstve – Dr. Nagyová – Elix
URL:https://fsvladislava.sk/rozvrh/ose-3-r-bc-pedagogika-v-osetrovatelstve-kinosala/
LOCATION:Online – Elix
CATEGORIES:Odbor Ošetrovateľstvo,OŠE - 3. ročník Bc.
END:VEVENT
BEGIN:VEVENT
DTSTART;TZID=Europe/Bratislava:20251215T080000
DTEND;TZID=Europe/Bratislava:20251215T100000
DTSTAMP:20260426T023639
CREATED:20251208T123208Z
LAST-MODIFIED:20251208T123208Z
UID:48793-1765785600-1765792800@fsvladislava.sk
SUMMARY:FNsP NZ - BOZP - Zasadačka
DESCRIPTION:FNsP NZ – BOZP – Zasadačka
URL:https://fsvladislava.sk/rozvrh/fnsp-nz-bozp-zasadacka-11/
LOCATION:FNsP NZ – Zasadačka
CATEGORIES:FNsP NZ
END:VEVENT
BEGIN:VEVENT
DTSTART;TZID=Europe/Bratislava:20251215T090000
DTEND;TZID=Europe/Bratislava:20251215T140000
DTSTAMP:20260426T023639
CREATED:20251127T093932Z
LAST-MODIFIED:20251127T093932Z
UID:48710-1765789200-1765807200@fsvladislava.sk
SUMMARY:UZS 4.r. Bc. - Vodná záchrana - Kinosála
DESCRIPTION:UZS 4.r. Bc. – Vodná záchrana – Kinosála
URL:https://fsvladislava.sk/rozvrh/uzs-4-r-bc-vodna-zachrana-kinosala/
LOCATION:FNsP NZ  – Kinosála
CATEGORIES:Odbor Urgentná zdravotná starostlivosť,UZS – 4. ročník Bc.
END:VEVENT
BEGIN:VEVENT
DTSTART;TZID=Europe/Bratislava:20251215T130000
DTEND;TZID=Europe/Bratislava:20251215T150000
DTSTAMP:20260426T023639
CREATED:20251208T121723Z
LAST-MODIFIED:20251208T121723Z
UID:48791-1765803600-1765810800@fsvladislava.sk
SUMMARY:FNsP NZ - Personálne odd. - Zasadačka
DESCRIPTION:FNsP NZ – Personálne odd. – Zasadačka
URL:https://fsvladislava.sk/rozvrh/fnsp-nz-personalne-odd-zasadacka-2/
LOCATION:FNsP NZ – Zasadačka
CATEGORIES:FNsP NZ
END:VEVENT
BEGIN:VEVENT
DTSTART;TZID=Europe/Bratislava:20251215T140000
DTEND;TZID=Europe/Bratislava:20251215T140000
DTSTAMP:20260426T023639
CREATED:20251112T123908Z
LAST-MODIFIED:20251112T123908Z
UID:48567-1765807200-1765807200@fsvladislava.sk
SUMMARY:PA 2.r. Bc. - SK Poradenstvo a príprava na rod. a pôrod I. - Seminárna miestnosť
DESCRIPTION:PA 2.r. Bc. – Skúška: Poradenstvo a príprava na rod. a pôrod I. – Mgr. Dorazilová PhD. – Seminárna miestnosť
URL:https://fsvladislava.sk/rozvrh/pa-2-r-bc-sk-poradenstvo-a-priprava-na-rod-a-porod-i-seminarna-miestnost/
LOCATION:FNsP NZ  – Seminárna miestnosť
CATEGORIES:Odbor Pôrodná asistencia,PA - 2. ročník Bc.
END:VEVENT
END:VCALENDAR