BEGIN:VCALENDAR
VERSION:2.0
PRODID:-//Fakulta zdravotníctva a sociálnej práce sv. Ladislava, Nové Zámky - ECPv6.15.17//NONSGML v1.0//EN
CALSCALE:GREGORIAN
METHOD:PUBLISH
X-ORIGINAL-URL:https://fsvladislava.sk
X-WR-CALDESC:Udalosti pre Fakulta zdravotníctva a sociálnej práce sv. Ladislava, Nové Zámky
REFRESH-INTERVAL;VALUE=DURATION:PT1H
X-Robots-Tag:noindex
X-PUBLISHED-TTL:PT1H
BEGIN:VTIMEZONE
TZID:Europe/Bratislava
BEGIN:DAYLIGHT
TZOFFSETFROM:+0100
TZOFFSETTO:+0200
TZNAME:CEST
DTSTART:20250330T010000
END:DAYLIGHT
BEGIN:STANDARD
TZOFFSETFROM:+0200
TZOFFSETTO:+0100
TZNAME:CET
DTSTART:20251026T010000
END:STANDARD
BEGIN:DAYLIGHT
TZOFFSETFROM:+0100
TZOFFSETTO:+0200
TZNAME:CEST
DTSTART:20260329T010000
END:DAYLIGHT
BEGIN:STANDARD
TZOFFSETFROM:+0200
TZOFFSETTO:+0100
TZNAME:CET
DTSTART:20261025T010000
END:STANDARD
BEGIN:DAYLIGHT
TZOFFSETFROM:+0100
TZOFFSETTO:+0200
TZNAME:CEST
DTSTART:20270328T010000
END:DAYLIGHT
BEGIN:STANDARD
TZOFFSETFROM:+0200
TZOFFSETTO:+0100
TZNAME:CET
DTSTART:20271031T010000
END:STANDARD
END:VTIMEZONE
BEGIN:VEVENT
DTSTART;TZID=Europe/Bratislava:20260116T090000
DTEND;TZID=Europe/Bratislava:20260116T123000
DTSTAMP:20260426T021455
CREATED:20260109T090440Z
LAST-MODIFIED:20260109T090440Z
UID:49060-1768554000-1768566600@fsvladislava.sk
SUMMARY:OŠE 1.r. Bc. - SK ANF a Zdravotnícka terminológia  - Seminárna miestnosť
DESCRIPTION:OŠE 1.r. Bc. – Skúška: ANF a Zdravotnícka terminológia – Dr. Kocsis – Seminárna miestnosť
URL:https://fsvladislava.sk/rozvrh/ose-1-r-bc-sk-anf-a-zdravotnicka-terminologia-seminarna-miestnost/
LOCATION:FNsP NZ  – Seminárna miestnosť
CATEGORIES:Odbor Ošetrovateľstvo,OŠE - 1. ročník Bc.
END:VEVENT
BEGIN:VEVENT
DTSTART;TZID=Europe/Bratislava:20260116T120000
DTEND;TZID=Europe/Bratislava:20260116T120000
DTSTAMP:20260426T021455
CREATED:20250916T121912Z
LAST-MODIFIED:20250916T121912Z
UID:48151-1768564800-1768564800@fsvladislava.sk
SUMMARY:SP 1.r. Mgr. - Základy aplikovanej štatistiky - Zoom
DESCRIPTION:SP 1.r. Mgr. – \nZáklady aplikovanej štatistiky \n– prof. Radková – Zoom
URL:https://fsvladislava.sk/rozvrh/sp-1-r-mgr-zaklady-aplikovanej-statistiky-zoom/
LOCATION:Online – Zoom
CATEGORIES:Odbor Sociálna práca,SP - 1. ročník Mgr.
ORGANIZER;CN="prof. Radkov%C3%A1":MAILTO:libusa.radkova@gmail.com
END:VEVENT
BEGIN:VEVENT
DTSTART;TZID=Europe/Bratislava:20260116T120000
DTEND;TZID=Europe/Bratislava:20260116T183000
DTSTAMP:20260426T021455
CREATED:20251027T063658Z
LAST-MODIFIED:20251027T063658Z
UID:48473-1768564800-1768588200@fsvladislava.sk
SUMMARY:OŠE 2.r. Mgr. - Zdravotnícka štatistika - Zoom
DESCRIPTION:OŠE 2.r. Mgr. – Zdravotnícka štatistika – prof. Radková – Online-Zoom
URL:https://fsvladislava.sk/rozvrh/ose-2-r-mgr-zdravotnicka-statistika-zoom/
LOCATION:Online – Zoom
CATEGORIES:Odbor Ošetrovateľstvo,OŠE - 2. ročník Mgr.
ORGANIZER;CN="prof. Radkov%C3%A1":MAILTO:libusa.radkova@gmail.com
END:VEVENT
BEGIN:VEVENT
DTSTART;TZID=Europe/Bratislava:20260116T150000
DTEND;TZID=Europe/Bratislava:20260116T150000
DTSTAMP:20260426T021455
CREATED:20251219T062002Z
LAST-MODIFIED:20251219T062002Z
UID:48885-1768575600-1768575600@fsvladislava.sk
SUMMARY:OŠE 1.r. Bc. - SK ANF a Zdravotnícka terminológia  - Modrý dom SZŠ
DESCRIPTION:OŠE 1.r. Bc. – Skúška: ANF a Zdravotnícka terminológia – Dr. Kocsis – Modrý dom SZŠ
URL:https://fsvladislava.sk/rozvrh/ose-1-r-bc-sk-anf-a-zdravotnicka-terminologia-modry-dom-szs-7/
LOCATION:SZŠ EK – Modrý dom
CATEGORIES:Odbor Ošetrovateľstvo,OŠE - 1. ročník Bc.
END:VEVENT
BEGIN:VEVENT
DTSTART;TZID=Europe/Bratislava:20260116T180000
DTEND;TZID=Europe/Bratislava:20260116T180000
DTSTAMP:20260426T021455
CREATED:20251020T054033Z
LAST-MODIFIED:20251020T054033Z
UID:48404-1768586400-1768586400@fsvladislava.sk
SUMMARY:SP 2.r. Mgr. - Metodológia kvalitatívneho výskumu - test - Online
DESCRIPTION:SP 2.r. Mgr. – Metodológia kvalitatívneho výskumu – test – prof. Ludvigh Cintulová – Online
URL:https://fsvladislava.sk/rozvrh/sp-2-r-mgr-metodologia-kvalitativneho-vyskumu-test-online/
LOCATION:Online
CATEGORIES:Odbor Sociálna práca,SP - 2. ročník Mgr.
END:VEVENT
BEGIN:VEVENT
DTSTART;TZID=Europe/Bratislava:20260117T080000
DTEND;TZID=Europe/Bratislava:20260117T080000
DTSTAMP:20260426T021455
CREATED:20250123T115323Z
LAST-MODIFIED:20250916T122123Z
UID:46820-1768636800-1768636800@fsvladislava.sk
SUMMARY:SP 1.r. Mgr. - Aplikovaná sociálna politika - Zasadačka
DESCRIPTION:SP 1.r. Mgr. – Aplikovaná sociálna politika – univ. prof. doc. Lucia Ludvigh Cintulová\, PhD. – Zasadačka
URL:https://fsvladislava.sk/rozvrh/sp-1-r-mgr-pe-sk-aplikovana-socialna-politika-online/
LOCATION:FNsP NZ – Zasadačka
CATEGORIES:Odbor Sociálna práca,SP - 1. ročník Mgr.
END:VEVENT
BEGIN:VEVENT
DTSTART;TZID=Europe/Bratislava:20260117T080000
DTEND;TZID=Europe/Bratislava:20260117T083000
DTSTAMP:20260426T021455
CREATED:20250916T120233Z
LAST-MODIFIED:20260113T121043Z
UID:48138-1768636800-1768638600@fsvladislava.sk
SUMMARY:SP 1.r. Mgr. - SK SP v zdravotníctve - Zasadačka
DESCRIPTION:SP 1.r. Mgr. – Skúška: SP v zdravotníctve – Dr. Nagy Gažová – Zasadačka
URL:https://fsvladislava.sk/rozvrh/sp-1-r-mgr-sp-v-zdravotnictve-zasadacka/
LOCATION:FNsP NZ – Zasadačka
CATEGORIES:Odbor Sociálna práca,SP - 1. ročník Mgr.
END:VEVENT
BEGIN:VEVENT
DTSTART;TZID=Europe/Bratislava:20260117T090000
DTEND;TZID=Europe/Bratislava:20260117T090000
DTSTAMP:20260426T021455
CREATED:20251127T101654Z
LAST-MODIFIED:20260109T102143Z
UID:48716-1768640400-1768640400@fsvladislava.sk
SUMMARY:SP 1.r. Bc. - SK Občianske právo - SKÚŠKA ZRUŠENÁ ! - Kinosála
DESCRIPTION:SP 1.r. Bc. – Skúška: Občianske právo – SKÚŠKA ZRUŠENÁ ! – Dr. Lobodáš – Kinosála
URL:https://fsvladislava.sk/rozvrh/sp-1-r-bc-sk-obcianske-pravo-kinosala/
LOCATION:FNsP NZ  – Kinosála
CATEGORIES:Odbor Sociálna práca,SP - 1. ročník Bc.
END:VEVENT
BEGIN:VEVENT
DTSTART;TZID=Europe/Bratislava:20260119T080000
DTEND;TZID=Europe/Bratislava:20260119T090000
DTSTAMP:20260426T021455
CREATED:20251208T123304Z
LAST-MODIFIED:20260112T071429Z
UID:48795-1768809600-1768813200@fsvladislava.sk
SUMMARY:FNsP NZ - BOZP - Zasadačka
DESCRIPTION:FNsP NZ – BOZP – Zasadačka
URL:https://fsvladislava.sk/rozvrh/fnsp-nz-bozp-zasadacka-12/
LOCATION:FNsP NZ – Zasadačka
CATEGORIES:FNsP NZ
END:VEVENT
BEGIN:VEVENT
DTSTART;TZID=Europe/Bratislava:20260119T090000
DTEND;TZID=Europe/Bratislava:20260119T090000
DTSTAMP:20260426T021455
CREATED:20260109T063816Z
LAST-MODIFIED:20260109T115834Z
UID:48995-1768813200-1768813200@fsvladislava.sk
SUMMARY:PA 1.r. Bc. - SK Determinanty zdravia a výchova k zdraviu I. - Zasadačka
DESCRIPTION:PA 1.r. Bc. – Skúška: Determinanty zdravia a výchova k zdraviu I. – prof. Matulníková – Zasadačka
URL:https://fsvladislava.sk/rozvrh/pa-1-r-bc-sk-determinanty-zdravia-a-vychova-k-zdraviu-i-seminarna-miestnost-4/
LOCATION:FNsP NZ – Zasadačka
CATEGORIES:Odbor Pôrodná asistencia,PA - 1. ročník Bc.
END:VEVENT
BEGIN:VEVENT
DTSTART;TZID=Europe/Bratislava:20260119T090000
DTEND;TZID=Europe/Bratislava:20260119T140000
DTSTAMP:20260426T021455
CREATED:20251020T061955Z
LAST-MODIFIED:20251020T061955Z
UID:48417-1768813200-1768831200@fsvladislava.sk
SUMMARY:OŠE 4.r. Bc. - SK Oše. v gyn.-pôr. II. - Seminárna miestnosť
DESCRIPTION:OŠE 4.r. Bc. – Sk predtermín: Oše. v gyn.-pôr. II. – prof. Libová – Seminárna miestnosť\n(max. 25 študentov)
URL:https://fsvladislava.sk/rozvrh/ose-4-r-bc-sk-ose-v-gyn-por-ii-seminarna-miestnost-6/
LOCATION:FNsP NZ  – Seminárna miestnosť
CATEGORIES:Odbor Ošetrovateľstvo,OŠE - 4. ročník Bc.
END:VEVENT
BEGIN:VEVENT
DTSTART;TZID=Europe/Bratislava:20260119T100000
DTEND;TZID=Europe/Bratislava:20260119T130000
DTSTAMP:20260426T021455
CREATED:20260114T082753Z
LAST-MODIFIED:20260114T082753Z
UID:49143-1768816800-1768827600@fsvladislava.sk
SUMMARY:UZS 4.r. Bc. PE - Operačné stredisko BOZP - Kinosála
DESCRIPTION:UZS 4.r. Bc. PE – Multikultúrne OŠE – PhDr. Bc. Barborka\, MBA\, LL.M – Kinosála
URL:https://fsvladislava.sk/rozvrh/uzs-4-r-bc-pe-operacne-stredisko-bozp-kinosala/
LOCATION:FNsP NZ  – Kinosála
CATEGORIES:Odbor Urgentná zdravotná starostlivosť,UZS – 4. ročník Bc.
END:VEVENT
BEGIN:VEVENT
DTSTART;TZID=Europe/Bratislava:20260119T140000
DTEND;TZID=Europe/Bratislava:20260119T140000
DTSTAMP:20260426T021455
CREATED:20250916T094334Z
LAST-MODIFIED:20251118T135909Z
UID:48057-1768831200-1768831200@fsvladislava.sk
SUMMARY:PA 2.r. Bc. - SK Pôrodníctvo II. - Zasadačka
DESCRIPTION:PA 2.r. Bc. – Skúška: Pôrodníctvo II. – prof. Bartkovjak – Zasadačka
URL:https://fsvladislava.sk/rozvrh/pa-2-r-bc-porodnictvo-ii-zasadacka-14/
LOCATION:FNsP NZ – Zasadačka
CATEGORIES:Odbor Pôrodná asistencia,PA - 2. ročník Bc.
END:VEVENT
BEGIN:VEVENT
DTSTART;TZID=Europe/Bratislava:20260119T143000
DTEND;TZID=Europe/Bratislava:20260119T143000
DTSTAMP:20260426T021455
CREATED:20260108T102737Z
LAST-MODIFIED:20260108T102737Z
UID:48981-1768833000-1768833000@fsvladislava.sk
SUMMARY:UZS 4.r. Bc. - SK Ošetrovanie chronických rán - 12. poschodie
DESCRIPTION:UZS 4.r. Bc.  – Skúška – Ošetrovanie chronických rán – PhDr. A. Barteková – 12. poschodie
URL:https://fsvladislava.sk/rozvrh/uzs-4-r-bc-sk-osetrovanie-chronickych-ran-12-poschodie-2/
LOCATION:12. poschodie
CATEGORIES:Odbor Urgentná zdravotná starostlivosť,UZS – 4. ročník Bc.
END:VEVENT
BEGIN:VEVENT
DTSTART;TZID=Europe/Bratislava:20260119T150000
DTEND;TZID=Europe/Bratislava:20260119T150000
DTSTAMP:20260426T021455
CREATED:20251219T062013Z
LAST-MODIFIED:20251219T062013Z
UID:48887-1768834800-1768834800@fsvladislava.sk
SUMMARY:OŠE 1.r. Bc. - SK ANF a Zdravotnícka terminológia  - Modrý dom SZŠ
DESCRIPTION:OŠE 1.r. Bc. – Skúška: ANF a Zdravotnícka terminológia – Dr. Kocsis – Modrý dom SZŠ
URL:https://fsvladislava.sk/rozvrh/ose-1-r-bc-sk-anf-a-zdravotnicka-terminologia-modry-dom-szs-8/
LOCATION:SZŠ EK – Modrý dom
CATEGORIES:Odbor Ošetrovateľstvo,OŠE - 1. ročník Bc.
END:VEVENT
BEGIN:VEVENT
DTSTART;TZID=Europe/Bratislava:20260119T162600
DTEND;TZID=Europe/Bratislava:20260119T173000
DTSTAMP:20260426T021455
CREATED:20251201T065605Z
LAST-MODIFIED:20251201T065926Z
UID:48732-1768839960-1768843800@fsvladislava.sk
SUMMARY:OŠE 1.r. Bc. - SK Rádiológia - Elix
DESCRIPTION:OŠE 1.r. Bc. – Skúška: Rádiológia – MUDr. Macáková – Elix
URL:https://fsvladislava.sk/rozvrh/ose-1-r-bc-radiologia-elix-4/
LOCATION:Online – Elix
CATEGORIES:Odbor Ošetrovateľstvo,OŠE - 1. ročník Bc.
END:VEVENT
BEGIN:VEVENT
DTSTART;TZID=Europe/Bratislava:20260119T163000
DTEND;TZID=Europe/Bratislava:20260119T163000
DTSTAMP:20260426T021455
CREATED:20260115T102624Z
LAST-MODIFIED:20260115T102624Z
UID:49199-1768840200-1768840200@fsvladislava.sk
SUMMARY:SP 1.r. Bc. - SK Úvod do štúdia a dejiny SP - Zasadačka
DESCRIPTION:SP 1.r. Bc. – Skúška: Úvod do štúdia a dejiny SP – prof. Radková – Zasadačka
URL:https://fsvladislava.sk/rozvrh/sp-1-r-bc-sk-uvod-do-studia-a-dejiny-sp-zasadacka/
LOCATION:FNsP NZ – Zasadačka
CATEGORIES:Odbor Sociálna práca,SP - 1. ročník Bc.
ORGANIZER;CN="prof. Radkov%C3%A1":MAILTO:libusa.radkova@gmail.com
END:VEVENT
BEGIN:VEVENT
DTSTART;TZID=Europe/Bratislava:20260119T190000
DTEND;TZID=Europe/Bratislava:20260119T190000
DTSTAMP:20260426T021455
CREATED:20251117T105741Z
LAST-MODIFIED:20251117T105741Z
UID:48584-1768849200-1768849200@fsvladislava.sk
SUMMARY:SP 2.r. Bc. - SK Sociálna práca v neziskovom sektore  - Elix
DESCRIPTION:SP 2.r. Bc. – Skúška: Sociálna práca v neziskovom sektore  – prof. Radková – Online-Elix
URL:https://fsvladislava.sk/rozvrh/sp-2-r-bc-sk-socialna-praca-v-neziskovom-sektore-elix/
LOCATION:Online – Elix
CATEGORIES:Odbor Sociálna práca,SP - 2. ročník Bc.
ORGANIZER;CN="prof. Radkov%C3%A1":MAILTO:libusa.radkova@gmail.com
END:VEVENT
BEGIN:VEVENT
DTSTART;TZID=Europe/Bratislava:20260119T190000
DTEND;TZID=Europe/Bratislava:20260119T190000
DTSTAMP:20260426T021455
CREATED:20260115T123951Z
LAST-MODIFIED:20260119T063324Z
UID:49211-1768849200-1768849200@fsvladislava.sk
SUMMARY:PA 2.r. Bc. - SK zápočet - Pediatria - Elix
DESCRIPTION:PA 2.r. Bc. –  Skúška zápočet – Pediatria – MUDr. Radvanská – Elix
URL:https://fsvladislava.sk/rozvrh/pa-2-r-bc-sk-zapocet-pediatria-elix/
LOCATION:Online – Elix
CATEGORIES:Odbor Pôrodná asistencia,PA - 2. ročník Bc.
END:VEVENT
BEGIN:VEVENT
DTSTART;TZID=Europe/Bratislava:20260120T070000
DTEND;TZID=Europe/Bratislava:20260120T160000
DTSTAMP:20260426T021455
CREATED:20251120T132610Z
LAST-MODIFIED:20260113T112911Z
UID:48638-1768892400-1768924800@fsvladislava.sk
SUMMARY:OŠE 4.r. Bc. - Klinické cvičenia - Kinosála
DESCRIPTION:OŠE 4.r. Bc. – Klinické cvičenia – Dr. Bystrická – Kinosála
URL:https://fsvladislava.sk/rozvrh/ose-4-r-bc-klinicke-cvicenia-kinosala/
LOCATION:FNsP NZ  – Kinosála
CATEGORIES:Odbor Ošetrovateľstvo,OŠE - 4. ročník Bc.
END:VEVENT
BEGIN:VEVENT
DTSTART;TZID=Europe/Bratislava:20260120T073000
DTEND;TZID=Europe/Bratislava:20260120T083000
DTSTAMP:20260426T021455
CREATED:20260116T073347Z
LAST-MODIFIED:20260116T073347Z
UID:49227-1768894200-1768897800@fsvladislava.sk
SUMMARY:FNsP NZ - Operatívna porada vedúcich zamestnancov - Zasadačka
DESCRIPTION:FNsP NZ – Operatívna porada vedúcich zamestnancov – Zasadačka
URL:https://fsvladislava.sk/rozvrh/fnsp-nz-operativna-porada-veducich-zamestnancov-zasadacka-98/
LOCATION:FNsP NZ – Zasadačka
CATEGORIES:FNsP NZ
END:VEVENT
BEGIN:VEVENT
DTSTART;TZID=Europe/Bratislava:20260120T083000
DTEND;TZID=Europe/Bratislava:20260120T130000
DTSTAMP:20260426T021455
CREATED:20250903T055949Z
LAST-MODIFIED:20260116T073413Z
UID:47751-1768897800-1768914000@fsvladislava.sk
SUMMARY:FNsP NZ - Odbor Informatiky - Zasadačka
DESCRIPTION:FNsP NZ – Odbor Informatiky – Zasadačka
URL:https://fsvladislava.sk/rozvrh/fnsp-nz-operativna-porada-veducich-zamestnancov-zasadacka-53/
LOCATION:FNsP NZ – Zasadačka
CATEGORIES:FNsP NZ
END:VEVENT
BEGIN:VEVENT
DTSTART;TZID=Europe/Bratislava:20260120T090000
DTEND;TZID=Europe/Bratislava:20260120T140000
DTSTAMP:20260426T021455
CREATED:20251020T062122Z
LAST-MODIFIED:20251020T062122Z
UID:48419-1768899600-1768917600@fsvladislava.sk
SUMMARY:OŠE 4.r. Bc. - SK OT Oše. v gyn.-pôr. II. - Seminárna miestnosť
DESCRIPTION:OŠE 4.r. Bc. – Skúška OT: Oše. v gyn.-pôr. II. – prof. Libová – Seminárna miestnosť
URL:https://fsvladislava.sk/rozvrh/ose-4-r-bc-sk-ot-ose-v-gyn-por-ii-seminarna-miestnost-3/
LOCATION:FNsP NZ  – Seminárna miestnosť
CATEGORIES:Odbor Ošetrovateľstvo,OŠE - 4. ročník Bc.
END:VEVENT
BEGIN:VEVENT
DTSTART;TZID=Europe/Bratislava:20260120T130000
DTEND;TZID=Europe/Bratislava:20260120T150000
DTSTAMP:20260426T021455
CREATED:20260107T132644Z
LAST-MODIFIED:20260107T132644Z
UID:48929-1768914000-1768921200@fsvladislava.sk
SUMMARY:FNsP NZ - DRG - Zasadačka
DESCRIPTION:FNsP NZ – DRG – Zasadačka
URL:https://fsvladislava.sk/rozvrh/fnsp-nz-drg-zasadacka-4/
LOCATION:FNsP NZ – Zasadačka
CATEGORIES:FNsP NZ
END:VEVENT
BEGIN:VEVENT
DTSTART;TZID=Europe/Bratislava:20260120T150000
DTEND;TZID=Europe/Bratislava:20260120T150000
DTSTAMP:20260426T021455
CREATED:20251219T062032Z
LAST-MODIFIED:20251219T062032Z
UID:48889-1768921200-1768921200@fsvladislava.sk
SUMMARY:OŠE 1.r. Bc. - SK ANF a Zdravotnícka terminológia  - Modrý dom SZŠ
DESCRIPTION:OŠE 1.r. Bc. – Skúška: ANF a Zdravotnícka terminológia – Dr. Kocsis – Modrý dom SZŠ
URL:https://fsvladislava.sk/rozvrh/ose-1-r-bc-sk-anf-a-zdravotnicka-terminologia-modry-dom-szs-9/
LOCATION:SZŠ EK – Modrý dom
CATEGORIES:Odbor Ošetrovateľstvo,OŠE - 1. ročník Bc.
END:VEVENT
BEGIN:VEVENT
DTSTART;TZID=Europe/Bratislava:20260121T083000
DTEND;TZID=Europe/Bratislava:20260121T083000
DTSTAMP:20260426T021455
CREATED:20251121T070504Z
LAST-MODIFIED:20251121T070504Z
UID:48672-1768984200-1768984200@fsvladislava.sk
SUMMARY:OŠE 4.r. Bc. - SK Oše. v pediatrii II. - suterén FNsP NZ
DESCRIPTION:OŠE 4.r. Bc. – Skúška: Oše. v pediatrii II. – PhDr. I. Nagyová\, PhD. – suterén FNsP NZ
URL:https://fsvladislava.sk/rozvrh/ose-4-r-bc-sk-ose-v-pediatrii-ii-suteren-fnsp-nz-3/
LOCATION:suterén FNsP NZ
CATEGORIES:Odbor Ošetrovateľstvo,OŠE - 4. ročník Bc.
END:VEVENT
BEGIN:VEVENT
DTSTART;TZID=Europe/Bratislava:20260121T094500
DTEND;TZID=Europe/Bratislava:20260121T120000
DTSTAMP:20260426T021455
CREATED:20260105T085216Z
LAST-MODIFIED:20260107T071233Z
UID:48916-1768988700-1768996800@fsvladislava.sk
SUMMARY:FNsP NZ - prof. Rudinský - Zasadačka
DESCRIPTION:FNsP NZ – prof. Rudinský – Zasadačka
URL:https://fsvladislava.sk/rozvrh/fnsp-nz-prof-rudinsky-zasadacka-2/
LOCATION:FNsP NZ – Zasadačka
CATEGORIES:FNsP NZ
END:VEVENT
BEGIN:VEVENT
DTSTART;TZID=Europe/Bratislava:20260121T140000
DTEND;TZID=Europe/Bratislava:20260121T140000
DTSTAMP:20260426T021455
CREATED:20251120T132542Z
LAST-MODIFIED:20251120T132542Z
UID:48636-1769004000-1769004000@fsvladislava.sk
SUMMARY:OŠE 4.r. Bc. - Klinické cvičenia - Seminárna miestnosť
DESCRIPTION:OŠE 4.r. Bc. – Klinické cvičenia – Dr. Bystrická – Seminárna miestnosť
URL:https://fsvladislava.sk/rozvrh/ose-4-r-bc-klinicke-cvicenia-seminarna-miestnost/
LOCATION:FNsP NZ  – Seminárna miestnosť
CATEGORIES:Odbor Ošetrovateľstvo,OŠE - 4. ročník Bc.
END:VEVENT
BEGIN:VEVENT
DTSTART;TZID=Europe/Bratislava:20260121T143000
DTEND;TZID=Europe/Bratislava:20260121T143000
DTSTAMP:20260426T021455
CREATED:20260108T102811Z
LAST-MODIFIED:20260108T102811Z
UID:48983-1769005800-1769005800@fsvladislava.sk
SUMMARY:UZS 4.r. Bc. - SK Ošetrovanie chronických rán - 12. poschodie
DESCRIPTION:UZS 4.r. Bc.  – Skúška – Ošetrovanie chronických rán – PhDr. A. Barteková – 12. poschodie
URL:https://fsvladislava.sk/rozvrh/uzs-4-r-bc-sk-osetrovanie-chronickych-ran-12-poschodie-3/
LOCATION:12. poschodie
CATEGORIES:Odbor Urgentná zdravotná starostlivosť,UZS – 4. ročník Bc.
END:VEVENT
BEGIN:VEVENT
DTSTART;TZID=Europe/Bratislava:20260121T150000
DTEND;TZID=Europe/Bratislava:20260121T150000
DTSTAMP:20260426T021455
CREATED:20251219T062049Z
LAST-MODIFIED:20251219T062049Z
UID:48891-1769007600-1769007600@fsvladislava.sk
SUMMARY:OŠE 1.r. Bc. - SK ANF a Zdravotnícka terminológia  - Modrý dom SZŠ
DESCRIPTION:OŠE 1.r. Bc. – Skúška: ANF a Zdravotnícka terminológia – Dr. Kocsis – Modrý dom SZŠ
URL:https://fsvladislava.sk/rozvrh/ose-1-r-bc-sk-anf-a-zdravotnicka-terminologia-modry-dom-szs-10/
LOCATION:SZŠ EK – Modrý dom
CATEGORIES:Odbor Ošetrovateľstvo,OŠE - 1. ročník Bc.
END:VEVENT
END:VCALENDAR