BEGIN:VCALENDAR
VERSION:2.0
PRODID:-//Fakulta zdravotníctva a sociálnej práce sv. Ladislava, Nové Zámky - ECPv6.15.17//NONSGML v1.0//EN
CALSCALE:GREGORIAN
METHOD:PUBLISH
X-WR-CALNAME:Fakulta zdravotníctva a sociálnej práce sv. Ladislava, Nové Zámky
X-ORIGINAL-URL:https://fsvladislava.sk
X-WR-CALDESC:Udalosti pre Fakulta zdravotníctva a sociálnej práce sv. Ladislava, Nové Zámky
REFRESH-INTERVAL;VALUE=DURATION:PT1H
X-Robots-Tag:noindex
X-PUBLISHED-TTL:PT1H
BEGIN:VTIMEZONE
TZID:Europe/Bratislava
BEGIN:DAYLIGHT
TZOFFSETFROM:+0100
TZOFFSETTO:+0200
TZNAME:CEST
DTSTART:20240331T010000
END:DAYLIGHT
BEGIN:STANDARD
TZOFFSETFROM:+0200
TZOFFSETTO:+0100
TZNAME:CET
DTSTART:20241027T010000
END:STANDARD
BEGIN:DAYLIGHT
TZOFFSETFROM:+0100
TZOFFSETTO:+0200
TZNAME:CEST
DTSTART:20250330T010000
END:DAYLIGHT
BEGIN:STANDARD
TZOFFSETFROM:+0200
TZOFFSETTO:+0100
TZNAME:CET
DTSTART:20251026T010000
END:STANDARD
BEGIN:DAYLIGHT
TZOFFSETFROM:+0100
TZOFFSETTO:+0200
TZNAME:CEST
DTSTART:20260329T010000
END:DAYLIGHT
BEGIN:STANDARD
TZOFFSETFROM:+0200
TZOFFSETTO:+0100
TZNAME:CET
DTSTART:20261025T010000
END:STANDARD
END:VTIMEZONE
BEGIN:VEVENT
DTSTART;TZID=Europe/Bratislava:20251112T090000
DTEND;TZID=Europe/Bratislava:20251112T153000
DTSTAMP:20260426T053920
CREATED:20240905T075724Z
LAST-MODIFIED:20251002T123908Z
UID:45074-1762938000-1762961400@fsvladislava.sk
SUMMARY:OŠE 2.r. Bc.\, PA 1.r. Bc. - Farmakológia  - Webex
DESCRIPTION:OŠE 2.r. Bc.\, PA 1.r. Bc. – Farmakológia – prof. Novotný- Webex
URL:https://fsvladislava.sk/rozvrh/ose-2-r-mgr-prednaska-kinosala-2/
LOCATION:Online – Webex
CATEGORIES:Odbor Ošetrovateľstvo,Odbor Pôrodná asistencia,OŠE - 2. ročník Bc.,PA - 1. ročník Bc.
END:VEVENT
BEGIN:VEVENT
DTSTART;TZID=Europe/Bratislava:20251112T090000
DTEND;TZID=Europe/Bratislava:20251112T170000
DTSTAMP:20260426T053920
CREATED:20250822T042614Z
LAST-MODIFIED:20250822T042614Z
UID:47676-1762938000-1762966800@fsvladislava.sk
SUMMARY:PA 3.r. Bc. D. – Pôrodná asistencia IV. - Zasadačka
DESCRIPTION:PA 3.r. Bc. D. – Pôrodná asistencia IV. – Mgr. Dorazilová\, PhD. – Zasadačka
URL:https://fsvladislava.sk/rozvrh/pa-3-r-bc-d-porodna-asistencia-iv-zasadacka-4/
LOCATION:FNsP NZ – Zasadačka
CATEGORIES:Odbor Pôrodná asistencia,PA - 3. ročník Bc.
END:VEVENT
BEGIN:VEVENT
DTSTART;TZID=Europe/Bratislava:20251112T170000
DTEND;TZID=Europe/Bratislava:20251112T183000
DTSTAMP:20260426T053920
CREATED:20241016T075950Z
LAST-MODIFIED:20251104T112936Z
UID:45641-1762966800-1762972200@fsvladislava.sk
SUMMARY:SP 2.r. Mgr. - Misijná a charitatívna práca - Webex
DESCRIPTION:SP 2.r. Mgr. – Misijná a charitatívna práca – prof. PhDr.Ing. Ladislav Bučko\, PhD. – Online-Webex
URL:https://fsvladislava.sk/rozvrh/sp-2-r-mgr-sk-misijna-a-charitativna-praca-zasadacka/
LOCATION:Online – Webex
CATEGORIES:Odbor Sociálna práca,SP - 2. ročník Mgr.
END:VEVENT
BEGIN:VEVENT
DTSTART;TZID=Europe/Bratislava:20251113T070000
DTEND;TZID=Europe/Bratislava:20251113T130000
DTSTAMP:20260426T053920
CREATED:20251022T055545Z
LAST-MODIFIED:20251022T055545Z
UID:48447-1763017200-1763038800@fsvladislava.sk
SUMMARY:Fakulta sv. Ladislava - SZŠ - Kinosála
DESCRIPTION:Fakulta sv. Ladislava – SZŠ – Kinosála
URL:https://fsvladislava.sk/rozvrh/fakulta-sv-ladislava-szs-kinosala-7/
LOCATION:FNsP NZ  – Kinosála
CATEGORIES:Fakulta
END:VEVENT
BEGIN:VEVENT
DTSTART;TZID=Europe/Bratislava:20251113T080000
DTEND;TZID=Europe/Bratislava:20251113T130000
DTSTAMP:20260426T053920
CREATED:20241114T063043Z
LAST-MODIFIED:20250916T095232Z
UID:45961-1763020800-1763038800@fsvladislava.sk
SUMMARY:PA 1.r. Bc. - Biofyzika - Webex
DESCRIPTION:PA 1.r. Bc. –  Biofyzika – univ. prof. Foltín – Webex
URL:https://fsvladislava.sk/rozvrh/pa-1-r-bc-sk-biofyzika-elix-3/
LOCATION:Online – Webex
CATEGORIES:Odbor Pôrodná asistencia,PA - 1. ročník Bc.
END:VEVENT
BEGIN:VEVENT
DTSTART;TZID=Europe/Bratislava:20251113T080000
DTEND;TZID=Europe/Bratislava:20251113T160000
DTSTAMP:20260426T053920
CREATED:20250822T042639Z
LAST-MODIFIED:20250822T042639Z
UID:47678-1763020800-1763049600@fsvladislava.sk
SUMMARY:PA 3.r. Bc. D. – Pôrodná asistencia IV. - Zasadačka
DESCRIPTION:PA 3.r. Bc. D. – Pôrodná asistencia IV. – Mgr. Dorazilová\, PhD. – Zasadačka
URL:https://fsvladislava.sk/rozvrh/pa-3-r-bc-d-porodna-asistencia-iv-zasadacka-5/
LOCATION:FNsP NZ – Zasadačka
CATEGORIES:Odbor Pôrodná asistencia,PA - 3. ročník Bc.
END:VEVENT
BEGIN:VEVENT
DTSTART;TZID=Europe/Bratislava:20251113T090000
DTEND;TZID=Europe/Bratislava:20251113T153000
DTSTAMP:20260426T053920
CREATED:20230925T054913Z
LAST-MODIFIED:20251103T142951Z
UID:41105-1763024400-1763047800@fsvladislava.sk
SUMMARY:OŠE 1.r. Mgr. - Nozokomiálne infekcie\, infektológia a oše. - Google meet
DESCRIPTION:OŠE 1.r. Mgr. – Nozokomiálne infekcie\, infektológia a oše. – Dr. Cipková – Online – Google meet
URL:https://fsvladislava.sk/rozvrh/ose-1-r-mgr-nozokomialne-infekcie-infektologia-a-ose-online/
LOCATION:Online – Google meet
CATEGORIES:Odbor Ošetrovateľstvo,OŠE - 1. ročník Mgr.
END:VEVENT
BEGIN:VEVENT
DTSTART;TZID=Europe/Bratislava:20251113T153000
DTEND;TZID=Europe/Bratislava:20251113T153000
DTSTAMP:20260426T053920
CREATED:20251027T062945Z
LAST-MODIFIED:20251027T062945Z
UID:48463-1763047800-1763047800@fsvladislava.sk
SUMMARY:SP 4.r. Bc. - SK SP s rodinou - Zoom
DESCRIPTION:SP 4.r. Bc. –  Skúška: SP s rodinou – prof. Tománek – Online – Zoom
URL:https://fsvladislava.sk/rozvrh/sp-4-r-bc-sk-sp-s-rodinou-zoom/
LOCATION:Online – Zoom
CATEGORIES:Odbor Sociálna práca,SP - 4. ročník Bc.
END:VEVENT
BEGIN:VEVENT
DTSTART;TZID=Europe/Bratislava:20251114T080000
DTEND;TZID=Europe/Bratislava:20251114T160000
DTSTAMP:20260426T053920
CREATED:20250822T042651Z
LAST-MODIFIED:20250822T042651Z
UID:47680-1763107200-1763136000@fsvladislava.sk
SUMMARY:PA 3.r. Bc. D. – Pôrodná asistencia IV. - Zasadačka
DESCRIPTION:PA 3.r. Bc. D. – Pôrodná asistencia IV. – Mgr. Dorazilová\, PhD. – Zasadačka
URL:https://fsvladislava.sk/rozvrh/pa-3-r-bc-d-porodna-asistencia-iv-zasadacka-6/
LOCATION:FNsP NZ – Zasadačka
CATEGORIES:Odbor Pôrodná asistencia,PA - 3. ročník Bc.
END:VEVENT
BEGIN:VEVENT
DTSTART;TZID=Europe/Bratislava:20251114T120000
DTEND;TZID=Europe/Bratislava:20251114T120000
DTSTAMP:20260426T053920
CREATED:20230904T101333Z
LAST-MODIFIED:20250916T111516Z
UID:40587-1763121600-1763121600@fsvladislava.sk
SUMMARY:SP 2.r. Bc. - SP v neziskovom sektore - Zoom
DESCRIPTION:SP 2.r. Bc. – SP v neziskovom sektore – prof. Radková – Zoom
URL:https://fsvladislava.sk/rozvrh/sp-1-r-bc-sp-v-neziskovom-sektore-zasadacka/
LOCATION:Online – Zoom
CATEGORIES:Odbor Sociálna práca,SP - 2. ročník Bc.
ORGANIZER;CN="prof. Radkov%C3%A1":MAILTO:libusa.radkova@gmail.com
END:VEVENT
BEGIN:VEVENT
DTSTART;TZID=Europe/Bratislava:20251114T120000
DTEND;TZID=Europe/Bratislava:20251114T120000
DTSTAMP:20260426T053920
CREATED:20250115T080459Z
LAST-MODIFIED:20250916T111105Z
UID:46578-1763121600-1763121600@fsvladislava.sk
SUMMARY:SP 1.r. Bc. - Občianske právo - Kinosála
DESCRIPTION:SP 1.r. Bc. – Občianske právo – Dr. Lobodáš – Kinosála
URL:https://fsvladislava.sk/rozvrh/sp-1-r-bc-sk-obcianske-pravo-zasadacka-2/
LOCATION:FNsP NZ  – Kinosála
CATEGORIES:Odbor Sociálna práca,SP - 1. ročník Bc.
END:VEVENT
BEGIN:VEVENT
DTSTART;TZID=Europe/Bratislava:20251114T160000
DTEND;TZID=Europe/Bratislava:20251114T190000
DTSTAMP:20260426T053920
CREATED:20240926T054731Z
LAST-MODIFIED:20251002T124100Z
UID:45412-1763136000-1763146800@fsvladislava.sk
SUMMARY:PA 1.r. Bc.\, OŠE 1.r. Bc. - Rádiológia - Webex
DESCRIPTION:PA 1.r. Bc.\, OŠE 1.r. Bc. – Rádiológia – MUDr. Macáková – Webex
URL:https://fsvladislava.sk/rozvrh/pa-1-r-bc-radiologia-elix-4/
LOCATION:Online – Webex
CATEGORIES:Odbor Pôrodná asistencia,OŠE - 1. ročník Bc.,OŠE - Ročníky 1. stupeň bakalári,PA - 1. ročník Bc.
END:VEVENT
BEGIN:VEVENT
DTSTART;TZID=Europe/Bratislava:20251115T080000
DTEND;TZID=Europe/Bratislava:20251115T160000
DTSTAMP:20260426T053920
CREATED:20250822T042706Z
LAST-MODIFIED:20250822T042706Z
UID:47682-1763193600-1763222400@fsvladislava.sk
SUMMARY:PA 3.r. Bc. D. – Pôrodná asistencia IV. - Zasadačka
DESCRIPTION:PA 3.r. Bc. D. – Pôrodná asistencia IV. – Mgr. Dorazilová\, PhD. – Zasadačka
URL:https://fsvladislava.sk/rozvrh/pa-3-r-bc-d-porodna-asistencia-iv-zasadacka-7/
LOCATION:FNsP NZ – Zasadačka
CATEGORIES:Odbor Pôrodná asistencia,PA - 3. ročník Bc.
END:VEVENT
BEGIN:VEVENT
DTSTART;TZID=Europe/Bratislava:20251115T090000
DTEND;TZID=Europe/Bratislava:20251115T090000
DTSTAMP:20260426T053920
CREATED:20230927T190156Z
LAST-MODIFIED:20250916T111402Z
UID:41303-1763197200-1763197200@fsvladislava.sk
SUMMARY:SP 1.r. Bc. - Sociológia - Kinosála
DESCRIPTION:SP 1.r. Bc. –Sociológia – Prof. Matulník – Kinosála
URL:https://fsvladislava.sk/rozvrh/sp-1-r-bc-sociologia-kinosala-2/
LOCATION:FNsP NZ  – Kinosála
CATEGORIES:Odbor Sociálna práca,SP - 1. ročník Bc.
END:VEVENT
BEGIN:VEVENT
DTSTART;TZID=Europe/Bratislava:20251115T090000
DTEND;TZID=Europe/Bratislava:20251115T120000
DTSTAMP:20260426T053920
CREATED:20250916T072308Z
LAST-MODIFIED:20251002T124151Z
UID:48032-1763197200-1763208000@fsvladislava.sk
SUMMARY:PA 1.r. Bc.\, OŠE 1.r. Bc. - Rádiológia - Webex
DESCRIPTION:PA 1.r. Bc.\, OŠE 1.r. Bc. – Rádiológia – MUDr. Macáková – Webex
URL:https://fsvladislava.sk/rozvrh/pa-1-r-bc-ose-1-r-bc-radiologia-elix/
LOCATION:Online – Webex
CATEGORIES:Odbor Pôrodná asistencia,OŠE - 1. ročník Bc.,OŠE - Ročníky 1. stupeň bakalári,PA - 1. ročník Bc.
END:VEVENT
BEGIN:VEVENT
DTSTART;TZID=Europe/Bratislava:20251117T080000
DTEND;TZID=Europe/Bratislava:20251117T140000
DTSTAMP:20260426T053920
CREATED:20250916T093848Z
LAST-MODIFIED:20250916T093848Z
UID:48045-1763366400-1763388000@fsvladislava.sk
SUMMARY:PA 2.r. Bc. - Gynekológia II. - Zasadačka
DESCRIPTION:PA 2.r. Bc. – Gynekológia II. – Dr. Resutíková – Zasadačka
URL:https://fsvladislava.sk/rozvrh/pa-2-r-bc-gynekologia-ii-zasadacka-12/
LOCATION:FNsP NZ – Zasadačka
CATEGORIES:Odbor Pôrodná asistencia,PA - 2. ročník Bc.
END:VEVENT
BEGIN:VEVENT
DTSTART;TZID=Europe/Bratislava:20251118T083000
DTEND;TZID=Europe/Bratislava:20251118T100000
DTSTAMP:20260426T053920
CREATED:20240725T061323Z
LAST-MODIFIED:20240725T061323Z
UID:44883-1763454600-1763460000@fsvladislava.sk
SUMMARY:FNsP NZ - Operatívna porada vedúcich zamestnancov - Zasadačka
DESCRIPTION:FNsP NZ – Operatívna porada vedúcich zamestnancov – Zasadačka
URL:https://fsvladislava.sk/rozvrh/fnsp-nz-operativna-porada-veducich-zamestnancov-zasadacka-41/
LOCATION:FNsP NZ – Zasadačka
CATEGORIES:FNsP NZ
END:VEVENT
BEGIN:VEVENT
DTSTART;TZID=Europe/Bratislava:20251118T090000
DTEND;TZID=Europe/Bratislava:20251118T100000
DTSTAMP:20260426T053920
CREATED:20251114T112005Z
LAST-MODIFIED:20251114T112005Z
UID:48578-1763456400-1763460000@fsvladislava.sk
SUMMARY:Fakulta sv. Ladislava - Skúška - prof. Ľ. Libová - Seminárna miestnosť
DESCRIPTION:Fakulta sv. Ladislava – Skúška – prof. Ľ. Libová  – Seminárna miestnosť
URL:https://fsvladislava.sk/rozvrh/fakulta-sv-ladislava-skuska-prof-l-libova-seminarna-miestnost/
LOCATION:FNsP NZ  – Seminárna miestnosť
CATEGORIES:Fakulta
END:VEVENT
BEGIN:VEVENT
DTSTART;TZID=Europe/Bratislava:20251118T090000
DTEND;TZID=Europe/Bratislava:20251118T153000
DTSTAMP:20260426T053920
CREATED:20250924T121426Z
LAST-MODIFIED:20250924T121426Z
UID:48231-1763456400-1763479800@fsvladislava.sk
SUMMARY:OŠE 2.r. Mgr. PA - Zdravotnícke poisťovníctvo - Kinosála
DESCRIPTION:OŠE 2.r. Mgr. PA – Zdravotnícke poisťovníctvo – prof. Ďuriš  – Kinosála
URL:https://fsvladislava.sk/rozvrh/ose-2-r-mgr-pa-zdravotnicke-poistovnictvo-kinosala/
LOCATION:FNsP NZ  – Kinosála
CATEGORIES:Odbor Ošetrovateľstvo,OŠE - 2. ročník Mgr.
END:VEVENT
BEGIN:VEVENT
DTSTART;TZID=Europe/Bratislava:20251118T100000
DTEND;TZID=Europe/Bratislava:20251118T140000
DTSTAMP:20260426T053920
CREATED:20250916T093934Z
LAST-MODIFIED:20250916T093934Z
UID:48047-1763460000-1763474400@fsvladislava.sk
SUMMARY:PA 2.r. Bc. - Gynekológia II. - Zasadačka
DESCRIPTION:PA 2.r. Bc. – Gynekológia II. – Dr. Resutíková – Zasadačka
URL:https://fsvladislava.sk/rozvrh/pa-2-r-bc-gynekologia-ii-zasadacka-13/
LOCATION:FNsP NZ – Zasadačka
CATEGORIES:Odbor Pôrodná asistencia,PA - 2. ročník Bc.
END:VEVENT
BEGIN:VEVENT
DTSTART;TZID=Europe/Bratislava:20251118T110000
DTEND;TZID=Europe/Bratislava:20251118T173000
DTSTAMP:20260426T053920
CREATED:20251022T060613Z
LAST-MODIFIED:20251022T060613Z
UID:48449-1763463600-1763487000@fsvladislava.sk
SUMMARY:PA 1.r. Bc. - Filozofia - Webex
DESCRIPTION:PA 1.r. Bc. – Filozofia – doc. Mojžešová – Online-Webex
URL:https://fsvladislava.sk/rozvrh/pa-1-r-bc-filozofia-webex/
LOCATION:Online – Webex
CATEGORIES:Odbor Pôrodná asistencia,PA - 1. ročník Bc.
END:VEVENT
BEGIN:VEVENT
DTSTART;TZID=Europe/Bratislava:20251118T150000
DTEND;TZID=Europe/Bratislava:20251118T210000
DTSTAMP:20260426T053920
CREATED:20251117T120902Z
LAST-MODIFIED:20251117T120902Z
UID:48593-1763478000-1763499600@fsvladislava.sk
SUMMARY:UZS 4.r. Bc. - Multikultúrne ošetrovateľstvo  - Webex
DESCRIPTION:UZS 4.r. Bc. – Multikultúrne ošetrovateľstvo  – MUDr. K. Lenárová\, PhD. – Online-Webex
URL:https://fsvladislava.sk/rozvrh/uzs-4-r-bc-multikulturne-osetrovatelstvo-webex/
LOCATION:Online – Webex
CATEGORIES:Odbor Urgentná zdravotná starostlivosť,UZS – 4. ročník Bc.
END:VEVENT
BEGIN:VEVENT
DTSTART;TZID=Europe/Bratislava:20251118T150000
DTEND;TZID=Europe/Bratislava:20251118T213000
DTSTAMP:20260426T053920
CREATED:20240918T105543Z
LAST-MODIFIED:20250917T054741Z
UID:45272-1763478000-1763501400@fsvladislava.sk
SUMMARY:OŠE 1.r. Mgr. - Enviromentálne zdravie a oše. - Online
DESCRIPTION:OŠE 1.r. Mgr. – Enviromentálne zdravie a oše. – prof. Lišková – Online
URL:https://fsvladislava.sk/rozvrh/ose-1-r-mgr-enviromentalne-zdravie-a-ose-elix/
LOCATION:Online
CATEGORIES:Odbor Ošetrovateľstvo,OŠE - 1. ročník Mgr.
END:VEVENT
BEGIN:VEVENT
DTSTART;TZID=Europe/Bratislava:20251118T160000
DTEND;TZID=Europe/Bratislava:20251118T183000
DTSTAMP:20260426T053920
CREATED:20251118T100817Z
LAST-MODIFIED:20251118T100817Z
UID:48606-1763481600-1763490600@fsvladislava.sk
SUMMARY:SP 2.r. Bc. - špecializovaná odborná prax - Zoom
DESCRIPTION:SP 2.r. Bc. –  špecializovaná odborná prax – Dr. Buzalová – Zoom
URL:https://fsvladislava.sk/rozvrh/sp-2-r-bc-specializovana-odborna-prax-zoom/
LOCATION:Online – Zoom
CATEGORIES:Odbor Sociálna práca,SP - 2. ročník Bc.
END:VEVENT
BEGIN:VEVENT
DTSTART;TZID=Europe/Bratislava:20251118T173000
DTEND;TZID=Europe/Bratislava:20251118T183000
DTSTAMP:20260426T053920
CREATED:20251104T113721Z
LAST-MODIFIED:20251118T101850Z
UID:48511-1763487000-1763490600@fsvladislava.sk
SUMMARY:SP 3.r. Bc. - SP s nezamestnanými PV - Zoom
DESCRIPTION:SP 3.r. Bc. – SP s nezamestnanými PV – univ . prof. doc. Mgr. Lucia Ludvigh Cintulová\, PhD. – Zoom
URL:https://fsvladislava.sk/rozvrh/sp-3-r-bc-sp-s-nezamestnanymi-pv-zoom/
LOCATION:Online – Zoom
CATEGORIES:Odbor Sociálna práca,SP - 3. ročník Bc.
END:VEVENT
BEGIN:VEVENT
DTSTART;TZID=Europe/Bratislava:20251119T080000
DTEND;TZID=Europe/Bratislava:20251119T143000
DTSTAMP:20260426T053920
CREATED:20240916T052137Z
LAST-MODIFIED:20250917T054930Z
UID:45211-1763539200-1763562600@fsvladislava.sk
SUMMARY:OŠE 1.r. Mgr. - Manažérska komunikácia - Kinosála
DESCRIPTION:OŠE 1.r. Mgr. – Manažérska komunikácia – doc. Otrubová – Kinosála
URL:https://fsvladislava.sk/rozvrh/ose-1-r-mgr-manazerska-komunikacia-kinosala-2/
LOCATION:FNsP NZ  – Kinosála
CATEGORIES:Odbor Ošetrovateľstvo,OŠE - 1. ročník Mgr.
END:VEVENT
BEGIN:VEVENT
DTSTART;TZID=Europe/Bratislava:20251119T090000
DTEND;TZID=Europe/Bratislava:20251119T153000
DTSTAMP:20260426T053920
CREATED:20250916T092540Z
LAST-MODIFIED:20250916T092540Z
UID:48039-1763542800-1763566200@fsvladislava.sk
SUMMARY:PA 3.r. Bc. - Právna ochrana matky a dieťaťa - Zasadačka
DESCRIPTION:PA 3.r. Bc. – Právna ochrana matky a dieťaťa – prof. Šimoňák – Zasadačka
URL:https://fsvladislava.sk/rozvrh/pa-3-r-bc-pravna-ochrana-matky-a-dietata-zasadacka/
LOCATION:FNsP NZ – Zasadačka
CATEGORIES:Odbor Pôrodná asistencia,PA - 3. ročník Bc.
END:VEVENT
BEGIN:VEVENT
DTSTART;TZID=Europe/Bratislava:20251119T150000
DTEND;TZID=Europe/Bratislava:20251119T213000
DTSTAMP:20260426T053920
CREATED:20240918T104928Z
LAST-MODIFIED:20250924T121641Z
UID:45270-1763564400-1763587800@fsvladislava.sk
SUMMARY:OŠE 2.r. Mgr. - ZIS - Elix
DESCRIPTION:OŠE 2.r. Mgr. – ZIS – Ing. Kovács – Elix
URL:https://fsvladislava.sk/rozvrh/ose-2-r-mgr-zis-elix-2/
LOCATION:Online – Elix
CATEGORIES:Odbor Ošetrovateľstvo,OŠE - 2. ročník Mgr.
END:VEVENT
BEGIN:VEVENT
DTSTART;TZID=Europe/Bratislava:20251119T153000
DTEND;TZID=Europe/Bratislava:20251119T183000
DTSTAMP:20260426T053920
CREATED:20240912T070429Z
LAST-MODIFIED:20250918T052912Z
UID:45134-1763566200-1763577000@fsvladislava.sk
SUMMARY:PA 3.r. Bc. – Pediatria - Zasadačka
DESCRIPTION:PA 3.r. Bc. – Pediatria – MUDr. Radvanská – Zasadačka
URL:https://fsvladislava.sk/rozvrh/pa-3-r-bc-ose-proces-v-pa-iii-seminarna-miestnost/
LOCATION:FNsP NZ – Zasadačka
CATEGORIES:Odbor Pôrodná asistencia,PA - 3. ročník Bc.
END:VEVENT
BEGIN:VEVENT
DTSTART;TZID=Europe/Bratislava:20251120T080000
DTEND;TZID=Europe/Bratislava:20251120T143000
DTSTAMP:20260426T053920
CREATED:20250916T101322Z
LAST-MODIFIED:20250918T051928Z
UID:48087-1763625600-1763649000@fsvladislava.sk
SUMMARY:OŠE 1.r. Mgr. - Ošetrovateľstvo v zdraví pri práci - Kinosála
DESCRIPTION:OŠE 1.r. Mgr. – Ošetrovateľstvo v zdraví pri práci – Brodanská – Kinosála
URL:https://fsvladislava.sk/rozvrh/ose-1-r-mgr-osetrovatelstvo-v-zdravi-pri-praci-kinosala-2/
LOCATION:FNsP NZ  – Kinosála
CATEGORIES:Odbor Ošetrovateľstvo,OŠE - 1. ročník Mgr.
END:VEVENT
END:VCALENDAR