BEGIN:VCALENDAR
VERSION:2.0
PRODID:-//Fakulta zdravotníctva a sociálnej práce sv. Ladislava, Nové Zámky - ECPv6.15.17//NONSGML v1.0//EN
CALSCALE:GREGORIAN
METHOD:PUBLISH
X-WR-CALNAME:Fakulta zdravotníctva a sociálnej práce sv. Ladislava, Nové Zámky
X-ORIGINAL-URL:https://fsvladislava.sk
X-WR-CALDESC:Udalosti pre Fakulta zdravotníctva a sociálnej práce sv. Ladislava, Nové Zámky
REFRESH-INTERVAL;VALUE=DURATION:PT1H
X-Robots-Tag:noindex
X-PUBLISHED-TTL:PT1H
BEGIN:VTIMEZONE
TZID:Europe/Bratislava
BEGIN:DAYLIGHT
TZOFFSETFROM:+0100
TZOFFSETTO:+0200
TZNAME:CEST
DTSTART:20240331T010000
END:DAYLIGHT
BEGIN:STANDARD
TZOFFSETFROM:+0200
TZOFFSETTO:+0100
TZNAME:CET
DTSTART:20241027T010000
END:STANDARD
BEGIN:DAYLIGHT
TZOFFSETFROM:+0100
TZOFFSETTO:+0200
TZNAME:CEST
DTSTART:20250330T010000
END:DAYLIGHT
BEGIN:STANDARD
TZOFFSETFROM:+0200
TZOFFSETTO:+0100
TZNAME:CET
DTSTART:20251026T010000
END:STANDARD
BEGIN:DAYLIGHT
TZOFFSETFROM:+0100
TZOFFSETTO:+0200
TZNAME:CEST
DTSTART:20260329T010000
END:DAYLIGHT
BEGIN:STANDARD
TZOFFSETFROM:+0200
TZOFFSETTO:+0100
TZNAME:CET
DTSTART:20261025T010000
END:STANDARD
BEGIN:DAYLIGHT
TZOFFSETFROM:+0100
TZOFFSETTO:+0200
TZNAME:CEST
DTSTART:20270328T010000
END:DAYLIGHT
BEGIN:STANDARD
TZOFFSETFROM:+0200
TZOFFSETTO:+0100
TZNAME:CET
DTSTART:20271031T010000
END:STANDARD
END:VTIMEZONE
BEGIN:VEVENT
DTSTART;TZID=Europe/Bratislava:20251121T120000
DTEND;TZID=Europe/Bratislava:20251121T120000
DTSTAMP:20260426T053902
CREATED:20250916T114608Z
LAST-MODIFIED:20251118T093435Z
UID:48126-1763726400-1763726400@fsvladislava.sk
SUMMARY:!!!Vyučovanie sa nekoná pre nezáujem!!! - SP 2.r. Bc. - SP so žiadateľmi o azyl - Zasadačka
DESCRIPTION:!!!Vyučovanie sa nekoná pre nezáujem!!! – SP 2.r. Bc. – SP so žiadateľmi o azyl – Dr. Nagy Gažová – Zasadačka
URL:https://fsvladislava.sk/rozvrh/sp-2-r-bc-sp-so-ziadatelmi-o-azyl-zasadacka/
LOCATION:FNsP NZ – Zasadačka
CATEGORIES:Odbor Sociálna práca,SP - 2. ročník Bc.
END:VEVENT
BEGIN:VEVENT
DTSTART;TZID=Europe/Bratislava:20251121T120000
DTEND;TZID=Europe/Bratislava:20251121T120000
DTSTAMP:20260426T053902
CREATED:20251112T120907Z
LAST-MODIFIED:20251112T120907Z
UID:48553-1763726400-1763726400@fsvladislava.sk
SUMMARY:SP 2.r. Mgr. - Misijná a charitatívna práca - Zasadačka
DESCRIPTION:SP 2.r. Mgr. – Misijná a charitatívna práca – PhDr. Z. Nagy Gažová\, PhD.  – Zasadačka
URL:https://fsvladislava.sk/rozvrh/sp-2-r-mgr-misijna-a-charitativna-praca-zasadacka/
LOCATION:FNsP NZ – Zasadačka
CATEGORIES:Odbor Sociálna práca,SP - 2. ročník Mgr.
END:VEVENT
BEGIN:VEVENT
DTSTART;TZID=Europe/Bratislava:20251121T140000
DTEND;TZID=Europe/Bratislava:20251121T180000
DTSTAMP:20260426T053902
CREATED:20251027T063425Z
LAST-MODIFIED:20251027T063425Z
UID:48471-1763733600-1763748000@fsvladislava.sk
SUMMARY:PA 1.r. Bc. - Ošetrovateľské techniky - SZŠ EK - Modrý dom
DESCRIPTION:PA 1.r. Bc. – Ošetrovateľské techniky – Dr. Molnárová – SZŠ EK – Modrý dom – 2. skupina
URL:https://fsvladislava.sk/rozvrh/pa-1-r-bc-osetrovatelske-techniky-szs-ek-modry-dom-9/
LOCATION:SZŠ EK – Modrý dom
CATEGORIES:Odbor Pôrodná asistencia,PA - 1. ročník Bc.
END:VEVENT
BEGIN:VEVENT
DTSTART;TZID=Europe/Bratislava:20251121T170000
DTEND;TZID=Europe/Bratislava:20251121T183000
DTSTAMP:20260426T053902
CREATED:20251118T100204Z
LAST-MODIFIED:20251118T100204Z
UID:48604-1763744400-1763749800@fsvladislava.sk
SUMMARY:SP 1.r. Bc. - Občianske právo - Webex
DESCRIPTION:SP 1.r. Bc. – Občianske právo – prof. Vallová – Webex
URL:https://fsvladislava.sk/rozvrh/sp-1-r-bc-obcianske-pravo-webex/
LOCATION:Online – Webex
CATEGORIES:Odbor Sociálna práca,SP - 1. ročník Bc.
END:VEVENT
BEGIN:VEVENT
DTSTART;TZID=Europe/Bratislava:20251122T080000
DTEND;TZID=Europe/Bratislava:20251122T080000
DTSTAMP:20260426T053902
CREATED:20230927T195020Z
LAST-MODIFIED:20251007T104459Z
UID:41365-1763798400-1763798400@fsvladislava.sk
SUMMARY:SP 1.r. Mgr. - Úvod do sociálnej politiky / rozdielový predmet - Kinosála
DESCRIPTION:SP 1.r. Mgr. – Úvod do sociálnej politiky – univ. prof. doc. Lucia Ludvigh Cintulová\, PhD. – Kinosála\nrozdielový predmet
URL:https://fsvladislava.sk/rozvrh/sp-1-r-mgr-uvod-do-socialnej-politiky-rozdielovy-predmet-kinosala/
LOCATION:FNsP NZ  – Kinosála
CATEGORIES:Odbor Sociálna práca,SP - 1. ročník Mgr.
END:VEVENT
BEGIN:VEVENT
DTSTART;TZID=Europe/Bratislava:20251122T080000
DTEND;TZID=Europe/Bratislava:20251122T080000
DTSTAMP:20260426T053902
CREATED:20230927T202237Z
LAST-MODIFIED:20251020T103117Z
UID:41404-1763798400-1763798400@fsvladislava.sk
SUMMARY:SP 2.r. Mgr. - SP supervízia - Zasadačka
DESCRIPTION:SP 2.r. Mgr. – SP supervízia – Doc. Pavlovičová – Zasadačka
URL:https://fsvladislava.sk/rozvrh/sp-2-r-mgr-spv-supervizia-zasadacka/
LOCATION:FNsP NZ – Zasadačka
CATEGORIES:Odbor Sociálna práca,SP - 2. ročník Mgr.
END:VEVENT
BEGIN:VEVENT
DTSTART;TZID=Europe/Bratislava:20251122T080000
DTEND;TZID=Europe/Bratislava:20251122T080000
DTSTAMP:20260426T053902
CREATED:20240205T062940Z
LAST-MODIFIED:20250916T114756Z
UID:42826-1763798400-1763798400@fsvladislava.sk
SUMMARY:SP 2.r. Bc. - Úvod do sociálnej politiky - Kinosála
DESCRIPTION:SP 2.r. Bc. – Úvod do sociálnej politiky – prof. Ludvigh Cintulová – Kinosála
URL:https://fsvladislava.sk/rozvrh/sp-2-r-bc-ot-uvod-do-socialnej-politiky-elix/
LOCATION:FNsP NZ  – Kinosála
CATEGORIES:Odbor Sociálna práca,SP - 2. ročník Bc.
END:VEVENT
BEGIN:VEVENT
DTSTART;TZID=Europe/Bratislava:20251122T090000
DTEND;TZID=Europe/Bratislava:20251122T153000
DTSTAMP:20260426T053902
CREATED:20250918T053430Z
LAST-MODIFIED:20251020T103201Z
UID:48189-1763802000-1763825400@fsvladislava.sk
SUMMARY:PA 2.r. Bc. D. - Výživa novorodencov a dojčiat   - Seminárna miestnosť
DESCRIPTION:PA 2.r. Bc. – Výživa novorodencov a dojčiat  – doc. PhDr. Gabriela Magyarová Szencziová\, PhD. – Seminárna miestnosť
URL:https://fsvladislava.sk/rozvrh/pa-2-r-bc-d-vyziva-novorodencov-a-dojciat-zasadacka-2/
LOCATION:FNsP NZ  – Seminárna miestnosť
CATEGORIES:Odbor Pôrodná asistencia,PA - 2. ročník Bc.
END:VEVENT
BEGIN:VEVENT
DTSTART;TZID=Europe/Bratislava:20251124T090000
DTEND;TZID=Europe/Bratislava:20251124T130000
DTSTAMP:20260426T053902
CREATED:20251013T061214Z
LAST-MODIFIED:20251013T061214Z
UID:48366-1763974800-1763989200@fsvladislava.sk
SUMMARY:OŠE 4.r. Bc. - Seminár k záverečnej práci II.  - Kinosála
DESCRIPTION:OŠE 4.r. Bc. – Seminár k záverečnej práci II.  – Dr. Vavro – Kinosála
URL:https://fsvladislava.sk/rozvrh/ose-4-r-bc-seminar-k-zaverecnej-praci-ii-kinosala/
LOCATION:FNsP NZ  – Kinosála
CATEGORIES:Odbor Ošetrovateľstvo,OŠE - 4. ročník Bc.
END:VEVENT
BEGIN:VEVENT
DTSTART;TZID=Europe/Bratislava:20251124T090000
DTEND;TZID=Europe/Bratislava:20251124T140000
DTSTAMP:20260426T053902
CREATED:20251020T061441Z
LAST-MODIFIED:20251020T061859Z
UID:48410-1763974800-1763992800@fsvladislava.sk
SUMMARY:OŠE 4.r. Bc. - SK Oše. v gyn.-pôr. II. - Seminárna miestnosť
DESCRIPTION:OŠE 4.r. Bc. – Sk predtermín: Oše. v gyn.-pôr. II. – prof. Libová – Seminárna miestnosť\n(max. 25 študentov)
URL:https://fsvladislava.sk/rozvrh/ose-4-r-bc-sk-ose-v-gyn-por-ii-seminarna-miestnost-3/
LOCATION:FNsP NZ  – Seminárna miestnosť
CATEGORIES:Odbor Ošetrovateľstvo,OŠE - 4. ročník Bc.
END:VEVENT
BEGIN:VEVENT
DTSTART;TZID=Europe/Bratislava:20251124T090000
DTEND;TZID=Europe/Bratislava:20251124T153000
DTSTAMP:20260426T053902
CREATED:20250910T053416Z
LAST-MODIFIED:20250910T053416Z
UID:47908-1763974800-1763998200@fsvladislava.sk
SUMMARY:PA 2.r. Bc. - Pôrodná asistencia II. - Zasadačka
DESCRIPTION:PA 2.r. Bc. – Pôrodná asistencia II. – prof. Matulníková – Zasadačka
URL:https://fsvladislava.sk/rozvrh/pa-2-r-bc-porodna-asistencia-ii-zasadacka-9/
LOCATION:FNsP NZ – Zasadačka
CATEGORIES:Odbor Pôrodná asistencia,PA - 2. ročník Bc.
END:VEVENT
BEGIN:VEVENT
DTSTART;TZID=Europe/Bratislava:20251124T130000
DTEND;TZID=Europe/Bratislava:20251124T170000
DTSTAMP:20260426T053902
CREATED:20251013T061343Z
LAST-MODIFIED:20251013T061343Z
UID:48368-1763989200-1764003600@fsvladislava.sk
SUMMARY:OŠE 4.r. Bc. - Oše. v pediatrii II. - Kinosála
DESCRIPTION:OŠE 4.r. Bc. – Oše. v pediatrii II. – PhDr. I. Nagyová\, PhD. – Kinosála
URL:https://fsvladislava.sk/rozvrh/ose-4-r-bc-ose-v-pediatrii-ii-kinosala-2/
LOCATION:FNsP NZ  – Kinosála
CATEGORIES:Odbor Ošetrovateľstvo,OŠE - 4. ročník Bc.
END:VEVENT
BEGIN:VEVENT
DTSTART;TZID=Europe/Bratislava:20260112T133000
DTEND;TZID=Europe/Bratislava:20260112T133000
DTSTAMP:20260426T053902
CREATED:20251121T070423Z
LAST-MODIFIED:20251121T070423Z
UID:48666-1768224600-1768224600@fsvladislava.sk
SUMMARY:OŠE 4.r. Bc. - SK Oše. v pediatrii II. - suterén FNsP NZ
DESCRIPTION:OŠE 4.r. Bc. – Skúška: Oše. v pediatrii II. – PhDr. I. Nagyová\, PhD. – suterén FNsP NZ
URL:https://fsvladislava.sk/rozvrh/ose-4-r-bc-sk-ose-v-pediatrii-ii-suteren-fnsp-nz/
LOCATION:suterén FNsP NZ
CATEGORIES:Odbor Ošetrovateľstvo,OŠE - 4. ročník Bc.
END:VEVENT
BEGIN:VEVENT
DTSTART;TZID=Europe/Bratislava:20251124T140000
DTEND;TZID=Europe/Bratislava:20251124T180000
DTSTAMP:20260426T053902
CREATED:20250916T095756Z
LAST-MODIFIED:20250916T095756Z
UID:48065-1763992800-1764007200@fsvladislava.sk
SUMMARY:PA 1.r. Bc. - Embryológia a genetika - Seminárna miestnosť
DESCRIPTION:PA 1.r. Bc. –  Embryológia a genetika – prof. Bartkovjak – Seminárna miestnosť
URL:https://fsvladislava.sk/rozvrh/pa-1-r-bc-embryologia-a-genetika-seminarna-miestnost/
LOCATION:FNsP NZ  – Seminárna miestnosť
CATEGORIES:Odbor Pôrodná asistencia,PA - 1. ročník Bc.
END:VEVENT
BEGIN:VEVENT
DTSTART;TZID=Europe/Bratislava:20251124T153000
DTEND;TZID=Europe/Bratislava:20251124T183000
DTSTAMP:20260426T053902
CREATED:20250910T053047Z
LAST-MODIFIED:20250910T053047Z
UID:47899-1763998200-1764009000@fsvladislava.sk
SUMMARY:PA 2.r. Bc. - Ošetrovateľský proces I. - Zasadačka
DESCRIPTION:PA 2.r. Bc. – Ošetrovateľský proces I. – prof. Matulníková – Zasadačka
URL:https://fsvladislava.sk/rozvrh/pa-2-r-bc-osetrovatelsky-proces-i-zasadacka-6/
LOCATION:FNsP NZ – Zasadačka
CATEGORIES:Odbor Pôrodná asistencia,PA - 2. ročník Bc.
END:VEVENT
BEGIN:VEVENT
DTSTART;TZID=Europe/Bratislava:20251124T160000
DTEND;TZID=Europe/Bratislava:20251124T190000
DTSTAMP:20260426T053902
CREATED:20251118T101232Z
LAST-MODIFIED:20251118T101232Z
UID:48611-1764000000-1764010800@fsvladislava.sk
SUMMARY:SP 1.r. Mgr. - Etika v SP - Online
DESCRIPTION:SP 1.r. Mgr. – Etika v SP – Prof. Grey – Online
URL:https://fsvladislava.sk/rozvrh/sp-1-r-mgr-etika-v-sp-online/
LOCATION:Online
CATEGORIES:Odbor Sociálna práca,SP - 1. ročník Mgr.
END:VEVENT
BEGIN:VEVENT
DTSTART;TZID=Europe/Bratislava:20251125T083000
DTEND;TZID=Europe/Bratislava:20251125T100000
DTSTAMP:20260426T053902
CREATED:20240725T061336Z
LAST-MODIFIED:20240725T061336Z
UID:44885-1764059400-1764064800@fsvladislava.sk
SUMMARY:FNsP NZ - Operatívna porada vedúcich zamestnancov - Zasadačka
DESCRIPTION:FNsP NZ – Operatívna porada vedúcich zamestnancov – Zasadačka
URL:https://fsvladislava.sk/rozvrh/fnsp-nz-operativna-porada-veducich-zamestnancov-zasadacka-42/
LOCATION:FNsP NZ – Zasadačka
CATEGORIES:FNsP NZ
END:VEVENT
BEGIN:VEVENT
DTSTART;TZID=Europe/Bratislava:20251125T090000
DTEND;TZID=Europe/Bratislava:20251125T140000
DTSTAMP:20260426T053902
CREATED:20250901T062127Z
LAST-MODIFIED:20251020T061852Z
UID:47719-1764061200-1764079200@fsvladislava.sk
SUMMARY:OŠE 4.r. Bc. - SK Oše. v gyn.-pôr. II. - Seminárna miestnosť
DESCRIPTION:OŠE 4.r. Bc. – Sk predtermín: Oše. v gyn.-pôr. II. – prof. Libová – Seminárna miestnosť\n(max. 25 študentov)
URL:https://fsvladislava.sk/rozvrh/ose-4-r-bc-prednaska-kinosala-7/
LOCATION:FNsP NZ  – Seminárna miestnosť
CATEGORIES:Odbor Ošetrovateľstvo,OŠE - 4. ročník Bc.
END:VEVENT
BEGIN:VEVENT
DTSTART;TZID=Europe/Bratislava:20251125T090000
DTEND;TZID=Europe/Bratislava:20251125T150000
DTSTAMP:20260426T053902
CREATED:20240926T055106Z
LAST-MODIFIED:20251002T124910Z
UID:45418-1764061200-1764082800@fsvladislava.sk
SUMMARY:PA 1.r. Bc. - Biochémia - Webex
DESCRIPTION:PA 1.r. Bc. – Biochémia – prof. Novotný – Webex
URL:https://fsvladislava.sk/rozvrh/pa-1-r-bc-farmakologia-elix/
LOCATION:Online – Webex
CATEGORIES:Odbor Pôrodná asistencia,PA - 1. ročník Bc.
END:VEVENT
BEGIN:VEVENT
DTSTART;TZID=Europe/Bratislava:20251125T090000
DTEND;TZID=Europe/Bratislava:20251125T153000
DTSTAMP:20260426T053902
CREATED:20251001T055129Z
LAST-MODIFIED:20251001T055129Z
UID:48272-1764061200-1764084600@fsvladislava.sk
SUMMARY:OŠE 4.r. Bc. - Paliatívna a hospicová starostlivosť - Kinosála
DESCRIPTION:OŠE 4.r. Bc. – Paliatívna a hospicová starostlivosť – Kinosála
URL:https://fsvladislava.sk/rozvrh/ose-4-r-bc-paliativna-a-hospicova-starostlivost-kinosala-2/
LOCATION:FNsP NZ  – Kinosála
CATEGORIES:Odbor Ošetrovateľstvo,OŠE - 4. ročník Bc.
END:VEVENT
BEGIN:VEVENT
DTSTART;TZID=Europe/Bratislava:20251125T153000
DTEND;TZID=Europe/Bratislava:20251125T183000
DTSTAMP:20260426T053902
CREATED:20250910T053123Z
LAST-MODIFIED:20251111T124858Z
UID:47901-1764084600-1764095400@fsvladislava.sk
SUMMARY:PA 2.r. Bc. - Ošetrovateľský proces I. - Webex
DESCRIPTION:PA 2.r. Bc. – Ošetrovateľský proces I. – prof. Matulníková – Online-Webex
URL:https://fsvladislava.sk/rozvrh/pa-2-r-bc-osetrovatelsky-proces-i-seminarna-miestnost/
LOCATION:Online – Webex
CATEGORIES:Odbor Pôrodná asistencia,PA - 2. ročník Bc.
END:VEVENT
BEGIN:VEVENT
DTSTART;TZID=Europe/Bratislava:20251126T090000
DTEND;TZID=Europe/Bratislava:20251126T160000
DTSTAMP:20260426T053902
CREATED:20240912T061815Z
LAST-MODIFIED:20250918T092233Z
UID:45122-1764147600-1764172800@fsvladislava.sk
SUMMARY:OŠE 3.r. Bc. - Oše. v geriatrii - Kinosála
DESCRIPTION:OŠE 3.r. Bc.  – Oše. v geriatrii – doc. Otrubová – Kinosála
URL:https://fsvladislava.sk/rozvrh/ose-3-r-bc-ose-v-geriatrii-kinosala-2/
LOCATION:FNsP NZ  – Kinosála
CATEGORIES:Odbor Ošetrovateľstvo,OŠE - 3. ročník Bc.
END:VEVENT
BEGIN:VEVENT
DTSTART;TZID=Europe/Bratislava:20251126T200000
DTEND;TZID=Europe/Bratislava:20251126T200000
DTSTAMP:20260426T053902
CREATED:20251121T062701Z
LAST-MODIFIED:20251121T065817Z
UID:48640-1764187200-1764187200@fsvladislava.sk
SUMMARY:OŠE 2.r. Bc. - SK Ošetrovateľstvo III. - Elix
DESCRIPTION:OŠE 2.r. Bc. – Skúška: Ošetrovateľstvo III. – doc. Koňošová – Elix
URL:https://fsvladislava.sk/rozvrh/ose-2-r-bc-osetrovatelstvo-iii-elix/
LOCATION:Online – Elix
CATEGORIES:Odbor Ošetrovateľstvo,OŠE - 2. ročník Bc.
END:VEVENT
BEGIN:VEVENT
DTSTART;TZID=Europe/Bratislava:20251127T080000
DTEND;TZID=Europe/Bratislava:20251127T080000
DTSTAMP:20260426T053902
CREATED:20251121T064026Z
LAST-MODIFIED:20251121T070921Z
UID:48650-1764230400-1764230400@fsvladislava.sk
SUMMARY:OŠE 3.r. Bc. - SK Prevencia drogovej závislosti - Elix
DESCRIPTION:OŠE 3.r. Bc.  – Skúška: Prevencia drogovej závislosti – PhDr. Nagy Gažová – Online-Elix
URL:https://fsvladislava.sk/rozvrh/ose-3-r-bc-prevencia-drogovej-zavislosti-elix/
LOCATION:Online – Elix
CATEGORIES:Odbor Ošetrovateľstvo,OŠE - 3. ročník Bc.
END:VEVENT
BEGIN:VEVENT
DTSTART;TZID=Europe/Bratislava:20251127T090000
DTEND;TZID=Europe/Bratislava:20251127T090000
DTSTAMP:20260426T053902
CREATED:20231016T074703Z
LAST-MODIFIED:20250925T062131Z
UID:41653-1764234000-1764234000@fsvladislava.sk
SUMMARY:UZS 4.r. Bc. - Právo a legislatíva v zdravotníctve - Kinosála
DESCRIPTION:UZS 4.r. Bc.  – Právo a legislatíva v zdravotníctve – prof. Šimoňák – Kinosála
URL:https://fsvladislava.sk/rozvrh/uzs-4-r-bc-prednaska-multikulturne-osetrovatelstvo-partizanske/
LOCATION:FNsP NZ  – Kinosála
CATEGORIES:Odbor Urgentná zdravotná starostlivosť,UZS – 4. ročník Bc.
END:VEVENT
BEGIN:VEVENT
DTSTART;TZID=Europe/Bratislava:20251127T130000
DTEND;TZID=Europe/Bratislava:20251127T140000
DTSTAMP:20260426T053902
CREATED:20251124T130320Z
LAST-MODIFIED:20251124T130320Z
UID:48687-1764248400-1764252000@fsvladislava.sk
SUMMARY:FNsP NZ - Zasadnutie EK - Zasadačka
DESCRIPTION:FNsP NZ – Zasadnutie EK – Zasadačka
URL:https://fsvladislava.sk/rozvrh/fnsp-nz-zasadnutie-ek-zasadacka-2/
LOCATION:FNsP NZ – Zasadačka
CATEGORIES:FNsP NZ
END:VEVENT
BEGIN:VEVENT
DTSTART;TZID=Europe/Bratislava:20251127T170000
DTEND;TZID=Europe/Bratislava:20251127T183000
DTSTAMP:20260426T053902
CREATED:20251104T113211Z
LAST-MODIFIED:20251104T113240Z
UID:48506-1764262800-1764268200@fsvladislava.sk
SUMMARY:SP 2.r. Bc. - Terénna SP - Zoom
DESCRIPTION:SP 2.r. Bc. – Terénna SP – univ. doc. PhDr. Szilvia Buzalova\, PhD. – Online – Zoom
URL:https://fsvladislava.sk/rozvrh/sp-2-r-bc-terenna-sp-zoom/
LOCATION:Online – Zoom
CATEGORIES:Odbor Sociálna práca,SP - 2. ročník Bc.
END:VEVENT
BEGIN:VEVENT
DTSTART;TZID=Europe/Bratislava:20251128T080000
DTEND;TZID=Europe/Bratislava:20251128T160000
DTSTAMP:20260426T053902
CREATED:20251002T125206Z
LAST-MODIFIED:20251002T125206Z
UID:48314-1764316800-1764345600@fsvladislava.sk
SUMMARY:PA 1.r. Bc.  - ANF  III. - ANF  IV.- Kinosála
DESCRIPTION:PA 1.r. Bc. – ANF  III. – ANF  IV. – Dr. Kocsis – Kinosála
URL:https://fsvladislava.sk/rozvrh/pa-1-r-bc-anf-iii-anf-iv-kinosala/
LOCATION:FNsP NZ  – Kinosála
CATEGORIES:Odbor Pôrodná asistencia,PA - 1. ročník Bc.
END:VEVENT
BEGIN:VEVENT
DTSTART;TZID=Europe/Bratislava:20251128T080000
DTEND;TZID=Europe/Bratislava:20251128T160000
DTSTAMP:20260426T053902
CREATED:20251016T052956Z
LAST-MODIFIED:20251016T052956Z
UID:48380-1764316800-1764345600@fsvladislava.sk
SUMMARY:OŠE 1.r. Bc.  - ANF  III. - ANF  IV. - Kinosála
DESCRIPTION:OŠE 1.r. Bc. – ANF  III. – ANF IV. – Dr. Kocsis – Kinosála
URL:https://fsvladislava.sk/rozvrh/ose-1-r-bc-anf-iii-anf-iv-kinosala/
LOCATION:FNsP NZ  – Kinosála
CATEGORIES:Odbor Ošetrovateľstvo,OŠE - 1. ročník Bc.
END:VEVENT
BEGIN:VEVENT
DTSTART;TZID=Europe/Bratislava:20251128T100000
DTEND;TZID=Europe/Bratislava:20251128T120000
DTSTAMP:20260426T053902
CREATED:20251127T070334Z
LAST-MODIFIED:20251127T070334Z
UID:48704-1764324000-1764331200@fsvladislava.sk
SUMMARY:FNsP NZ - Odbor informatiky - Zasadačka
DESCRIPTION:FNsP NZ – Odbor informatiky – Zasadačka
URL:https://fsvladislava.sk/rozvrh/fnsp-nz-odbor-informatiky-zasadacka/
LOCATION:FNsP NZ – Zasadačka
CATEGORIES:FNsP NZ
END:VEVENT
END:VCALENDAR