BEGIN:VCALENDAR
VERSION:2.0
PRODID:-//Fakulta zdravotníctva a sociálnej práce sv. Ladislava, Nové Zámky - ECPv6.15.17//NONSGML v1.0//EN
CALSCALE:GREGORIAN
METHOD:PUBLISH
X-WR-CALNAME:Fakulta zdravotníctva a sociálnej práce sv. Ladislava, Nové Zámky
X-ORIGINAL-URL:https://fsvladislava.sk
X-WR-CALDESC:Udalosti pre Fakulta zdravotníctva a sociálnej práce sv. Ladislava, Nové Zámky
REFRESH-INTERVAL;VALUE=DURATION:PT1H
X-Robots-Tag:noindex
X-PUBLISHED-TTL:PT1H
BEGIN:VTIMEZONE
TZID:Europe/Bratislava
BEGIN:DAYLIGHT
TZOFFSETFROM:+0100
TZOFFSETTO:+0200
TZNAME:CEST
DTSTART:20250330T010000
END:DAYLIGHT
BEGIN:STANDARD
TZOFFSETFROM:+0200
TZOFFSETTO:+0100
TZNAME:CET
DTSTART:20251026T010000
END:STANDARD
BEGIN:DAYLIGHT
TZOFFSETFROM:+0100
TZOFFSETTO:+0200
TZNAME:CEST
DTSTART:20260329T010000
END:DAYLIGHT
BEGIN:STANDARD
TZOFFSETFROM:+0200
TZOFFSETTO:+0100
TZNAME:CET
DTSTART:20261025T010000
END:STANDARD
BEGIN:DAYLIGHT
TZOFFSETFROM:+0100
TZOFFSETTO:+0200
TZNAME:CEST
DTSTART:20270328T010000
END:DAYLIGHT
BEGIN:STANDARD
TZOFFSETFROM:+0200
TZOFFSETTO:+0100
TZNAME:CET
DTSTART:20271031T010000
END:STANDARD
END:VTIMEZONE
BEGIN:VEVENT
DTSTART;TZID=Europe/Bratislava:20260123T170000
DTEND;TZID=Europe/Bratislava:20260123T170000
DTSTAMP:20260426T041213
CREATED:20240117T090131Z
LAST-MODIFIED:20250916T123945Z
UID:42620-1769187600-1769187600@fsvladislava.sk
SUMMARY:SP 1.r. Mgr. - Manažment katastrof a psychosociálna pomoc - Webex
DESCRIPTION:SP 1.r. Mgr. – Manažment katastrof a psychosociálna pomoc – doc. Páleníková  – Webex
URL:https://fsvladislava.sk/rozvrh/sp-1-r-mgr-manazment-katastrof-a-psychosocialna-pomoc-zoom/
LOCATION:Online – Webex
CATEGORIES:Odbor Sociálna práca,SP - 1. ročník Mgr.
END:VEVENT
BEGIN:VEVENT
DTSTART;TZID=Europe/Bratislava:20260124T080000
DTEND;TZID=Europe/Bratislava:20260124T080000
DTSTAMP:20260426T041213
CREATED:20250303T112529Z
LAST-MODIFIED:20250916T124113Z
UID:47070-1769241600-1769241600@fsvladislava.sk
SUMMARY:SP 1.r. Mgr. - Praktická muzikoterapia - Online
DESCRIPTION:SP 1.r. Mgr. – Praktická muzikoterapia – doc. Vittálová – Online
URL:https://fsvladislava.sk/rozvrh/sp-1-r-mgr-sk-ot-prakticka-muzikoterapia-elix/
LOCATION:Online
CATEGORIES:Odbor Sociálna práca,SP - 1. ročník Mgr.
END:VEVENT
BEGIN:VEVENT
DTSTART;TZID=Europe/Bratislava:20260124T080000
DTEND;TZID=Europe/Bratislava:20260124T080000
DTSTAMP:20260426T041213
CREATED:20260119T110619Z
LAST-MODIFIED:20260119T110619Z
UID:49256-1769241600-1769241600@fsvladislava.sk
SUMMARY:SP 2.r. Mgr. - SK Komunitná SP - Zasadačka
DESCRIPTION:SP 2.r. Mgr. –  Skúška: Komunitná SP – Dr. Demčák – Zasadačka
URL:https://fsvladislava.sk/rozvrh/sp-2-r-mgr-sk-komunitna-sp-zasadacka-2/
LOCATION:FNsP NZ – Zasadačka
CATEGORIES:Odbor Sociálna práca,SP - 2. ročník Mgr.
END:VEVENT
BEGIN:VEVENT
DTSTART;TZID=Europe/Bratislava:20260124T080000
DTEND;TZID=Europe/Bratislava:20260124T130000
DTSTAMP:20260426T041213
CREATED:20250916T112252Z
LAST-MODIFIED:20260121T101502Z
UID:48118-1769241600-1769259600@fsvladislava.sk
SUMMARY:SP 3.r. Bc. - SP s nezamestnanými PV - ZRUŠENÁ PREDNÁŠKA!
DESCRIPTION:SP 3.r. Bc. – SP s nezamestnanými PV – PhDr. Ladislav Moravík\, PhD. – ZRUŠENÁ PREDNÁŠKA!
URL:https://fsvladislava.sk/rozvrh/sp-3-r-bc-sp-s-nezamestnanymi-pv-zasadacka/
LOCATION:FNsP NZ  – Kinosála
CATEGORIES:Odbor Sociálna práca,SP - 3. ročník Bc.
END:VEVENT
BEGIN:VEVENT
DTSTART;TZID=Europe/Bratislava:20260124T090000
DTEND;TZID=Europe/Bratislava:20260124T090000
DTSTAMP:20260426T041213
CREATED:20240926T092904Z
LAST-MODIFIED:20250916T122524Z
UID:45438-1769245200-1769245200@fsvladislava.sk
SUMMARY:SP 2.r. Bc. - Kazuistický seminár - Online
DESCRIPTION:SP 2.r. Bc. – Kazuistický seminár – doc. Radi / doc. Bundzelová – Online
URL:https://fsvladislava.sk/rozvrh/sp-2-r-bc-kazuisticky-seminar-online/
LOCATION:Online
CATEGORIES:Odbor Sociálna práca,SP - 2. ročník Bc.
END:VEVENT
BEGIN:VEVENT
DTSTART;TZID=Europe/Bratislava:20260124T090000
DTEND;TZID=Europe/Bratislava:20260124T090000
DTSTAMP:20260426T041213
CREATED:20260122T125622Z
LAST-MODIFIED:20260122T125622Z
UID:49332-1769245200-1769245200@fsvladislava.sk
SUMMARY:SP 4.r. Bc. - Odborná prax - Online
DESCRIPTION:SP 4.r. Bc. – Odborná prax – Dr. Buzalová – Online
URL:https://fsvladislava.sk/rozvrh/sp-4-r-bc-odborna-prax-online/
LOCATION:Online
CATEGORIES:Odbor Sociálna práca,SP - 4. ročník Bc.
END:VEVENT
BEGIN:VEVENT
DTSTART;TZID=Europe/Bratislava:20260124T190000
DTEND;TZID=Europe/Bratislava:20260124T190000
DTSTAMP:20260426T041213
CREATED:20251218T062327Z
LAST-MODIFIED:20251218T062327Z
UID:48863-1769281200-1769281200@fsvladislava.sk
SUMMARY:SP 3.r. Bc. - SK SP so seniormi - Elix
DESCRIPTION:SP 3.r. Bc. – Skúška: SP so seniormi – Dr. Buzalová – Elix
URL:https://fsvladislava.sk/rozvrh/sp-3-r-bc-sk-sp-so-seniormi-elix/
LOCATION:Online – Elix
CATEGORIES:Odbor Sociálna práca,SP - 3. ročník Bc.
END:VEVENT
BEGIN:VEVENT
DTSTART;TZID=Europe/Bratislava:20260126T120000
DTEND;TZID=Europe/Bratislava:20260126T120000
DTSTAMP:20260426T041213
CREATED:20260126T092353Z
LAST-MODIFIED:20260126T092353Z
UID:49362-1769428800-1769428800@fsvladislava.sk
SUMMARY:FNsP NZ - Urgentný príjem 1. typu - Zasadačka
DESCRIPTION:FNsP NZ – Urgentný príjem 1. typu – Zasadačka
URL:https://fsvladislava.sk/rozvrh/fnsp-nz-urgentny-prijem-1-typu-zasadacka/
LOCATION:FNsP NZ – Zasadačka
CATEGORIES:FNsP NZ
END:VEVENT
BEGIN:VEVENT
DTSTART;TZID=Europe/Bratislava:20260126T150000
DTEND;TZID=Europe/Bratislava:20260126T150000
DTSTAMP:20260426T041213
CREATED:20260109T090314Z
LAST-MODIFIED:20260109T090314Z
UID:49054-1769439600-1769439600@fsvladislava.sk
SUMMARY:OŠE 1.r. Bc. - SK ANF a Zdravotnícka terminológia  - Modrý dom SZŠ
DESCRIPTION:OŠE 1.r. Bc. – Skúška: ANF a Zdravotnícka terminológia – Dr. Kocsis – Modrý dom SZŠ
URL:https://fsvladislava.sk/rozvrh/ose-1-r-bc-sk-anf-a-zdravotnicka-terminologia-modry-dom-szs-13/
LOCATION:SZŠ EK – Modrý dom
CATEGORIES:Odbor Ošetrovateľstvo,OŠE - 1. ročník Bc.
END:VEVENT
BEGIN:VEVENT
DTSTART;TZID=Europe/Bratislava:20260126T190000
DTEND;TZID=Europe/Bratislava:20260126T190000
DTSTAMP:20260426T041213
CREATED:20241107T062731Z
LAST-MODIFIED:20260115T061941Z
UID:45882-1769454000-1769454000@fsvladislava.sk
SUMMARY:PA/OŠE 1.r. Bc. - SK Biofyzika - Elix
DESCRIPTION:OŠE 1.r. Bc. – Skúška: Biofyzika – univ. prof. Foltín – Elix
URL:https://fsvladislava.sk/rozvrh/ose-1-r-bc-sk-biofyzika-elix-4/
LOCATION:Online – Elix
CATEGORIES:Odbor Ošetrovateľstvo,Odbor Pôrodná asistencia,OŠE - 1. ročník Bc.,PA - 1. ročník Bc.
END:VEVENT
BEGIN:VEVENT
DTSTART;TZID=Europe/Bratislava:20260126T190000
DTEND;TZID=Europe/Bratislava:20260126T190000
DTSTAMP:20260426T041213
CREATED:20251218T062343Z
LAST-MODIFIED:20251218T062343Z
UID:48865-1769454000-1769454000@fsvladislava.sk
SUMMARY:SP 3.r. Bc. - SK SP so seniormi - Elix
DESCRIPTION:SP 3.r. Bc. – Skúška: SP so seniormi – Dr. Buzalová – Elix
URL:https://fsvladislava.sk/rozvrh/sp-3-r-bc-sk-sp-so-seniormi-elix-2/
LOCATION:Online – Elix
CATEGORIES:Odbor Sociálna práca,SP - 3. ročník Bc.
END:VEVENT
BEGIN:VEVENT
DTSTART;TZID=Europe/Bratislava:20260127T080000
DTEND;TZID=Europe/Bratislava:20260127T120000
DTSTAMP:20260426T041213
CREATED:20251021T113100Z
LAST-MODIFIED:20260113T113345Z
UID:48441-1769500800-1769515200@fsvladislava.sk
SUMMARY:OŠE 2.r. Bc. - SK Potreby pacientov a oše. proces II. - Kinosála
DESCRIPTION:OŠE 2.r. Bc. – Skúška: Potreby pacientov a oše. proces II. – Dr. Bystrická – Kinosála
URL:https://fsvladislava.sk/rozvrh/ose-2-r-bc-sk-potreby-pacientov-a-ose-proces-ii-seminarna-miestnost-2/
LOCATION:FNsP NZ  – Kinosála
CATEGORIES:Odbor Ošetrovateľstvo,OŠE - 2. ročník Bc.
END:VEVENT
BEGIN:VEVENT
DTSTART;TZID=Europe/Bratislava:20260127T083000
DTEND;TZID=Europe/Bratislava:20260127T100000
DTSTAMP:20260426T041213
CREATED:20250903T060003Z
LAST-MODIFIED:20250903T060003Z
UID:47753-1769502600-1769508000@fsvladislava.sk
SUMMARY:FNsP NZ - Operatívna porada vedúcich zamestnancov - Zasadačka
DESCRIPTION:FNsP NZ – Operatívna porada vedúcich zamestnancov – Zasadačka
URL:https://fsvladislava.sk/rozvrh/fnsp-nz-operativna-porada-veducich-zamestnancov-zasadacka-54/
LOCATION:FNsP NZ – Zasadačka
CATEGORIES:FNsP NZ
END:VEVENT
BEGIN:VEVENT
DTSTART;TZID=Europe/Bratislava:20260127T090000
DTEND;TZID=Europe/Bratislava:20260127T090000
DTSTAMP:20260426T041213
CREATED:20251210T073630Z
LAST-MODIFIED:20260122T085513Z
UID:48809-1769504400-1769504400@fsvladislava.sk
SUMMARY:PA 2.r. Bc. - SK OŠE proces v PA I. + Pôrodná asistencia II. - Seminárna miestnosť
DESCRIPTION:PA 2.r. Bc. – Skúška: OŠE proces v PA III. + Pôrodná asistencia II. – Seminárna miestnosť
URL:https://fsvladislava.sk/rozvrh/pa-2-r-bc-sk-ose-proces-v-pa-iii-porodna-asistencia-ii-seminarna-miestnost/
LOCATION:FNsP NZ  – Seminárna miestnosť
CATEGORIES:Odbor Pôrodná asistencia,PA - 2. ročník Bc.
END:VEVENT
BEGIN:VEVENT
DTSTART;TZID=Europe/Bratislava:20260127T120000
DTEND;TZID=Europe/Bratislava:20260127T140000
DTSTAMP:20260426T041213
CREATED:20260102T052644Z
LAST-MODIFIED:20260102T052644Z
UID:48903-1769515200-1769522400@fsvladislava.sk
SUMMARY:OŠE 3.r. Bc. - SK OŠE v chirurgii II. - Zasadačka
DESCRIPTION:OŠE 3.r. Bc. – Skúška: OŠE v chirurgii II. – PhDr. Kollárová – Zasadačka
URL:https://fsvladislava.sk/rozvrh/ose-3-r-bc-sk-ose-v-chirurgii-ii-zasadacka/
LOCATION:FNsP NZ – Zasadačka
CATEGORIES:Odbor Ošetrovateľstvo,OŠE - 3. ročník Bc.
END:VEVENT
BEGIN:VEVENT
DTSTART;TZID=Europe/Bratislava:20260127T150000
DTEND;TZID=Europe/Bratislava:20260127T150000
DTSTAMP:20260426T041213
CREATED:20260109T090326Z
LAST-MODIFIED:20260109T090326Z
UID:49056-1769526000-1769526000@fsvladislava.sk
SUMMARY:OŠE 1.r. Bc. - SK ANF a Zdravotnícka terminológia  - Modrý dom SZŠ
DESCRIPTION:OŠE 1.r. Bc. – Skúška: ANF a Zdravotnícka terminológia – Dr. Kocsis – Modrý dom SZŠ
URL:https://fsvladislava.sk/rozvrh/ose-1-r-bc-sk-anf-a-zdravotnicka-terminologia-modry-dom-szs-14/
LOCATION:SZŠ EK – Modrý dom
CATEGORIES:Odbor Ošetrovateľstvo,OŠE - 1. ročník Bc.
END:VEVENT
BEGIN:VEVENT
DTSTART;TZID=Europe/Bratislava:20260127T190000
DTEND;TZID=Europe/Bratislava:20260127T190000
DTSTAMP:20260426T041213
CREATED:20260115T061842Z
LAST-MODIFIED:20260115T061842Z
UID:49180-1769540400-1769540400@fsvladislava.sk
SUMMARY:PA/OŠE 1.r. Bc. - SK Biofyzika - Elix
DESCRIPTION:OŠE 1.r. Bc. – Skúška: Biofyzika – univ. prof. Foltín – Elix
URL:https://fsvladislava.sk/rozvrh/pa-ose-1-r-bc-sk-biofyzika-elix/
LOCATION:Online – Elix
CATEGORIES:Odbor Ošetrovateľstvo,Odbor Pôrodná asistencia,OŠE - 1. ročník Bc.,PA - 1. ročník Bc.
END:VEVENT
BEGIN:VEVENT
DTSTART;TZID=Europe/Bratislava:20260128T080000
DTEND;TZID=Europe/Bratislava:20260128T100000
DTSTAMP:20260426T041213
CREATED:20260102T052704Z
LAST-MODIFIED:20260102T052704Z
UID:48905-1769587200-1769594400@fsvladislava.sk
SUMMARY:OŠE 3.r. Bc. - SK OŠE v chirurgii II. - Zasadačka
DESCRIPTION:OŠE 3.r. Bc. – Skúška: OŠE v chirurgii II. – PhDr. Kollárová – Zasadačka
URL:https://fsvladislava.sk/rozvrh/ose-3-r-bc-sk-ose-v-chirurgii-ii-zasadacka-2/
LOCATION:FNsP NZ – Zasadačka
CATEGORIES:Odbor Ošetrovateľstvo,OŠE - 3. ročník Bc.
END:VEVENT
BEGIN:VEVENT
DTSTART;TZID=Europe/Bratislava:20260128T130000
DTEND;TZID=Europe/Bratislava:20260128T150000
DTSTAMP:20260426T041213
CREATED:20260123T095534Z
LAST-MODIFIED:20260123T104921Z
UID:49340-1769605200-1769612400@fsvladislava.sk
SUMMARY:FNsP NZ - Riaditeľstvo - Zasadačka
DESCRIPTION:FNsP NZ – Riaditeľstvo – Zasadačka
URL:https://fsvladislava.sk/rozvrh/fnsp-nz-riaditelstvo-zasadacka-15/
LOCATION:FNsP NZ – Zasadačka
CATEGORIES:FNsP NZ
END:VEVENT
BEGIN:VEVENT
DTSTART;TZID=Europe/Bratislava:20260128T150000
DTEND;TZID=Europe/Bratislava:20260128T150000
DTSTAMP:20260426T041213
CREATED:20260109T090336Z
LAST-MODIFIED:20260109T090336Z
UID:49058-1769612400-1769612400@fsvladislava.sk
SUMMARY:OŠE 1.r. Bc. - SK ANF a Zdravotnícka terminológia  - Modrý dom SZŠ
DESCRIPTION:OŠE 1.r. Bc. – Skúška: ANF a Zdravotnícka terminológia – Dr. Kocsis – Modrý dom SZŠ
URL:https://fsvladislava.sk/rozvrh/ose-1-r-bc-sk-anf-a-zdravotnicka-terminologia-modry-dom-szs-15/
LOCATION:SZŠ EK – Modrý dom
CATEGORIES:Odbor Ošetrovateľstvo,OŠE - 1. ročník Bc.
END:VEVENT
BEGIN:VEVENT
DTSTART;TZID=Europe/Bratislava:20260128T180000
DTEND;TZID=Europe/Bratislava:20260128T200000
DTSTAMP:20260426T041213
CREATED:20240109T095632Z
LAST-MODIFIED:20251222T051235Z
UID:42338-1769623200-1769630400@fsvladislava.sk
SUMMARY:SP 2.r. Bc. - Muzikoterapia - Elix
DESCRIPTION:SP 2.r. Bc. – Muzikoterapia – Elix
URL:https://fsvladislava.sk/rozvrh/sp-2-r-bc-sk-muzikoterapia-elix/
LOCATION:Online – Elix
CATEGORIES:Odbor Sociálna práca,SP - 2. ročník Bc.
END:VEVENT
BEGIN:VEVENT
DTSTART;TZID=Europe/Bratislava:20260128T190000
DTEND;TZID=Europe/Bratislava:20260128T190000
DTSTAMP:20260426T041213
CREATED:20260115T061859Z
LAST-MODIFIED:20260115T061859Z
UID:49182-1769626800-1769626800@fsvladislava.sk
SUMMARY:PA/OŠE 1.r. Bc. - SK Biofyzika - Elix
DESCRIPTION:OŠE 1.r. Bc. – Skúška: Biofyzika – univ. prof. Foltín – Elix
URL:https://fsvladislava.sk/rozvrh/pa-ose-1-r-bc-sk-biofyzika-elix-2/
LOCATION:Online – Elix
CATEGORIES:Odbor Ošetrovateľstvo,Odbor Pôrodná asistencia,OŠE - 1. ročník Bc.,PA - 1. ročník Bc.
END:VEVENT
BEGIN:VEVENT
DTSTART;TZID=Europe/Bratislava:20260128T190000
DTEND;TZID=Europe/Bratislava:20260128T190000
DTSTAMP:20260426T041213
CREATED:20260115T134659Z
LAST-MODIFIED:20260115T134659Z
UID:49214-1769626800-1769626800@fsvladislava.sk
SUMMARY:PA 1.r. Bc. - SK CJ-ANJ - Zoom
DESCRIPTION:PA 1.r. Bc. –  SK CJ-ANJ – dr. Sádovská – Online-Zoom
URL:https://fsvladislava.sk/rozvrh/pa-1-r-bc-sk-cj-anj-zoom/
LOCATION:Online – Zoom
CATEGORIES:Odbor Pôrodná asistencia,PA - 1. ročník Bc.
END:VEVENT
BEGIN:VEVENT
DTSTART;TZID=Europe/Bratislava:20260129T070000
DTEND;TZID=Europe/Bratislava:20260129T180000
DTSTAMP:20260426T041213
CREATED:20251001T082318Z
LAST-MODIFIED:20251002T063019Z
UID:48277-1769670000-1769709600@fsvladislava.sk
SUMMARY:FNsP NZ - Neonatológia - Zasadačka
DESCRIPTION:FNsP NZ – Neonatológia – Zasadačka
URL:https://fsvladislava.sk/rozvrh/fnsp-nz-neonatologia-zasadacka-2/
LOCATION:FNsP NZ – Zasadačka
CATEGORIES:FNsP NZ
END:VEVENT
BEGIN:VEVENT
DTSTART;TZID=Europe/Bratislava:20260129T180000
DTEND;TZID=Europe/Bratislava:20260129T180000
DTSTAMP:20260426T041213
CREATED:20251211T083834Z
LAST-MODIFIED:20251211T083834Z
UID:48843-1769709600-1769709600@fsvladislava.sk
SUMMARY:SP 1.r. Mgr. - Metody SP so skupinou - prezentácie písomných prác - Webex
DESCRIPTION:SP 1.r. Mgr. – Metody SP so skupinou – prezentácie písomných prác – doc. Bundzelová – Webex
URL:https://fsvladislava.sk/rozvrh/sp-1-r-mgr-metody-sp-so-skupinou-prezentacie-pisomnych-prac-webex/
LOCATION:Online – Webex
CATEGORIES:Odbor Sociálna práca,SP - 1. ročník Mgr.
END:VEVENT
BEGIN:VEVENT
DTSTART;TZID=Europe/Bratislava:20260130T070000
DTEND;TZID=Europe/Bratislava:20260130T180000
DTSTAMP:20260426T041213
CREATED:20260114T092851Z
LAST-MODIFIED:20260114T092851Z
UID:49145-1769756400-1769796000@fsvladislava.sk
SUMMARY:FNsP NZ - DOD - Zasadačka
DESCRIPTION:FNsP NZ – DOD – Zasadačka
URL:https://fsvladislava.sk/rozvrh/fnsp-nz-dod-zasadacka/
LOCATION:FNsP NZ – Zasadačka
CATEGORIES:FNsP NZ
END:VEVENT
BEGIN:VEVENT
DTSTART;TZID=Europe/Bratislava:20260130T180000
DTEND;TZID=Europe/Bratislava:20260130T180000
DTSTAMP:20260426T041213
CREATED:20260112T063429Z
LAST-MODIFIED:20260115T061300Z
UID:49081-1769796000-1769796000@fsvladislava.sk
SUMMARY:SP 3.r. Bc. - Seminár k Bc. práci (2. časť - mentoring k prácam) - Webex
DESCRIPTION:SP 3.r. Bc. – Seminár k Bc. práci (2. časť – mentoring k prácam) – doc. Bundzelová – Online – Webex
URL:https://fsvladislava.sk/rozvrh/sp-3-r-bc-seminar-k-bc-praci-2-cast-mentoring-k-pracam-webex/
LOCATION:Online – Webex
CATEGORIES:Odbor Sociálna práca,SP - 3. ročník Bc.
END:VEVENT
BEGIN:VEVENT
DTSTART;TZID=Europe/Bratislava:20260130T193000
DTEND;TZID=Europe/Bratislava:20260130T193000
DTSTAMP:20260426T041213
CREATED:20260115T061556Z
LAST-MODIFIED:20260115T061556Z
UID:49176-1769801400-1769801400@fsvladislava.sk
SUMMARY:OŠE 2.r. Mgr. - SK Krízový oše. manažment - Elix
DESCRIPTION:OŠE 2.r. Mgr. – Skúška: Krízový oše. manažment – Dr. Vavro – Elix
URL:https://fsvladislava.sk/rozvrh/ose-2-r-mgr-sk-krizovy-ose-manazment-elix/
LOCATION:Online – Elix
CATEGORIES:Odbor Ošetrovateľstvo,OŠE - 2. ročník Mgr.
END:VEVENT
BEGIN:VEVENT
DTSTART;TZID=Europe/Bratislava:20260202T080000
DTEND;TZID=Europe/Bratislava:20260202T080000
DTSTAMP:20260426T041213
CREATED:20260114T114509Z
LAST-MODIFIED:20260114T114509Z
UID:49157-1770019200-1770019200@fsvladislava.sk
SUMMARY:Fakulta sv. Ladislava - SP zbieranie Bc. prác - Seminárna miestnosť
DESCRIPTION:Fakulta sv. Ladislava – SP zbieranie Bc. prác – Seminárna miestnosť
URL:https://fsvladislava.sk/rozvrh/fakulta-sv-ladislava-sp-zbieranie-bc-prac-seminarna-miestnost/
LOCATION:FNsP NZ  – Seminárna miestnosť
CATEGORIES:Fakulta
END:VEVENT
BEGIN:VEVENT
DTSTART;TZID=Europe/Bratislava:20260202T090000
DTEND;TZID=Europe/Bratislava:20260202T140000
DTSTAMP:20260426T041213
CREATED:20250121T070146Z
LAST-MODIFIED:20260109T071614Z
UID:46719-1770022800-1770040800@fsvladislava.sk
SUMMARY:PA 1.r. Bc. - Gynekológia I. - Zasadačka
DESCRIPTION:PA 1.r. Bc. – Gynekológia I. – Dr. Resutíková – Zasadačka
URL:https://fsvladislava.sk/rozvrh/pa-1-r-bc-gynekologia-i-zasadacka-6/
LOCATION:FNsP NZ – Zasadačka
CATEGORIES:Odbor Pôrodná asistencia,PA - 1. ročník Bc.
END:VEVENT
END:VCALENDAR