BEGIN:VCALENDAR
VERSION:2.0
PRODID:-//Fakulta zdravotníctva a sociálnej práce sv. Ladislava, Nové Zámky - ECPv6.15.17//NONSGML v1.0//EN
CALSCALE:GREGORIAN
METHOD:PUBLISH
X-ORIGINAL-URL:https://fsvladislava.sk
X-WR-CALDESC:Udalosti pre Fakulta zdravotníctva a sociálnej práce sv. Ladislava, Nové Zámky
REFRESH-INTERVAL;VALUE=DURATION:PT1H
X-Robots-Tag:noindex
X-PUBLISHED-TTL:PT1H
BEGIN:VTIMEZONE
TZID:Europe/Bratislava
BEGIN:DAYLIGHT
TZOFFSETFROM:+0100
TZOFFSETTO:+0200
TZNAME:CEST
DTSTART:20250330T010000
END:DAYLIGHT
BEGIN:STANDARD
TZOFFSETFROM:+0200
TZOFFSETTO:+0100
TZNAME:CET
DTSTART:20251026T010000
END:STANDARD
BEGIN:DAYLIGHT
TZOFFSETFROM:+0100
TZOFFSETTO:+0200
TZNAME:CEST
DTSTART:20260329T010000
END:DAYLIGHT
BEGIN:STANDARD
TZOFFSETFROM:+0200
TZOFFSETTO:+0100
TZNAME:CET
DTSTART:20261025T010000
END:STANDARD
BEGIN:DAYLIGHT
TZOFFSETFROM:+0100
TZOFFSETTO:+0200
TZNAME:CEST
DTSTART:20270328T010000
END:DAYLIGHT
BEGIN:STANDARD
TZOFFSETFROM:+0200
TZOFFSETTO:+0100
TZNAME:CET
DTSTART:20271031T010000
END:STANDARD
END:VTIMEZONE
BEGIN:VEVENT
DTSTART;TZID=Europe/Bratislava:20260209T090000
DTEND;TZID=Europe/Bratislava:20260209T140000
DTSTAMP:20260426T003849
CREATED:20260109T071701Z
LAST-MODIFIED:20260109T071701Z
UID:49009-1770627600-1770645600@fsvladislava.sk
SUMMARY:PA 1.r. Bc. - Gynekológia I. - Zasadačka
DESCRIPTION:PA 1.r. Bc. – Gynekológia I. – Dr. Resutíková – Zasadačka
URL:https://fsvladislava.sk/rozvrh/pa-1-r-bc-gynekologia-i-zasadacka-9/
LOCATION:FNsP NZ – Zasadačka
CATEGORIES:Odbor Pôrodná asistencia,PA - 1. ročník Bc.
END:VEVENT
BEGIN:VEVENT
DTSTART;TZID=Europe/Bratislava:20260209T140000
DTEND;TZID=Europe/Bratislava:20260209T183000
DTSTAMP:20260426T003849
CREATED:20260109T072514Z
LAST-MODIFIED:20260119T125139Z
UID:49039-1770645600-1770661800@fsvladislava.sk
SUMMARY:PA 1.r. Bc. - Pôrodníctvo I. - Seminárna miestnosť
DESCRIPTION:PA 1.r. Bc. – Pôrodníctvo I. – prof. Bartkovjak – Seminárna miestnosť
URL:https://fsvladislava.sk/rozvrh/pa-1-r-bc-porodnictvo-i-zasadacka-12/
LOCATION:FNsP NZ  – Seminárna miestnosť
CATEGORIES:Odbor Pôrodná asistencia,PA - 1. ročník Bc.
END:VEVENT
BEGIN:VEVENT
DTSTART;TZID=Europe/Bratislava:20260209T143000
DTEND;TZID=Europe/Bratislava:20260209T143000
DTSTAMP:20260426T003849
CREATED:20260119T125713Z
LAST-MODIFIED:20260119T125713Z
UID:49263-1770647400-1770647400@fsvladislava.sk
SUMMARY:PA 3.r. Bc. - SK Profesionálna komunikácia - Zasadačka
DESCRIPTION:PA 3.r. Bc. – Skúška: Profesionálna komunikácia – Dr. Borbélyová – Zasadačka
URL:https://fsvladislava.sk/rozvrh/pa-3-r-bc-sk-profesionalna-komunikacia-zasadacka/
LOCATION:FNsP NZ – Zasadačka
CATEGORIES:Odbor Pôrodná asistencia,PA - 3. ročník Bc.
END:VEVENT
BEGIN:VEVENT
DTSTART;TZID=Europe/Bratislava:20260209T150000
DTEND;TZID=Europe/Bratislava:20260209T180000
DTSTAMP:20260426T003849
CREATED:20260206T063517Z
LAST-MODIFIED:20260206T071905Z
UID:49557-1770649200-1770660000@fsvladislava.sk
SUMMARY:SP 1.r. Mgr. - Sociálne poradenstvo - 1. časť prednášky - Online
DESCRIPTION:SP 1.r. Mgr. – Sociálne poradenstvo – 1. časť prednášky- doc. Mgr. Ludvigh Cintulová\, PhD. univ. prof. – Online
URL:https://fsvladislava.sk/rozvrh/sp-1-r-mgr-socialne-poradenstvo-1-cast-prednasky-zasadacka/
LOCATION:Online
CATEGORIES:Odbor Sociálna práca,SP - 1. ročník Mgr.
END:VEVENT
BEGIN:VEVENT
DTSTART;TZID=Europe/Bratislava:20260209T153000
DTEND;TZID=Europe/Bratislava:20260209T153000
DTSTAMP:20260426T003849
CREATED:20260119T125805Z
LAST-MODIFIED:20260119T125805Z
UID:49265-1770651000-1770651000@fsvladislava.sk
SUMMARY:PA 3.r. Bc. – SK Pediatria - Zasadačka
DESCRIPTION:PA 3.r. Bc. – Skúška: Pediatria – MUDr. Radvanská – Zasadačka
URL:https://fsvladislava.sk/rozvrh/pa-3-r-bc-sk-pediatria-zasadacka/
LOCATION:FNsP NZ – Zasadačka
CATEGORIES:Odbor Pôrodná asistencia,PA - 3. ročník Bc.
END:VEVENT
BEGIN:VEVENT
DTSTART;TZID=Europe/Bratislava:20260209T180000
DTEND;TZID=Europe/Bratislava:20260209T200000
DTSTAMP:20260426T003849
CREATED:20251222T051252Z
LAST-MODIFIED:20260202T094614Z
UID:48894-1770660000-1770667200@fsvladislava.sk
SUMMARY:SP 1.r. Mgr. - SK Muzikoterapia - Elix
DESCRIPTION:SP 1.r. Mgr. – Skúška: Muzikoterapia – Elix
URL:https://fsvladislava.sk/rozvrh/sp-2-r-bc-muzikoterapia-elix/
LOCATION:Online – Elix
CATEGORIES:Odbor Sociálna práca,SP - 1. ročník Mgr.
END:VEVENT
BEGIN:VEVENT
DTSTART;TZID=Europe/Bratislava:20260209T200000
DTEND;TZID=Europe/Bratislava:20260209T200000
DTSTAMP:20260426T003849
CREATED:20251204T103404Z
LAST-MODIFIED:20260204T124124Z
UID:48763-1770667200-1770667200@fsvladislava.sk
SUMMARY:UZS 4.r. Bc. - Právo a legislatíva v zdravotníctve  - Elix
DESCRIPTION:UZS 4.r. Bc.  – Právo a legislatíva v zdravotníctve  – prof. Šimoňák – Elix
URL:https://fsvladislava.sk/rozvrh/uzs-4-r-bc-predtermin-skuska-pravo-a-legislativa-v-zdravotnictve-kinosala/
LOCATION:elix
CATEGORIES:Odbor Urgentná zdravotná starostlivosť,UZS – 4. ročník Bc.
END:VEVENT
BEGIN:VEVENT
DTSTART;TZID=Europe/Bratislava:20260209T200000
DTEND;TZID=Europe/Bratislava:20260209T203000
DTSTAMP:20260426T003849
CREATED:20260202T054954Z
LAST-MODIFIED:20260202T054954Z
UID:49398-1770667200-1770669000@fsvladislava.sk
SUMMARY:UZS 4.r. Bc. NZ - SK Multikultúrne ošetrovateľstvo - Elix
DESCRIPTION:UZS 4.r. Bc. NZ – Skúška: Multikultúrne ošetrovateľstvo – PhDr. Bc. Barborka\, MBA\, LL.M – Elix
URL:https://fsvladislava.sk/rozvrh/uzs-4-r-bc-nz-sk-multikulturne-osetrovatelstvo-elix/
LOCATION:Online – Elix
CATEGORIES:Odbor Urgentná zdravotná starostlivosť,UZS – 4. ročník Bc.
END:VEVENT
BEGIN:VEVENT
DTSTART;TZID=Europe/Bratislava:20260210T083000
DTEND;TZID=Europe/Bratislava:20260210T100000
DTSTAMP:20260426T003849
CREATED:20250903T060039Z
LAST-MODIFIED:20250903T060039Z
UID:47757-1770712200-1770717600@fsvladislava.sk
SUMMARY:FNsP NZ - Operatívna porada vedúcich zamestnancov - Zasadačka
DESCRIPTION:FNsP NZ – Operatívna porada vedúcich zamestnancov – Zasadačka
URL:https://fsvladislava.sk/rozvrh/fnsp-nz-operativna-porada-veducich-zamestnancov-zasadacka-56/
LOCATION:FNsP NZ – Zasadačka
CATEGORIES:FNsP NZ
END:VEVENT
BEGIN:VEVENT
DTSTART;TZID=Europe/Bratislava:20260210T090000
DTEND;TZID=Europe/Bratislava:20260210T090000
DTSTAMP:20260426T003849
CREATED:20260210T154148Z
LAST-MODIFIED:20260210T154148Z
UID:49577-1770714000-1770714000@fsvladislava.sk
SUMMARY:PA 1.r. Bc. - SK 1. OT Determinanty zdravia a výchova k zdraviu I. - Seminárna miestnosť
DESCRIPTION:PA 1.r. Bc. – Skúška: 1. OT Determinanty zdravia a výchova k zdraviu I. – prof. Matulníková – Seminárna miestnosť
URL:https://fsvladislava.sk/rozvrh/pa-1-r-bc-sk-1-ot-determinanty-zdravia-a-vychova-k-zdraviu-i-seminarna-miestnost/
LOCATION:FNsP NZ  – Seminárna miestnosť
CATEGORIES:Odbor Pôrodná asistencia,PA - 1. ročník Bc.
END:VEVENT
BEGIN:VEVENT
DTSTART;TZID=Europe/Bratislava:20260210T100000
DTEND;TZID=Europe/Bratislava:20260210T140000
DTSTAMP:20260426T003849
CREATED:20260109T071719Z
LAST-MODIFIED:20260109T071719Z
UID:49011-1770717600-1770732000@fsvladislava.sk
SUMMARY:PA 1.r. Bc. - Gynekológia I. - Zasadačka
DESCRIPTION:PA 1.r. Bc. – Gynekológia I. – Dr. Resutíková – Zasadačka
URL:https://fsvladislava.sk/rozvrh/pa-1-r-bc-gynekologia-i-zasadacka-11/
LOCATION:FNsP NZ – Zasadačka
CATEGORIES:Odbor Pôrodná asistencia,PA - 1. ročník Bc.
END:VEVENT
BEGIN:VEVENT
DTSTART;TZID=Europe/Bratislava:20260210T133000
DTEND;TZID=Europe/Bratislava:20260210T133000
DTSTAMP:20260426T003849
CREATED:20260205T090443Z
LAST-MODIFIED:20260205T090443Z
UID:49541-1770730200-1770730200@fsvladislava.sk
SUMMARY:FNsP NZ - Odbor Informatiky - Kinosála
DESCRIPTION:FNsP NZ – Odbor Informatiky – Kinosála
URL:https://fsvladislava.sk/rozvrh/fnsp-nz-odbor-informatiky-kinosala-2/
LOCATION:FNsP NZ  – Kinosála
CATEGORIES:FNsP NZ
END:VEVENT
BEGIN:VEVENT
DTSTART;TZID=Europe/Bratislava:20260210T140000
DTEND;TZID=Europe/Bratislava:20260210T183000
DTSTAMP:20260426T003849
CREATED:20260109T072529Z
LAST-MODIFIED:20260109T072529Z
UID:49041-1770732000-1770748200@fsvladislava.sk
SUMMARY:PA 1.r. Bc. - Pôrodníctvo I. - Zasadačka
DESCRIPTION:PA 1.r. Bc. – Pôrodníctvo I. – prof. Bartkovjak – Zasadačka
URL:https://fsvladislava.sk/rozvrh/pa-1-r-bc-porodnictvo-i-zasadacka-14/
LOCATION:FNsP NZ – Zasadačka
CATEGORIES:Odbor Pôrodná asistencia,PA - 1. ročník Bc.
END:VEVENT
BEGIN:VEVENT
DTSTART;TZID=Europe/Bratislava:20260210T160000
DTEND;TZID=Europe/Bratislava:20260210T200000
DTSTAMP:20260426T003849
CREATED:20260202T132920Z
LAST-MODIFIED:20260203T094155Z
UID:49420-1770739200-1770753600@fsvladislava.sk
SUMMARY:SP 1.r. Bc. - Teória a základy SP - Online
DESCRIPTION:SP 1.r. Bc.  – Teória a základy SP – prof. Ing. Mgr. Radková\, PhD. – Online
URL:https://fsvladislava.sk/rozvrh/ose-1-r-bc-teoria-a-zaklady-sp-online-2/
LOCATION:Online
CATEGORIES:Odbor Sociálna práca,SP - 1. ročník Bc.
ORGANIZER;CN="prof. Radkov%C3%A1":MAILTO:libusa.radkova@gmail.com
END:VEVENT
BEGIN:VEVENT
DTSTART;TZID=Europe/Bratislava:20260211T070000
DTEND;TZID=Europe/Bratislava:20260211T140000
DTSTAMP:20260426T003849
CREATED:20260121T064930Z
LAST-MODIFIED:20260209T064910Z
UID:49288-1770793200-1770818400@fsvladislava.sk
SUMMARY:Fakulta sv. Ladislava - SZŠ - Kinosála
DESCRIPTION:Fakulta sv. Ladislava – SZŠ – Kinosála
URL:https://fsvladislava.sk/rozvrh/fakulta-sv-ladislava-szs-kinosala-8/
LOCATION:FNsP NZ  – Kinosála
CATEGORIES:Fakulta
END:VEVENT
BEGIN:VEVENT
DTSTART;TZID=Europe/Bratislava:20260211T080000
DTEND;TZID=Europe/Bratislava:20260211T090000
DTSTAMP:20260426T003849
CREATED:20250911T080559Z
LAST-MODIFIED:20250911T080559Z
UID:47953-1770796800-1770800400@fsvladislava.sk
SUMMARY:FNsP NZ - Školenie HER - Zasadačka
DESCRIPTION:FNsP NZ – Školenie HER – Zasadačka
URL:https://fsvladislava.sk/rozvrh/fnsp-nz-skolenie-her-zasadacka-34/
LOCATION:FNsP NZ – Zasadačka
CATEGORIES:FNsP NZ
END:VEVENT
BEGIN:VEVENT
DTSTART;TZID=Europe/Bratislava:20260211T090000
DTEND;TZID=Europe/Bratislava:20260211T140000
DTSTAMP:20260426T003849
CREATED:20260102T052906Z
LAST-MODIFIED:20260102T052906Z
UID:48907-1770800400-1770818400@fsvladislava.sk
SUMMARY:OŠE 3.r. Bc. - SK OŠE v chirurgii II. - Zasadačka
DESCRIPTION:OŠE 3.r. Bc. – Skúška: OŠE v chirurgii II. – PhDr. Kollárová – Zasadačka
URL:https://fsvladislava.sk/rozvrh/ose-3-r-bc-sk-ose-v-chirurgii-ii-zasadacka-3/
LOCATION:FNsP NZ – Zasadačka
CATEGORIES:Odbor Ošetrovateľstvo,OŠE - 3. ročník Bc.
END:VEVENT
BEGIN:VEVENT
DTSTART;TZID=Europe/Bratislava:20260211T160000
DTEND;TZID=Europe/Bratislava:20260211T200000
DTSTAMP:20260426T003849
CREATED:20260202T132904Z
LAST-MODIFIED:20260203T094143Z
UID:49418-1770825600-1770840000@fsvladislava.sk
SUMMARY:SP 1.r. Bc. - Teória a základy SP - Online
DESCRIPTION:SP 1.r. Bc.  – Teória a základy SP – prof. Ing. Mgr. Radková\, PhD. – Online
URL:https://fsvladislava.sk/rozvrh/ose-1-r-bc-teoria-a-zaklady-sp-online/
LOCATION:Online
CATEGORIES:Odbor Sociálna práca,SP - 1. ročník Bc.
ORGANIZER;CN="prof. Radkov%C3%A1":MAILTO:libusa.radkova@gmail.com
END:VEVENT
BEGIN:VEVENT
DTSTART;TZID=Europe/Bratislava:20260212T143000
DTEND;TZID=Europe/Bratislava:20260212T143000
DTSTAMP:20260426T003849
CREATED:20260123T090858Z
LAST-MODIFIED:20260123T090858Z
UID:49336-1770906600-1770906600@fsvladislava.sk
SUMMARY:OŠE 2.r. Bc. - SK Klinická propedeutika - Kinosála
DESCRIPTION:OŠE 2.r. Bc. – Skúška: Klinická propedeutika – Dr. Borbélyová – Kinosála
URL:https://fsvladislava.sk/rozvrh/ose-2-r-bc-sk-klinicka-propedeutika-kinosala-5/
LOCATION:FNsP NZ  – Kinosála
CATEGORIES:Odbor Ošetrovateľstvo,OŠE - 2. ročník Bc.
END:VEVENT
BEGIN:VEVENT
DTSTART;TZID=Europe/Bratislava:20260212T150000
DTEND;TZID=Europe/Bratislava:20260212T150000
DTSTAMP:20260426T003849
CREATED:20260115T062316Z
LAST-MODIFIED:20260115T062316Z
UID:49186-1770908400-1770908400@fsvladislava.sk
SUMMARY:PA 2.r. Bc. - SK Neonatológia - Seminárna miestnosť
DESCRIPTION:PA 2.r. Bc. –  Skúška:  Neonatológia  – MUDr. Radvanská – Seminárna miestnosť
URL:https://fsvladislava.sk/rozvrh/pa-2-r-bc-sk-neonatologia-seminarna-miestnost-2/
LOCATION:FNsP NZ  – Seminárna miestnosť
CATEGORIES:Odbor Pôrodná asistencia,PA - 2. ročník Bc.
END:VEVENT
BEGIN:VEVENT
DTSTART;TZID=Europe/Bratislava:20260212T170000
DTEND;TZID=Europe/Bratislava:20260212T203000
DTSTAMP:20260426T003849
CREATED:20260202T141800Z
LAST-MODIFIED:20260202T141800Z
UID:49472-1770915600-1770928200@fsvladislava.sk
SUMMARY:SP 1.r. Mgr. - Krízová intervencia 1. časť - Online
DESCRIPTION:SP 1.r. Mgr. – Krízová intervencia 1. časť – doc. RNDr. Páleníková\, PhD. – Online
URL:https://fsvladislava.sk/rozvrh/sp-1-r-mgr-krizova-intervencia-1-cast-online/
LOCATION:Online
CATEGORIES:Odbor Sociálna práca,SP - 1. ročník Mgr.
END:VEVENT
BEGIN:VEVENT
DTSTART;TZID=Europe/Bratislava:20260212T180000
DTEND;TZID=Europe/Bratislava:20260212T180000
DTSTAMP:20260426T003849
CREATED:20251202T150053Z
LAST-MODIFIED:20251202T150053Z
UID:48752-1770919200-1770919200@fsvladislava.sk
SUMMARY:PA 3.r. Bc. – SK Starostlivosť o novorodenca a dojča II. - Elix
DESCRIPTION:PA 3.r. Bc. – Skúška: Starostlivosť o novorodenca a dojča II. – Mgr. Galková – Elix
URL:https://fsvladislava.sk/rozvrh/pa-3-r-bc-sk-starostlivost-o-novorodenca-a-dojca-ii-elix/
LOCATION:Online – Elix
CATEGORIES:Odbor Pôrodná asistencia,PA - 3. ročník Bc.
END:VEVENT
BEGIN:VEVENT
DTSTART;TZID=Europe/Bratislava:20260213T090000
DTEND;TZID=Europe/Bratislava:20260213T130000
DTSTAMP:20260426T003849
CREATED:20230110T120228Z
LAST-MODIFIED:20260202T135252Z
UID:38927-1770973200-1770987600@fsvladislava.sk
SUMMARY:SP 2.r. Bc. - SPV komunikácia - Zasadačka
DESCRIPTION:SP 2.r. Bc. – SPV komunikácia – Dr. Nagy Gažová – Zasadačka
URL:https://fsvladislava.sk/rozvrh/sp-1-r-bc-spv-vycvik-zasadacka-2/
LOCATION:FNsP NZ – Zasadačka
CATEGORIES:Odbor Sociálna práca,SP - 2. ročník Bc.
END:VEVENT
BEGIN:VEVENT
DTSTART;TZID=Europe/Bratislava:20260213T120000
DTEND;TZID=Europe/Bratislava:20260213T160000
DTSTAMP:20260426T003849
CREATED:20251119T072339Z
LAST-MODIFIED:20251119T072449Z
UID:48622-1770984000-1770998400@fsvladislava.sk
SUMMARY:SP 3.r. Bc. - SK Špecializovaná odborná prax - Kinosála
DESCRIPTION:SP 3.r. Bc. – Skúška: špecializovaná odborná prax – Dr. Buzalová – Kinosála
URL:https://fsvladislava.sk/rozvrh/sp-3-r-bc-specializovana-odborna-prax-kinosala/
LOCATION:FNsP NZ  – Kinosála
CATEGORIES:Odbor Sociálna práca,SP - 3. ročník Bc.
END:VEVENT
BEGIN:VEVENT
DTSTART;TZID=Europe/Bratislava:20260213T130000
DTEND;TZID=Europe/Bratislava:20260213T150000
DTSTAMP:20260426T003849
CREATED:20260129T102421Z
LAST-MODIFIED:20260129T102421Z
UID:49386-1770987600-1770994800@fsvladislava.sk
SUMMARY:FNsP NZ - Školenie o podávaní transfúzií - Zasadačka
DESCRIPTION:FNsP NZ – Školenie o podávaní transfúzií – Zasadačka
URL:https://fsvladislava.sk/rozvrh/fnsp-nz-skolenie-o-podavani-transfuzii-zasadacka/
LOCATION:FNsP NZ – Zasadačka
CATEGORIES:FNsP NZ
END:VEVENT
BEGIN:VEVENT
DTSTART;TZID=Europe/Bratislava:20260214T080000
DTEND;TZID=Europe/Bratislava:20260214T153000
DTSTAMP:20260426T003849
CREATED:20250916T123034Z
LAST-MODIFIED:20260202T135347Z
UID:48157-1771056000-1771083000@fsvladislava.sk
SUMMARY:SP 2.r. Bc. - SPV komunikácia - Zasadačka
DESCRIPTION:SP 2.r. Bc. – SPV komunikácia – Dr. Nagy Gažová – Zasadačka
URL:https://fsvladislava.sk/rozvrh/sp-2-r-bc-spv-komunikacia-zasadacka/
LOCATION:FNsP NZ – Zasadačka
CATEGORIES:Odbor Sociálna práca,SP - 2. ročník Bc.
END:VEVENT
BEGIN:VEVENT
DTSTART;TZID=Europe/Bratislava:20260214T090000
DTEND;TZID=Europe/Bratislava:20260214T090000
DTSTAMP:20260426T003849
CREATED:20260119T110750Z
LAST-MODIFIED:20260119T110750Z
UID:49258-1771059600-1771059600@fsvladislava.sk
SUMMARY:SP 2.r. Mgr. - SK Penitenciarna a postpenitenciarna SP - Kinosála
DESCRIPTION:SP 2.r. Mgr. –  Skúška: Penitenciarna a postpenitenciarna SP – Dr. Lobodáš – Kinosála
URL:https://fsvladislava.sk/rozvrh/sp-2-r-mgr-sk-penitenciarna-a-postpenitenciarna-sp-kinosala/
LOCATION:FNsP NZ  – Kinosála
CATEGORIES:Odbor Sociálna práca,SP - 2. ročník Mgr.
END:VEVENT
BEGIN:VEVENT
DTSTART;TZID=Europe/Bratislava:20260214T090000
DTEND;TZID=Europe/Bratislava:20260214T110000
DTSTAMP:20260426T003849
CREATED:20260108T071149Z
LAST-MODIFIED:20260203T143004Z
UID:48971-1771059600-1771066800@fsvladislava.sk
SUMMARY:SP 3.r. Bc. - SK Metódy SP s jednotlivcom - Online - ústna skúška
DESCRIPTION:SP 3.r. Bc. – Skúška: Metódy SP s jednotlivcom – doc. Bundzelová – Online – ústna skúška
URL:https://fsvladislava.sk/rozvrh/sp-3-r-bc-sk-metody-sp-s-jednotlivcom-online/
LOCATION:Online
CATEGORIES:Odbor Sociálna práca,SP - 3. ročník Bc.
END:VEVENT
BEGIN:VEVENT
DTSTART;TZID=Europe/Bratislava:20260214T110000
DTEND;TZID=Europe/Bratislava:20260214T110000
DTSTAMP:20260426T003849
CREATED:20260119T110944Z
LAST-MODIFIED:20260119T110944Z
UID:49260-1771066800-1771066800@fsvladislava.sk
SUMMARY:SP 1.r. Bc. - SK Občianske právo - Kinosála
DESCRIPTION:SP 1.r. Bc. – Skúška: Občianske právo – Dr. Lobodáš – Kinosála
URL:https://fsvladislava.sk/rozvrh/sp-1-r-bc-sk-obcianske-pravo-kinosala-2/
LOCATION:FNsP NZ  – Kinosála
CATEGORIES:Odbor Sociálna práca,SP - 1. ročník Bc.
END:VEVENT
BEGIN:VEVENT
DTSTART;TZID=Europe/Bratislava:20260214T110000
DTEND;TZID=Europe/Bratislava:20260214T120000
DTSTAMP:20260426T003849
CREATED:20260108T071216Z
LAST-MODIFIED:20260203T143115Z
UID:48973-1771066800-1771070400@fsvladislava.sk
SUMMARY:SP 3.r. Bc. - SK Metódy SP s jednotlivcom (rozdieloví študenti) - Online - ústna skúška
DESCRIPTION:SP 3.r. Bc. – Skúška: Metódy SP s jednotlivcom (rozdieloví študenti) – doc. Bundzelová – Online – ústna skúška
URL:https://fsvladislava.sk/rozvrh/sp-3-r-bc-sk-metody-sp-s-jednotlivcom-rozdielovi-studenti-online/
LOCATION:Online
CATEGORIES:Odbor Sociálna práca,SP - 3. ročník Bc.
END:VEVENT
END:VCALENDAR