BEGIN:VCALENDAR
VERSION:2.0
PRODID:-//Fakulta zdravotníctva a sociálnej práce sv. Ladislava, Nové Zámky - ECPv6.15.17//NONSGML v1.0//EN
CALSCALE:GREGORIAN
METHOD:PUBLISH
X-WR-CALNAME:Fakulta zdravotníctva a sociálnej práce sv. Ladislava, Nové Zámky
X-ORIGINAL-URL:https://fsvladislava.sk
X-WR-CALDESC:Udalosti pre Fakulta zdravotníctva a sociálnej práce sv. Ladislava, Nové Zámky
REFRESH-INTERVAL;VALUE=DURATION:PT1H
X-Robots-Tag:noindex
X-PUBLISHED-TTL:PT1H
BEGIN:VTIMEZONE
TZID:Europe/Bratislava
BEGIN:DAYLIGHT
TZOFFSETFROM:+0100
TZOFFSETTO:+0200
TZNAME:CEST
DTSTART:20250330T010000
END:DAYLIGHT
BEGIN:STANDARD
TZOFFSETFROM:+0200
TZOFFSETTO:+0100
TZNAME:CET
DTSTART:20251026T010000
END:STANDARD
BEGIN:DAYLIGHT
TZOFFSETFROM:+0100
TZOFFSETTO:+0200
TZNAME:CEST
DTSTART:20260329T010000
END:DAYLIGHT
BEGIN:STANDARD
TZOFFSETFROM:+0200
TZOFFSETTO:+0100
TZNAME:CET
DTSTART:20261025T010000
END:STANDARD
BEGIN:DAYLIGHT
TZOFFSETFROM:+0100
TZOFFSETTO:+0200
TZNAME:CEST
DTSTART:20270328T010000
END:DAYLIGHT
BEGIN:STANDARD
TZOFFSETFROM:+0200
TZOFFSETTO:+0100
TZNAME:CET
DTSTART:20271031T010000
END:STANDARD
END:VTIMEZONE
BEGIN:VEVENT
DTSTART;TZID=Europe/Bratislava:20260224T090000
DTEND;TZID=Europe/Bratislava:20260224T153000
DTSTAMP:20260426T043104
CREATED:20230310T094705Z
LAST-MODIFIED:20260122T060723Z
UID:39621-1771923600-1771947000@fsvladislava.sk
SUMMARY:OŠE 2.r. Mgr. - Manažment ošetrovateľstva II.  - Webex
DESCRIPTION:OŠE 2.r. Mgr. – Manažment ošetrovateľstva II.  – doc. Koňošová – Online-Webex
URL:https://fsvladislava.sk/rozvrh/ose-2-r-mgr-manazerska-prax-elix/
LOCATION:Online – Webex
CATEGORIES:Odbor Ošetrovateľstvo,OŠE - 2. ročník Mgr.
END:VEVENT
BEGIN:VEVENT
DTSTART;TZID=Europe/Bratislava:20260224T083000
DTEND;TZID=Europe/Bratislava:20260224T100000
DTSTAMP:20260426T043104
CREATED:20250903T060326Z
LAST-MODIFIED:20250903T060326Z
UID:47761-1771921800-1771927200@fsvladislava.sk
SUMMARY:FNsP NZ - Operatívna porada vedúcich zamestnancov - Zasadačka
DESCRIPTION:FNsP NZ – Operatívna porada vedúcich zamestnancov – Zasadačka
URL:https://fsvladislava.sk/rozvrh/fnsp-nz-operativna-porada-veducich-zamestnancov-zasadacka-58/
LOCATION:FNsP NZ – Zasadačka
CATEGORIES:FNsP NZ
END:VEVENT
BEGIN:VEVENT
DTSTART;TZID=Europe/Bratislava:20260223T163000
DTEND;TZID=Europe/Bratislava:20260223T193000
DTSTAMP:20260426T043104
CREATED:20260122T060528Z
LAST-MODIFIED:20260122T060528Z
UID:49299-1771864200-1771875000@fsvladislava.sk
SUMMARY:OŠE 2.r. Mgr. - Oše. starostlivosť o postihnutých - Webex
DESCRIPTION:OŠE 2.r. Mgr. –   Oše. starostlivosť o postihnutých –  Dr. Fialová – Online – Webex
URL:https://fsvladislava.sk/rozvrh/ose-2-r-mgr-ose-starostlivost-o-postihnutych-webex/
LOCATION:Online – Webex
CATEGORIES:Odbor Ošetrovateľstvo,OŠE - 2. ročník Mgr.
END:VEVENT
BEGIN:VEVENT
DTSTART;TZID=Europe/Bratislava:20260223T150000
DTEND;TZID=Europe/Bratislava:20260223T150000
DTSTAMP:20260426T043104
CREATED:20260116T123724Z
LAST-MODIFIED:20260116T123724Z
UID:49239-1771858800-1771858800@fsvladislava.sk
SUMMARY:OŠE 1.r. Bc. - SK ANF II. - Modrý dom SZŠ
DESCRIPTION:OŠE 1.r. Bc. – Skúška – ANF II.  – Dr. Kocsis – Modrý dom SZŠ
URL:https://fsvladislava.sk/rozvrh/ose-1-r-bc-sk-anf-ii-modry-dom-szs-4/
LOCATION:SZŠ EK – Modrý dom
CATEGORIES:Odbor Ošetrovateľstvo,OŠE - 1. ročník Bc.
END:VEVENT
BEGIN:VEVENT
DTSTART;TZID=Europe/Bratislava:20260223T140000
DTEND;TZID=Europe/Bratislava:20260223T183000
DTSTAMP:20260426T043104
CREATED:20260108T064223Z
LAST-MODIFIED:20260109T065946Z
UID:48947-1771855200-1771871400@fsvladislava.sk
SUMMARY:PA 2.r. Bc. - Pôrodníctvo III. - Zasadačka
DESCRIPTION:PA 2.r. Bc. – Pôrodníctvo III. – prof. Bartkovjak – Zasadačka
URL:https://fsvladislava.sk/rozvrh/pa-1-r-bc-porodnictvo-i-zasadacka-11/
LOCATION:FNsP NZ – Zasadačka
CATEGORIES:Odbor Pôrodná asistencia,PA - 2. ročník Bc.
END:VEVENT
BEGIN:VEVENT
DTSTART;TZID=Europe/Bratislava:20260223T140000
DTEND;TZID=Europe/Bratislava:20260223T140000
DTSTAMP:20260426T043104
CREATED:20260203T140336Z
LAST-MODIFIED:20260203T140336Z
UID:49511-1771855200-1771855200@fsvladislava.sk
SUMMARY:OŠE 1.r. Bc. - Ošetrovateľské postupy a techniky I. - Modrý dom
DESCRIPTION:OŠE 1.r. Bc. – Ošetrovateľské postupy a techniky I. – PhDr. A. Barteková – Modrý dom
URL:https://fsvladislava.sk/rozvrh/ose-1-r-bc-osetrovatelske-postupy-a-techniky-i-modry-dom-9/
LOCATION:SZŠ EK – Modrý dom
CATEGORIES:Odbor Ošetrovateľstvo,OŠE - 1. ročník Bc.
END:VEVENT
BEGIN:VEVENT
DTSTART;TZID=Europe/Bratislava:20260223T090000
DTEND;TZID=Europe/Bratislava:20260223T153000
DTSTAMP:20260426T043104
CREATED:20250120T132713Z
LAST-MODIFIED:20260109T071849Z
UID:46699-1771837200-1771860600@fsvladislava.sk
SUMMARY:PA 1.r. Bc. - Postupy a techniky v PA - Seminárna miestnosť
DESCRIPTION:PA 1.r. Bc. – Postupy a techniky v PA  – prof. Hanušová – Seminárna miestnosť
URL:https://fsvladislava.sk/rozvrh/pa-1-r-bc-postupy-a-techniky-v-pa-seminarna-miestnost-2/
LOCATION:FNsP NZ  – Seminárna miestnosť
CATEGORIES:Odbor Pôrodná asistencia,PA - 1. ročník Bc.
END:VEVENT
BEGIN:VEVENT
DTSTART;TZID=Europe/Bratislava:20260223T090000
DTEND;TZID=Europe/Bratislava:20260223T140000
DTSTAMP:20260426T043104
CREATED:20260108T063840Z
LAST-MODIFIED:20260109T065922Z
UID:48938-1771837200-1771855200@fsvladislava.sk
SUMMARY:PA 2.r. Bc. - Gynekológia III. - Zasadačka
DESCRIPTION:PA 2.r. Bc. – Gynekológia III. – Zasadačka
URL:https://fsvladislava.sk/rozvrh/pa-1-r-bc-gynekologia-i-zasadacka-10/
LOCATION:FNsP NZ – Zasadačka
CATEGORIES:Odbor Pôrodná asistencia,PA - 2. ročník Bc.
END:VEVENT
BEGIN:VEVENT
DTSTART;TZID=Europe/Bratislava:20260223T090000
DTEND;TZID=Europe/Bratislava:20260223T090000
DTSTAMP:20260426T043104
CREATED:20250120T062157Z
LAST-MODIFIED:20260113T132451Z
UID:46658-1771837200-1771837200@fsvladislava.sk
SUMMARY:OŠE 4.r. Bc. - OŠE vo vybraných med. odboroch - Kinosála
DESCRIPTION:OŠE 4.r. Bc. – OŠE vo vybraných med. odboroch – Dr. Vadkertiová – Kinosála
URL:https://fsvladislava.sk/rozvrh/ose-4-r-bc-sk-ose-vo-vybranych-med-odboroch-zasadacka/
LOCATION:FNsP NZ  – Kinosála
CATEGORIES:Odbor Ošetrovateľstvo,OŠE - 4. ročník Bc.
END:VEVENT
BEGIN:VEVENT
DTSTART;TZID=Europe/Bratislava:20260223T083000
DTEND;TZID=Europe/Bratislava:20260223T120000
DTSTAMP:20260426T043104
CREATED:20240625T051659Z
LAST-MODIFIED:20260122T060508Z
UID:44729-1771835400-1771848000@fsvladislava.sk
SUMMARY:OŠE 2.r. Mgr. - Oše. starostlivosť o postihnutých - Webex
DESCRIPTION:OŠE 2.r. Mgr. –   Oše. starostlivosť o postihnutých –  Dr. Fialová – Online – Webex
URL:https://fsvladislava.sk/rozvrh/ose-2-r-mgr-ot-sk-ose-starostlivost-o-postihnutych-elix-2/
LOCATION:Online – Webex
CATEGORIES:Odbor Ošetrovateľstvo,OŠE - 2. ročník Mgr.
END:VEVENT
BEGIN:VEVENT
DTSTART;TZID=Europe/Bratislava:20260221T090000
DTEND;TZID=Europe/Bratislava:20260221T110000
DTSTAMP:20260426T043104
CREATED:20260108T071256Z
LAST-MODIFIED:20260203T143009Z
UID:48975-1771664400-1771671600@fsvladislava.sk
SUMMARY:SP 3.r. Bc. - SK Metódy SP s jednotlivcom - Online - ústna skúška
DESCRIPTION:SP 3.r. Bc. – Skúška: Metódy SP s jednotlivcom – doc. Bundzelová – Online – ústna skúška
URL:https://fsvladislava.sk/rozvrh/sp-3-r-bc-sk-metody-sp-s-jednotlivcom-online-2/
LOCATION:Online
CATEGORIES:Odbor Sociálna práca,SP - 3. ročník Bc.
END:VEVENT
BEGIN:VEVENT
DTSTART;TZID=Europe/Bratislava:20260221T090000
DTEND;TZID=Europe/Bratislava:20260221T090000
DTSTAMP:20260426T043104
CREATED:20260219T121421Z
LAST-MODIFIED:20260219T121421Z
UID:49629-1771664400-1771664400@fsvladislava.sk
SUMMARY:SP 1.r. Bc. - OT SK Občianske právo - Zasadačka
DESCRIPTION:SP 1.r. Bc. – OT Skúška: Rodinné právo – Dr. Lobodáš – Zasadačka
URL:https://fsvladislava.sk/rozvrh/sp-1-r-bc-ot-sk-obcianske-pravo-zasadacka/
LOCATION:FNsP NZ – Zasadačka
CATEGORIES:Odbor Sociálna práca,SP - 1. ročník Bc.
END:VEVENT
BEGIN:VEVENT
DTSTART;TZID=Europe/Bratislava:20260221T090000
DTEND;TZID=Europe/Bratislava:20260221T090000
DTSTAMP:20260426T043104
CREATED:20251008T114716Z
LAST-MODIFIED:20260119T134822Z
UID:48342-1771664400-1771664400@fsvladislava.sk
SUMMARY:SP 2.r. Bc. - SK Rodinné právo - Zasadačka
DESCRIPTION:SP 2.r. Bc. – Skúška: Rodinné právo – Dr. Lobodáš – Zasadačka
URL:https://fsvladislava.sk/rozvrh/sp-2-r-bc-sk-rodinne-pravo-zasadacka/
LOCATION:FNsP NZ – Zasadačka
CATEGORIES:Odbor Sociálna práca,SP - 2. ročník Bc.
END:VEVENT
BEGIN:VEVENT
DTSTART;TZID=Europe/Bratislava:20260221T080000
DTEND;TZID=Europe/Bratislava:20260221T130000
DTSTAMP:20260426T043104
CREATED:20260202T132202Z
LAST-MODIFIED:20260202T134752Z
UID:49406-1771660800-1771678800@fsvladislava.sk
SUMMARY:SP 1.r. Bc. - Základy etiky 1. časť - Kinosála
DESCRIPTION:SP 1.r. Bc.  – Základy etiky 1. časť – PaedDr. Moravík\, PhD. – Kinosála
URL:https://fsvladislava.sk/rozvrh/ose-1-r-bc-zaklady-etiky-1-cast-kinosala/
LOCATION:FNsP NZ  – Kinosála
CATEGORIES:Odbor Sociálna práca,SP - 1. ročník Bc.
END:VEVENT
BEGIN:VEVENT
DTSTART;TZID=Europe/Bratislava:20260220T130000
DTEND;TZID=Europe/Bratislava:20260220T193000
DTSTAMP:20260426T043104
CREATED:20250108T063532Z
LAST-MODIFIED:20260109T075743Z
UID:46452-1771592400-1771615800@fsvladislava.sk
SUMMARY:OŠE 2.r. Mgr. - Manažment kvality zdravotníckych služieb - Webex
DESCRIPTION:OŠE 2.r. Mgr. – Manažment kvality zdravotníckych služieb –  doc. Dubovcová – Online – Webex
URL:https://fsvladislava.sk/rozvrh/ose-2-r-mgr-ose-starostlivost-o-postihnutych-elix-2/
LOCATION:Online – Webex
CATEGORIES:Odbor Ošetrovateľstvo,OŠE - 2. ročník Mgr.
END:VEVENT
BEGIN:VEVENT
DTSTART;TZID=Europe/Bratislava:20260220T120000
DTEND;TZID=Europe/Bratislava:20260220T160000
DTSTAMP:20260426T043104
CREATED:20251119T072417Z
LAST-MODIFIED:20251119T072417Z
UID:48624-1771588800-1771603200@fsvladislava.sk
SUMMARY:SP 3.r. Bc. - SK Špecializovaná odborná prax - Kinosála
DESCRIPTION:SP 3.r. Bc. – Skúška: špecializovaná odborná prax – Dr. Buzalová – Kinosála
URL:https://fsvladislava.sk/rozvrh/sp-3-r-bc-sk-specializovana-odborna-prax-kinosala/
LOCATION:FNsP NZ  – Kinosála
CATEGORIES:Odbor Sociálna práca,SP - 3. ročník Bc.
END:VEVENT
BEGIN:VEVENT
DTSTART;TZID=Europe/Bratislava:20260220T080000
DTEND;TZID=Europe/Bratislava:20260220T120000
DTSTAMP:20260426T043104
CREATED:20240307T061842Z
LAST-MODIFIED:20260225T062036Z
UID:43490-1771574400-1771588800@fsvladislava.sk
SUMMARY:OŠE 1.r. Mgr. - Manažment v zdravotníctve - Kinosála
DESCRIPTION:OŠE 1.r. Mgr. – Manažment v zdravotníctve – prof. Karvaj – Kinosála
URL:https://fsvladislava.sk/rozvrh/ose-1-r-mgr-sk-manazment-v-zdravotnictve-zasadacka/
LOCATION:FNsP NZ  – Kinosála
CATEGORIES:Odbor Ošetrovateľstvo,OŠE - 1. ročník Mgr.
END:VEVENT
BEGIN:VEVENT
DTSTART;TZID=Europe/Bratislava:20260219T170000
DTEND;TZID=Europe/Bratislava:20260219T203000
DTSTAMP:20260426T043104
CREATED:20260202T141825Z
LAST-MODIFIED:20260202T141825Z
UID:49474-1771520400-1771533000@fsvladislava.sk
SUMMARY:SP 1.r. Mgr. - Krízová intervencia 2. časť - Online
DESCRIPTION:SP 1.r. Mgr. – Krízová intervencia 2. časť – doc. RNDr. Páleníková\, PhD. – Online
URL:https://fsvladislava.sk/rozvrh/sp-1-r-mgr-krizova-intervencia-2-cast-online/
LOCATION:Online
CATEGORIES:Odbor Sociálna práca,SP - 1. ročník Mgr.
END:VEVENT
BEGIN:VEVENT
DTSTART;TZID=Europe/Bratislava:20260219T143000
DTEND;TZID=Europe/Bratislava:20260219T143000
DTSTAMP:20260426T043104
CREATED:20260123T090913Z
LAST-MODIFIED:20260123T090913Z
UID:49338-1771511400-1771511400@fsvladislava.sk
SUMMARY:OŠE 2.r. Bc. - SK Klinická propedeutika - Kinosála
DESCRIPTION:OŠE 2.r. Bc. – Skúška: Klinická propedeutika – Dr. Borbélyová – Kinosála
URL:https://fsvladislava.sk/rozvrh/ose-2-r-bc-sk-klinicka-propedeutika-kinosala-6/
LOCATION:FNsP NZ  – Kinosála
CATEGORIES:Odbor Ošetrovateľstvo,OŠE - 2. ročník Bc.
END:VEVENT
BEGIN:VEVENT
DTSTART;TZID=Europe/Bratislava:20260219T090000
DTEND;TZID=Europe/Bratislava:20260219T153000
DTSTAMP:20260426T043104
CREATED:20260109T071455Z
LAST-MODIFIED:20260109T071455Z
UID:49002-1771491600-1771515000@fsvladislava.sk
SUMMARY:PA 1.r. Bc. - Determinanty zdravia a výchova k zdraviu II. - Zasadačka
DESCRIPTION:PA 1.r. Bc. – Determinanty zdravia a výchova k zdraviu II. – prof. Matulníková – Zasadačka
URL:https://fsvladislava.sk/rozvrh/pa-1-r-bc-determinanty-zdravia-a-vychova-k-zdraviu-ii-zasadacka-5/
LOCATION:FNsP NZ – Zasadačka
CATEGORIES:Odbor Pôrodná asistencia,PA - 1. ročník Bc.
END:VEVENT
BEGIN:VEVENT
DTSTART;TZID=Europe/Bratislava:20260218T090000
DTEND;TZID=Europe/Bratislava:20260218T153000
DTSTAMP:20260426T043104
CREATED:20251210T072315Z
LAST-MODIFIED:20260109T071440Z
UID:48801-1771405200-1771428600@fsvladislava.sk
SUMMARY:PA 1.r. Bc. - Determinanty zdravia a výchova k zdraviu II. - Zasadačka
DESCRIPTION:PA 1.r. Bc. – Determinanty zdravia a výchova k zdraviu II. – prof. Matulníková – Zasadačka
URL:https://fsvladislava.sk/rozvrh/pa-1-r-bc-sk-determinanty-zdravia-a-vychova-k-zdraviu-i-seminarna-miestnost-3/
LOCATION:FNsP NZ – Zasadačka
CATEGORIES:Odbor Pôrodná asistencia,PA - 1. ročník Bc.
END:VEVENT
BEGIN:VEVENT
DTSTART;TZID=Europe/Bratislava:20260217T100000
DTEND;TZID=Europe/Bratislava:20260217T150000
DTSTAMP:20260426T043104
CREATED:20260209T070010Z
LAST-MODIFIED:20260209T070025Z
UID:49566-1771322400-1771340400@fsvladislava.sk
SUMMARY:FNsP NZ - DRG - Zasadačka
DESCRIPTION:FNsP NZ – DRG – Zasadačka
URL:https://fsvladislava.sk/rozvrh/fnsp-nz-drg-zasadacka-7/
LOCATION:FNsP NZ – Zasadačka
CATEGORIES:FNsP NZ
END:VEVENT
BEGIN:VEVENT
DTSTART;TZID=Europe/Bratislava:20260217T083000
DTEND;TZID=Europe/Bratislava:20260217T100000
DTSTAMP:20260426T043104
CREATED:20250903T060055Z
LAST-MODIFIED:20250903T060055Z
UID:47759-1771317000-1771322400@fsvladislava.sk
SUMMARY:FNsP NZ - Operatívna porada vedúcich zamestnancov - Zasadačka
DESCRIPTION:FNsP NZ – Operatívna porada vedúcich zamestnancov – Zasadačka
URL:https://fsvladislava.sk/rozvrh/fnsp-nz-operativna-porada-veducich-zamestnancov-zasadacka-57/
LOCATION:FNsP NZ – Zasadačka
CATEGORIES:FNsP NZ
END:VEVENT
BEGIN:VEVENT
DTSTART;TZID=Europe/Bratislava:20260216T140000
DTEND;TZID=Europe/Bratislava:20260216T140000
DTSTAMP:20260426T043104
CREATED:20260203T140316Z
LAST-MODIFIED:20260203T140316Z
UID:49509-1771250400-1771250400@fsvladislava.sk
SUMMARY:OŠE 1.r. Bc. - Ošetrovateľské postupy a techniky I. - Modrý dom
DESCRIPTION:OŠE 1.r. Bc. – Ošetrovateľské postupy a techniky I. – PhDr. A. Barteková – Modrý dom
URL:https://fsvladislava.sk/rozvrh/ose-1-r-bc-osetrovatelske-postupy-a-techniky-i-modry-dom-8/
LOCATION:SZŠ EK – Modrý dom
CATEGORIES:Odbor Ošetrovateľstvo,OŠE - 1. ročník Bc.
END:VEVENT
BEGIN:VEVENT
DTSTART;TZID=Europe/Bratislava:20260215T200000
DTEND;TZID=Europe/Bratislava:20260215T203000
DTSTAMP:20260426T043104
CREATED:20231020T090109Z
LAST-MODIFIED:20260212T064536Z
UID:41690-1771185600-1771187400@fsvladislava.sk
SUMMARY:UZS 4.r. Bc. - OT SK Zdravotnícky a krízový manažment a integrovaný záchranný systém - Elix
DESCRIPTION:UZS 4.r. Bc.  – OT skúšky: Zdravotnícky a krízový manažment a integrovaný záchranný systém – Mgr. Bc. Száz – Elix
URL:https://fsvladislava.sk/rozvrh/uzs-4-r-bc-zdravotnicky-a-krizovy-manazment-a-integrovany-zachranny-system-partizanske/
LOCATION:Online – Elix
CATEGORIES:Odbor Urgentná zdravotná starostlivosť,UZS – 4. ročník Bc.
END:VEVENT
BEGIN:VEVENT
DTSTART;TZID=Europe/Bratislava:20260214T110000
DTEND;TZID=Europe/Bratislava:20260214T120000
DTSTAMP:20260426T043104
CREATED:20260108T071216Z
LAST-MODIFIED:20260203T143115Z
UID:48973-1771066800-1771070400@fsvladislava.sk
SUMMARY:SP 3.r. Bc. - SK Metódy SP s jednotlivcom (rozdieloví študenti) - Online - ústna skúška
DESCRIPTION:SP 3.r. Bc. – Skúška: Metódy SP s jednotlivcom (rozdieloví študenti) – doc. Bundzelová – Online – ústna skúška
URL:https://fsvladislava.sk/rozvrh/sp-3-r-bc-sk-metody-sp-s-jednotlivcom-rozdielovi-studenti-online/
LOCATION:Online
CATEGORIES:Odbor Sociálna práca,SP - 3. ročník Bc.
END:VEVENT
BEGIN:VEVENT
DTSTART;TZID=Europe/Bratislava:20260214T110000
DTEND;TZID=Europe/Bratislava:20260214T110000
DTSTAMP:20260426T043104
CREATED:20260119T110944Z
LAST-MODIFIED:20260119T110944Z
UID:49260-1771066800-1771066800@fsvladislava.sk
SUMMARY:SP 1.r. Bc. - SK Občianske právo - Kinosála
DESCRIPTION:SP 1.r. Bc. – Skúška: Občianske právo – Dr. Lobodáš – Kinosála
URL:https://fsvladislava.sk/rozvrh/sp-1-r-bc-sk-obcianske-pravo-kinosala-2/
LOCATION:FNsP NZ  – Kinosála
CATEGORIES:Odbor Sociálna práca,SP - 1. ročník Bc.
END:VEVENT
BEGIN:VEVENT
DTSTART;TZID=Europe/Bratislava:20260214T090000
DTEND;TZID=Europe/Bratislava:20260214T110000
DTSTAMP:20260426T043104
CREATED:20260108T071149Z
LAST-MODIFIED:20260203T143004Z
UID:48971-1771059600-1771066800@fsvladislava.sk
SUMMARY:SP 3.r. Bc. - SK Metódy SP s jednotlivcom - Online - ústna skúška
DESCRIPTION:SP 3.r. Bc. – Skúška: Metódy SP s jednotlivcom – doc. Bundzelová – Online – ústna skúška
URL:https://fsvladislava.sk/rozvrh/sp-3-r-bc-sk-metody-sp-s-jednotlivcom-online/
LOCATION:Online
CATEGORIES:Odbor Sociálna práca,SP - 3. ročník Bc.
END:VEVENT
BEGIN:VEVENT
DTSTART;TZID=Europe/Bratislava:20260214T090000
DTEND;TZID=Europe/Bratislava:20260214T090000
DTSTAMP:20260426T043104
CREATED:20260119T110750Z
LAST-MODIFIED:20260119T110750Z
UID:49258-1771059600-1771059600@fsvladislava.sk
SUMMARY:SP 2.r. Mgr. - SK Penitenciarna a postpenitenciarna SP - Kinosála
DESCRIPTION:SP 2.r. Mgr. –  Skúška: Penitenciarna a postpenitenciarna SP – Dr. Lobodáš – Kinosála
URL:https://fsvladislava.sk/rozvrh/sp-2-r-mgr-sk-penitenciarna-a-postpenitenciarna-sp-kinosala/
LOCATION:FNsP NZ  – Kinosála
CATEGORIES:Odbor Sociálna práca,SP - 2. ročník Mgr.
END:VEVENT
BEGIN:VEVENT
DTSTART;TZID=Europe/Bratislava:20260214T080000
DTEND;TZID=Europe/Bratislava:20260214T153000
DTSTAMP:20260426T043104
CREATED:20250916T123034Z
LAST-MODIFIED:20260202T135347Z
UID:48157-1771056000-1771083000@fsvladislava.sk
SUMMARY:SP 2.r. Bc. - SPV komunikácia - Zasadačka
DESCRIPTION:SP 2.r. Bc. – SPV komunikácia – Dr. Nagy Gažová – Zasadačka
URL:https://fsvladislava.sk/rozvrh/sp-2-r-bc-spv-komunikacia-zasadacka/
LOCATION:FNsP NZ – Zasadačka
CATEGORIES:Odbor Sociálna práca,SP - 2. ročník Bc.
END:VEVENT
END:VCALENDAR