BEGIN:VCALENDAR
VERSION:2.0
PRODID:-//Fakulta zdravotníctva a sociálnej práce sv. Ladislava, Nové Zámky - ECPv6.15.17//NONSGML v1.0//EN
CALSCALE:GREGORIAN
METHOD:PUBLISH
X-WR-CALNAME:Fakulta zdravotníctva a sociálnej práce sv. Ladislava, Nové Zámky
X-ORIGINAL-URL:https://fsvladislava.sk
X-WR-CALDESC:Udalosti pre Fakulta zdravotníctva a sociálnej práce sv. Ladislava, Nové Zámky
REFRESH-INTERVAL;VALUE=DURATION:PT1H
X-Robots-Tag:noindex
X-PUBLISHED-TTL:PT1H
BEGIN:VTIMEZONE
TZID:Europe/Bratislava
BEGIN:DAYLIGHT
TZOFFSETFROM:+0100
TZOFFSETTO:+0200
TZNAME:CEST
DTSTART:20250330T010000
END:DAYLIGHT
BEGIN:STANDARD
TZOFFSETFROM:+0200
TZOFFSETTO:+0100
TZNAME:CET
DTSTART:20251026T010000
END:STANDARD
BEGIN:DAYLIGHT
TZOFFSETFROM:+0100
TZOFFSETTO:+0200
TZNAME:CEST
DTSTART:20260329T010000
END:DAYLIGHT
BEGIN:STANDARD
TZOFFSETFROM:+0200
TZOFFSETTO:+0100
TZNAME:CET
DTSTART:20261025T010000
END:STANDARD
BEGIN:DAYLIGHT
TZOFFSETFROM:+0100
TZOFFSETTO:+0200
TZNAME:CEST
DTSTART:20270328T010000
END:DAYLIGHT
BEGIN:STANDARD
TZOFFSETFROM:+0200
TZOFFSETTO:+0100
TZNAME:CET
DTSTART:20271031T010000
END:STANDARD
END:VTIMEZONE
BEGIN:VEVENT
DTSTART;TZID=Europe/Bratislava:20260630T083000
DTEND;TZID=Europe/Bratislava:20260630T100000
DTSTAMP:20260426T051745
CREATED:20250903T061107Z
LAST-MODIFIED:20250903T061107Z
UID:47794-1782808200-1782813600@fsvladislava.sk
SUMMARY:FNsP NZ - Operatívna porada vedúcich zamestnancov - Zasadačka
DESCRIPTION:FNsP NZ – Operatívna porada vedúcich zamestnancov – Zasadačka
URL:https://fsvladislava.sk/rozvrh/fnsp-nz-operativna-porada-veducich-zamestnancov-zasadacka-74/
LOCATION:FNsP NZ – Zasadačka
CATEGORIES:FNsP NZ
END:VEVENT
BEGIN:VEVENT
DTSTART;TZID=Europe/Bratislava:20260701T080000
DTEND;TZID=Europe/Bratislava:20260701T090000
DTSTAMP:20260426T051745
CREATED:20250911T080840Z
LAST-MODIFIED:20250911T080840Z
UID:47971-1782892800-1782896400@fsvladislava.sk
SUMMARY:FNsP NZ - Školenie HER - Zasadačka
DESCRIPTION:FNsP NZ – Školenie HER – Zasadačka
URL:https://fsvladislava.sk/rozvrh/fnsp-nz-skolenie-her-zasadacka-43/
LOCATION:FNsP NZ – Zasadačka
CATEGORIES:FNsP NZ
END:VEVENT
BEGIN:VEVENT
DTSTART;TZID=Europe/Bratislava:20260707T083000
DTEND;TZID=Europe/Bratislava:20260707T100000
DTSTAMP:20260426T051745
CREATED:20250903T061132Z
LAST-MODIFIED:20250903T061132Z
UID:47796-1783413000-1783418400@fsvladislava.sk
SUMMARY:FNsP NZ - Operatívna porada vedúcich zamestnancov - Zasadačka
DESCRIPTION:FNsP NZ – Operatívna porada vedúcich zamestnancov – Zasadačka
URL:https://fsvladislava.sk/rozvrh/fnsp-nz-operativna-porada-veducich-zamestnancov-zasadacka-75/
LOCATION:FNsP NZ – Zasadačka
CATEGORIES:FNsP NZ
END:VEVENT
BEGIN:VEVENT
DTSTART;TZID=Europe/Bratislava:20260708T080000
DTEND;TZID=Europe/Bratislava:20260708T090000
DTSTAMP:20260426T051745
CREATED:20250911T080858Z
LAST-MODIFIED:20250911T080858Z
UID:47973-1783497600-1783501200@fsvladislava.sk
SUMMARY:FNsP NZ - Školenie HER - Zasadačka
DESCRIPTION:FNsP NZ – Školenie HER – Zasadačka
URL:https://fsvladislava.sk/rozvrh/fnsp-nz-skolenie-her-zasadacka-44/
LOCATION:FNsP NZ – Zasadačka
CATEGORIES:FNsP NZ
END:VEVENT
BEGIN:VEVENT
DTSTART;TZID=Europe/Bratislava:20260714T083000
DTEND;TZID=Europe/Bratislava:20260714T100000
DTSTAMP:20260426T051745
CREATED:20250903T061146Z
LAST-MODIFIED:20250903T061146Z
UID:47798-1784017800-1784023200@fsvladislava.sk
SUMMARY:FNsP NZ - Operatívna porada vedúcich zamestnancov - Zasadačka
DESCRIPTION:FNsP NZ – Operatívna porada vedúcich zamestnancov – Zasadačka
URL:https://fsvladislava.sk/rozvrh/fnsp-nz-operativna-porada-veducich-zamestnancov-zasadacka-76/
LOCATION:FNsP NZ – Zasadačka
CATEGORIES:FNsP NZ
END:VEVENT
BEGIN:VEVENT
DTSTART;TZID=Europe/Bratislava:20260715T080000
DTEND;TZID=Europe/Bratislava:20260715T090000
DTSTAMP:20260426T051745
CREATED:20250911T080912Z
LAST-MODIFIED:20250911T080912Z
UID:47975-1784102400-1784106000@fsvladislava.sk
SUMMARY:FNsP NZ - Školenie HER - Zasadačka
DESCRIPTION:FNsP NZ – Školenie HER – Zasadačka
URL:https://fsvladislava.sk/rozvrh/fnsp-nz-skolenie-her-zasadacka-45/
LOCATION:FNsP NZ – Zasadačka
CATEGORIES:FNsP NZ
END:VEVENT
BEGIN:VEVENT
DTSTART;TZID=Europe/Bratislava:20260721T083000
DTEND;TZID=Europe/Bratislava:20260721T100000
DTSTAMP:20260426T051745
CREATED:20250903T061206Z
LAST-MODIFIED:20250903T061206Z
UID:47800-1784622600-1784628000@fsvladislava.sk
SUMMARY:FNsP NZ - Operatívna porada vedúcich zamestnancov - Zasadačka
DESCRIPTION:FNsP NZ – Operatívna porada vedúcich zamestnancov – Zasadačka
URL:https://fsvladislava.sk/rozvrh/fnsp-nz-operativna-porada-veducich-zamestnancov-zasadacka-77/
LOCATION:FNsP NZ – Zasadačka
CATEGORIES:FNsP NZ
END:VEVENT
BEGIN:VEVENT
DTSTART;TZID=Europe/Bratislava:20260722T080000
DTEND;TZID=Europe/Bratislava:20260722T090000
DTSTAMP:20260426T051745
CREATED:20250911T080926Z
LAST-MODIFIED:20250911T080926Z
UID:47977-1784707200-1784710800@fsvladislava.sk
SUMMARY:FNsP NZ - Školenie HER - Zasadačka
DESCRIPTION:FNsP NZ – Školenie HER – Zasadačka
URL:https://fsvladislava.sk/rozvrh/fnsp-nz-skolenie-her-zasadacka-46/
LOCATION:FNsP NZ – Zasadačka
CATEGORIES:FNsP NZ
END:VEVENT
BEGIN:VEVENT
DTSTART;TZID=Europe/Bratislava:20260728T083000
DTEND;TZID=Europe/Bratislava:20260728T100000
DTSTAMP:20260426T051745
CREATED:20250903T061220Z
LAST-MODIFIED:20250903T061220Z
UID:47802-1785227400-1785232800@fsvladislava.sk
SUMMARY:FNsP NZ - Operatívna porada vedúcich zamestnancov - Zasadačka
DESCRIPTION:FNsP NZ – Operatívna porada vedúcich zamestnancov – Zasadačka
URL:https://fsvladislava.sk/rozvrh/fnsp-nz-operativna-porada-veducich-zamestnancov-zasadacka-78/
LOCATION:FNsP NZ – Zasadačka
CATEGORIES:FNsP NZ
END:VEVENT
BEGIN:VEVENT
DTSTART;TZID=Europe/Bratislava:20260729T080000
DTEND;TZID=Europe/Bratislava:20260729T090000
DTSTAMP:20260426T051745
CREATED:20250911T080941Z
LAST-MODIFIED:20250911T080941Z
UID:47979-1785312000-1785315600@fsvladislava.sk
SUMMARY:FNsP NZ - Školenie HER - Zasadačka
DESCRIPTION:FNsP NZ – Školenie HER – Zasadačka
URL:https://fsvladislava.sk/rozvrh/fnsp-nz-skolenie-her-zasadacka-47/
LOCATION:FNsP NZ – Zasadačka
CATEGORIES:FNsP NZ
END:VEVENT
BEGIN:VEVENT
DTSTART;TZID=Europe/Bratislava:20260804T083000
DTEND;TZID=Europe/Bratislava:20260804T100000
DTSTAMP:20260426T051745
CREATED:20250903T061246Z
LAST-MODIFIED:20250903T061246Z
UID:47804-1785832200-1785837600@fsvladislava.sk
SUMMARY:FNsP NZ - Operatívna porada vedúcich zamestnancov - Zasadačka
DESCRIPTION:FNsP NZ – Operatívna porada vedúcich zamestnancov – Zasadačka
URL:https://fsvladislava.sk/rozvrh/fnsp-nz-operativna-porada-veducich-zamestnancov-zasadacka-79/
LOCATION:FNsP NZ – Zasadačka
CATEGORIES:FNsP NZ
END:VEVENT
BEGIN:VEVENT
DTSTART;TZID=Europe/Bratislava:20260805T080000
DTEND;TZID=Europe/Bratislava:20260805T090000
DTSTAMP:20260426T051745
CREATED:20250911T080957Z
LAST-MODIFIED:20250911T080957Z
UID:47981-1785916800-1785920400@fsvladislava.sk
SUMMARY:FNsP NZ - Školenie HER - Zasadačka
DESCRIPTION:FNsP NZ – Školenie HER – Zasadačka
URL:https://fsvladislava.sk/rozvrh/fnsp-nz-skolenie-her-zasadacka-48/
LOCATION:FNsP NZ – Zasadačka
CATEGORIES:FNsP NZ
END:VEVENT
BEGIN:VEVENT
DTSTART;TZID=Europe/Bratislava:20260811T083000
DTEND;TZID=Europe/Bratislava:20260811T100000
DTSTAMP:20260426T051745
CREATED:20250903T061300Z
LAST-MODIFIED:20250903T061300Z
UID:47806-1786437000-1786442400@fsvladislava.sk
SUMMARY:FNsP NZ - Operatívna porada vedúcich zamestnancov - Zasadačka
DESCRIPTION:FNsP NZ – Operatívna porada vedúcich zamestnancov – Zasadačka
URL:https://fsvladislava.sk/rozvrh/fnsp-nz-operativna-porada-veducich-zamestnancov-zasadacka-80/
LOCATION:FNsP NZ – Zasadačka
CATEGORIES:FNsP NZ
END:VEVENT
BEGIN:VEVENT
DTSTART;TZID=Europe/Bratislava:20260812T080000
DTEND;TZID=Europe/Bratislava:20260812T090000
DTSTAMP:20260426T051745
CREATED:20250911T081012Z
LAST-MODIFIED:20250911T081012Z
UID:47983-1786521600-1786525200@fsvladislava.sk
SUMMARY:FNsP NZ - Školenie HER - Zasadačka
DESCRIPTION:FNsP NZ – Školenie HER – Zasadačka
URL:https://fsvladislava.sk/rozvrh/fnsp-nz-skolenie-her-zasadacka-49/
LOCATION:FNsP NZ – Zasadačka
CATEGORIES:FNsP NZ
END:VEVENT
BEGIN:VEVENT
DTSTART;TZID=Europe/Bratislava:20260818T083000
DTEND;TZID=Europe/Bratislava:20260818T100000
DTSTAMP:20260426T051745
CREATED:20250903T061314Z
LAST-MODIFIED:20250903T061314Z
UID:47808-1787041800-1787047200@fsvladislava.sk
SUMMARY:FNsP NZ - Operatívna porada vedúcich zamestnancov - Zasadačka
DESCRIPTION:FNsP NZ – Operatívna porada vedúcich zamestnancov – Zasadačka
URL:https://fsvladislava.sk/rozvrh/fnsp-nz-operativna-porada-veducich-zamestnancov-zasadacka-81/
LOCATION:FNsP NZ – Zasadačka
CATEGORIES:FNsP NZ
END:VEVENT
BEGIN:VEVENT
DTSTART;TZID=Europe/Bratislava:20260819T080000
DTEND;TZID=Europe/Bratislava:20260819T090000
DTSTAMP:20260426T051745
CREATED:20250911T081031Z
LAST-MODIFIED:20250911T081031Z
UID:47985-1787126400-1787130000@fsvladislava.sk
SUMMARY:FNsP NZ - Školenie HER - Zasadačka
DESCRIPTION:FNsP NZ – Školenie HER – Zasadačka
URL:https://fsvladislava.sk/rozvrh/fnsp-nz-skolenie-her-zasadacka-50/
LOCATION:FNsP NZ – Zasadačka
CATEGORIES:FNsP NZ
END:VEVENT
BEGIN:VEVENT
DTSTART;TZID=Europe/Bratislava:20260825T083000
DTEND;TZID=Europe/Bratislava:20260825T100000
DTSTAMP:20260426T051745
CREATED:20250903T061329Z
LAST-MODIFIED:20250903T061329Z
UID:47810-1787646600-1787652000@fsvladislava.sk
SUMMARY:FNsP NZ - Operatívna porada vedúcich zamestnancov - Zasadačka
DESCRIPTION:FNsP NZ – Operatívna porada vedúcich zamestnancov – Zasadačka
URL:https://fsvladislava.sk/rozvrh/fnsp-nz-operativna-porada-veducich-zamestnancov-zasadacka-82/
LOCATION:FNsP NZ – Zasadačka
CATEGORIES:FNsP NZ
END:VEVENT
BEGIN:VEVENT
DTSTART;TZID=Europe/Bratislava:20260826T080000
DTEND;TZID=Europe/Bratislava:20260826T090000
DTSTAMP:20260426T051745
CREATED:20250911T081046Z
LAST-MODIFIED:20250911T081046Z
UID:47987-1787731200-1787734800@fsvladislava.sk
SUMMARY:FNsP NZ - Školenie HER - Zasadačka
DESCRIPTION:FNsP NZ – Školenie HER – Zasadačka
URL:https://fsvladislava.sk/rozvrh/fnsp-nz-skolenie-her-zasadacka-51/
LOCATION:FNsP NZ – Zasadačka
CATEGORIES:FNsP NZ
END:VEVENT
BEGIN:VEVENT
DTSTART;TZID=Europe/Bratislava:20260902T080000
DTEND;TZID=Europe/Bratislava:20260902T090000
DTSTAMP:20260426T051745
CREATED:20250911T081103Z
LAST-MODIFIED:20250911T081103Z
UID:47989-1788336000-1788339600@fsvladislava.sk
SUMMARY:FNsP NZ - Školenie HER - Zasadačka
DESCRIPTION:FNsP NZ – Školenie HER – Zasadačka
URL:https://fsvladislava.sk/rozvrh/fnsp-nz-skolenie-her-zasadacka-52/
LOCATION:FNsP NZ – Zasadačka
CATEGORIES:FNsP NZ
END:VEVENT
BEGIN:VEVENT
DTSTART;TZID=Europe/Bratislava:20260908T083000
DTEND;TZID=Europe/Bratislava:20260908T100000
DTSTAMP:20260426T051745
CREATED:20250903T061403Z
LAST-MODIFIED:20250903T061403Z
UID:47812-1788856200-1788861600@fsvladislava.sk
SUMMARY:FNsP NZ - Operatívna porada vedúcich zamestnancov - Zasadačka
DESCRIPTION:FNsP NZ – Operatívna porada vedúcich zamestnancov – Zasadačka
URL:https://fsvladislava.sk/rozvrh/fnsp-nz-operativna-porada-veducich-zamestnancov-zasadacka-83/
LOCATION:FNsP NZ – Zasadačka
CATEGORIES:FNsP NZ
END:VEVENT
BEGIN:VEVENT
DTSTART;TZID=Europe/Bratislava:20260909T080000
DTEND;TZID=Europe/Bratislava:20260909T090000
DTSTAMP:20260426T051745
CREATED:20250911T081119Z
LAST-MODIFIED:20250911T081119Z
UID:47991-1788940800-1788944400@fsvladislava.sk
SUMMARY:FNsP NZ - Školenie HER - Zasadačka
DESCRIPTION:FNsP NZ – Školenie HER – Zasadačka
URL:https://fsvladislava.sk/rozvrh/fnsp-nz-skolenie-her-zasadacka-53/
LOCATION:FNsP NZ – Zasadačka
CATEGORIES:FNsP NZ
END:VEVENT
BEGIN:VEVENT
DTSTART;TZID=Europe/Bratislava:20260922T083000
DTEND;TZID=Europe/Bratislava:20260922T100000
DTSTAMP:20260426T051745
CREATED:20250903T061445Z
LAST-MODIFIED:20250903T061454Z
UID:47814-1790065800-1790071200@fsvladislava.sk
SUMMARY:FNsP NZ - Operatívna porada vedúcich zamestnancov - Zasadačka
DESCRIPTION:FNsP NZ – Operatívna porada vedúcich zamestnancov – Zasadačka
URL:https://fsvladislava.sk/rozvrh/fnsp-nz-operativna-porada-veducich-zamestnancov-zasadacka-84/
LOCATION:FNsP NZ – Zasadačka
CATEGORIES:FNsP NZ
END:VEVENT
BEGIN:VEVENT
DTSTART;TZID=Europe/Bratislava:20260924T070000
DTEND;TZID=Europe/Bratislava:20260924T150000
DTSTAMP:20260426T051745
CREATED:20260415T050848Z
LAST-MODIFIED:20260415T050940Z
UID:50022-1790233200-1790262000@fsvladislava.sk
SUMMARY:FNsP NZ - konferencia sestier NK - Kinosála
DESCRIPTION:FNsP NZ – konferencia sestier NK – Kinosála
URL:https://fsvladislava.sk/rozvrh/fnsp-nz-konferencia-sestier-nk-kinosala/
LOCATION:FNsP NZ  – Kinosála
CATEGORIES:FNsP NZ
END:VEVENT
BEGIN:VEVENT
DTSTART;TZID=Europe/Bratislava:20260925T070000
DTEND;TZID=Europe/Bratislava:20260925T150000
DTSTAMP:20260426T051745
CREATED:20260415T050959Z
LAST-MODIFIED:20260415T050959Z
UID:50024-1790319600-1790348400@fsvladislava.sk
SUMMARY:FNsP NZ - konferencia sestier NK - Kinosála
DESCRIPTION:FNsP NZ – konferencia sestier NK – Kinosála
URL:https://fsvladislava.sk/rozvrh/fnsp-nz-konferencia-sestier-nk-kinosala-2/
LOCATION:FNsP NZ  – Kinosála
CATEGORIES:FNsP NZ
END:VEVENT
BEGIN:VEVENT
DTSTART;TZID=Europe/Bratislava:20260929T083000
DTEND;TZID=Europe/Bratislava:20260929T100000
DTSTAMP:20260426T051745
CREATED:20250903T061514Z
LAST-MODIFIED:20250903T061514Z
UID:47816-1790670600-1790676000@fsvladislava.sk
SUMMARY:FNsP NZ - Operatívna porada vedúcich zamestnancov - Zasadačka
DESCRIPTION:FNsP NZ – Operatívna porada vedúcich zamestnancov – Zasadačka
URL:https://fsvladislava.sk/rozvrh/fnsp-nz-operativna-porada-veducich-zamestnancov-zasadacka-85/
LOCATION:FNsP NZ – Zasadačka
CATEGORIES:FNsP NZ
END:VEVENT
BEGIN:VEVENT
DTSTART;TZID=Europe/Bratislava:20261006T083000
DTEND;TZID=Europe/Bratislava:20261006T100000
DTSTAMP:20260426T051745
CREATED:20250903T061553Z
LAST-MODIFIED:20250903T061553Z
UID:47818-1791275400-1791280800@fsvladislava.sk
SUMMARY:FNsP NZ - Operatívna porada vedúcich zamestnancov - Zasadačka
DESCRIPTION:FNsP NZ – Operatívna porada vedúcich zamestnancov – Zasadačka
URL:https://fsvladislava.sk/rozvrh/fnsp-nz-operativna-porada-veducich-zamestnancov-zasadacka-86/
LOCATION:FNsP NZ – Zasadačka
CATEGORIES:FNsP NZ
END:VEVENT
BEGIN:VEVENT
DTSTART;TZID=Europe/Bratislava:20261007T080000
DTEND;TZID=Europe/Bratislava:20261007T090000
DTSTAMP:20260426T051745
CREATED:20250911T081137Z
LAST-MODIFIED:20250911T081137Z
UID:47993-1791360000-1791363600@fsvladislava.sk
SUMMARY:FNsP NZ - Školenie HER - Zasadačka
DESCRIPTION:FNsP NZ – Školenie HER – Zasadačka
URL:https://fsvladislava.sk/rozvrh/fnsp-nz-skolenie-her-zasadacka-54/
LOCATION:FNsP NZ – Zasadačka
CATEGORIES:FNsP NZ
END:VEVENT
BEGIN:VEVENT
DTSTART;TZID=Europe/Bratislava:20261013T083000
DTEND;TZID=Europe/Bratislava:20261013T100000
DTSTAMP:20260426T051745
CREATED:20250903T061609Z
LAST-MODIFIED:20250903T061609Z
UID:47820-1791880200-1791885600@fsvladislava.sk
SUMMARY:FNsP NZ - Operatívna porada vedúcich zamestnancov - Zasadačka
DESCRIPTION:FNsP NZ – Operatívna porada vedúcich zamestnancov – Zasadačka
URL:https://fsvladislava.sk/rozvrh/fnsp-nz-operativna-porada-veducich-zamestnancov-zasadacka-87/
LOCATION:FNsP NZ – Zasadačka
CATEGORIES:FNsP NZ
END:VEVENT
BEGIN:VEVENT
DTSTART;TZID=Europe/Bratislava:20261014T080000
DTEND;TZID=Europe/Bratislava:20261014T090000
DTSTAMP:20260426T051745
CREATED:20250911T081151Z
LAST-MODIFIED:20250911T081151Z
UID:47995-1791964800-1791968400@fsvladislava.sk
SUMMARY:FNsP NZ - Školenie HER - Zasadačka
DESCRIPTION:FNsP NZ – Školenie HER – Zasadačka
URL:https://fsvladislava.sk/rozvrh/fnsp-nz-skolenie-her-zasadacka-55/
LOCATION:FNsP NZ – Zasadačka
CATEGORIES:FNsP NZ
END:VEVENT
BEGIN:VEVENT
DTSTART;TZID=Europe/Bratislava:20261020T083000
DTEND;TZID=Europe/Bratislava:20261020T100000
DTSTAMP:20260426T051745
CREATED:20250903T061623Z
LAST-MODIFIED:20250903T061623Z
UID:47822-1792485000-1792490400@fsvladislava.sk
SUMMARY:FNsP NZ - Operatívna porada vedúcich zamestnancov - Zasadačka
DESCRIPTION:FNsP NZ – Operatívna porada vedúcich zamestnancov – Zasadačka
URL:https://fsvladislava.sk/rozvrh/fnsp-nz-operativna-porada-veducich-zamestnancov-zasadacka-88/
LOCATION:FNsP NZ – Zasadačka
CATEGORIES:FNsP NZ
END:VEVENT
END:VCALENDAR